{"text_format":"1","workbook":"xlsx","n_sheets":6,"sheets":["要項","入力表","申込確認","申込確認シート","●貼付（事務局）","①初期設定"],"not_rendered":{"charts":0,"images":0,"macros":1,"external_links":1,"defined_names":93,"comments":0,"pivot_tables":0},"unopened":[],"bounds":{"document_bytes":16777216,"sheet_cells":100000,"rows_first":2000,"rows_last":500,"rows_between":2000,"halvings":0,"cell_chars":16384,"cell_head_chars":4096},"cells_cut":0,"cells_raw":0,"read":"whole","date_system":"1900"}

{"sheet":"要項","index":0,"n_rows":90,"n_cols":41,"rows_kept":90,"cut":false,"hidden":false,"merged":[[0,0,0,30],[1,0,1,30],[2,0,2,30],[3,0,3,9],[4,0,4,4],[4,5,4,30],[11,26,11,28],[12,1,13,3],[12,4,12,5],[12,6,12,7],[12,8,12,9],[12,10,12,11],[12,12,12,13],[5,0,5,4],[6,0,6,4],[6,5,6,12],[6,13,6,16],[6,17,6,22],[7,0,7,4],[7,5,7,22],[13,18,13,19],[13,20,13,21],[12,14,12,15],[12,16,12,17],[12,18,12,19],[12,20,12,21],[12,22,12,23],[12,24,12,25],[8,0,8,4],[11,1,11,3],[11,4,11,25],[14,26,15,28],[15,4,15,5],[15,6,15,7],[15,8,15,9],[15,10,15,11],[15,12,15,13],[13,22,13,23],[13,24,13,25],[14,1,15,3],[14,4,14,5],[14,6,14,7],[14,8,14,9],[14,10,14,11],[14,12,14,13],[14,14,14,15],[14,16,14,17],[12,26,13,28],[13,4,13,5],[13,6,13,7],[13,8,13,9],[13,10,13,11],[13,12,13,13],[13,14,13,15],[13,16,13,17],[15,14,15,15],[15,16,15,17],[15,18,15,19],[15,20,15,21],[15,22,15,23],[15,24,15,25],[14,18,14,19],[14,20,14,21],[14,22,14,23],[14,24,14,25],[17,18,17,19],[17,20,17,21],[16,14,16,15],[16,16,16,17],[16,18,16,19],[16,20,16,21],[16,22,16,23],[16,24,16,25],[16,1,17,3],[16,4,16,5],[16,6,16,7],[16,8,16,9],[16,10,16,11],[16,12,16,13],[18,26,19,28],[19,4,19,5],[19,6,19,7],[19,8,19,9],[19,10,19,11],[19,12,19,13],[17,22,17,23],[17,24,17,25],[18,1,19,3],[18,4,18,5],[18,6,18,7],[18,8,18,9],[18,10,18,11],[18,12,18,13],[18,14,18,15],[18,16,18,17],[16,26,17,28],[17,4,17,5],[17,6,17,7],[17,8,17,9],[17,10,17,11],[17,12,17,13],[17,14,17,15],[17,16,17,17],[19,14,19,15],[19,16,19,17],[19,18,19,19],[19,20,19,21],[19,22,19,23],[19,24,19,25],[18,18,18,19],[18,20,18,21],[18,22,18,23],[18,24,18,25],[21,18,21,19],[21,20,21,21],[20,14,20,15],[20,16,20,17],[20,18,20,19],[20,20,20,21],[20,22,20,23],[20,24,20,25],[20,1,21,3],[20,4,20,5],[20,6,20,7],[20,8,20,9],[20,10,20,11],[20,12,20,13],[22,26,23,28],[23,4,23,5],[23,6,23,7],[23,8,23,9],[23,10,23,11],[23,12,23,13],[21,22,21,23],[21,24,21,25],[22,1,23,3],[22,4,22,5],[22,6,22,7],[22,8,22,9],[22,10,22,11],[22,12,22,13],[22,14,22,15],[22,16,22,17],[20,26,21,28],[21,4,21,5],[21,6,21,7],[21,8,21,9],[21,10,21,11],[21,12,21,13],[21,14,21,15],[21,16,21,17],[23,14,23,15],[23,16,23,17],[23,18,23,19],[23,20,23,21],[23,22,23,23],[23,24,23,25],[22,18,22,19],[22,20,22,21],[22,22,22,23],[22,24,22,25],[25,18,25,19],[25,20,25,21],[24,14,24,15],[24,16,24,17],[24,18,24,19],[24,20,24,21],[24,22,24,23],[24,24,24,25],[24,1,25,3],[24,4,24,5],[24,6,24,7],[24,8,24,9],[24,10,24,11],[24,12,24,13],[26,26,27,28],[27,4,27,5],[27,6,27,7],[27,8,27,9],[27,10,27,11],[27,12,27,13],[27,14,27,15],[25,22,25,23],[25,24,25,25],[26,4,26,5],[26,6,26,7],[26,8,26,9],[26,10,26,11],[26,12,26,13],[26,14,26,15],[26,16,26,17],[24,26,25,28],[25,4,25,5],[25,6,25,7],[25,8,25,9],[25,10,25,11],[25,12,25,13],[25,14,25,15],[25,16,25,17],[27,16,27,17],[27,18,27,19],[27,20,27,21],[27,22,27,23],[27,24,27,25],[28,1,28,5],[26,18,26,19],[26,22,26,23],[26,24,26,25],[26,1,27,3],[29,21,29,22],[29,24,29,25],[30,3,30,30],[31,3,31,30],[32,3,32,30],[33,0,33,4],[29,3,29,4],[29,6,29,7],[29,9,29,10],[29,12,29,13],[29,15,29,16],[29,18,29,19],[39,0,39,4],[39,5,39,30],[40,0,40,4],[40,5,40,30],[41,1,41,2],[41,3,41,6],[41,7,41,30],[34,2,34,30],[36,0,36,4],[37,3,37,4],[37,5,37,30],[38,0,38,4],[38,5,38,30],[44,0,44,4],[45,1,45,5],[45,6,45,9],[45,10,45,13],[45,14,45,17],[45,18,45,21],[42,1,42,2],[42,3,42,6],[42,7,42,30],[43,1,43,2],[43,3,43,6],[43,7,43,30],[45,23,49,30],[46,1,46,5],[46,6,46,9],[46,10,46,13],[46,14,46,17],[46,18,46,21],[47,1,47,5],[47,6,47,9],[47,10,47,13],[47,14,47,17],[49,1,49,5],[49,6,49,9],[49,10,49,13],[49,14,49,17],[49,18,49,21],[51,0,51,4],[47,18,47,21],[48,1,48,5],[48,6,48,9],[48,10,48,13],[48,14,48,17],[48,18,48,21],[54,1,54,30],[55,0,55,4],[56,2,56,30],[57,2,57,30],[58,2,58,30],[59,2,59,30],[52,1,52,7],[52,8,52,10],[52,11,52,15],[52,16,52,18],[52,19,52,29],[53,0,53,4],[60,0,60,11],[64,0,64,30],[65,1,65,2],[65,3,65,5],[66,3,66,5],[67,3,67,5],[67,20,70,27],[68,3,68,5],[69,3,69,5],[70,3,70,5]]}
["各　　位　　下記要領により、本競技会を開催しますので多数参加下さるようご案内致します。"]
["オホーツク陸上競技協会　　会　長　　柿　本　弘　之"]
["オホーツク陸上選手権大会兼国体北海道選手選考予選会　大会要項"]
[]
[" 1. 主　  催",null,null,null,null,"オホーツク陸上競技協会"]
[" 2. 主　  管",null,null,null,null,"オホーツク陸上競技協会"]
[" 3. 期　  日",null,null,null,null,"平成２９年５月１３・１４日（土・日）",null,null,null,null,null,null,null,"競技開始",null,null,null,"午前９：００"]
[" 4. 会　  場",null,null,null,null,"北見市東陵公園陸上競技場（第３種公認）"]
[" 5. 競技種目"]
[null,null,null,null,1,null,2,null,3,null,4,null,5,null,6,null,7,null,8,null,9,null,10,null,11]
[null,null,null,null,12,null,13,null,14,null,15,null,16,null,17,null,18,null,19,null,20,null,21,null,22]
[null,"種　別",null,null,"競技種目",null,null,null,null,null,null,null,null,null,null,null,null,null,null,null,null,null,null,null,null,null,"種目数",null,null,null,null,null,null,0,"男",0,"高男",0,"中男",0,"小男"]
[null,"男　子",null,null,"100m",null,"200m",null,"400m",null,"800m",null,"1500m",null,"5000m",null,"110mH(1.067m)",null,"400mH(0.914m)",null,"3000mSC",null,"5000mW",null,"4X100mR",null,20,null,null,null,null,null,null,1,"100m",1,"高男100m",0,"中男1年100m",0,"小男幼児60m"]
[null,null,null,null,"4X400mR",null,"走高跳",null,"棒高跳",null,"走幅跳",null,"三段跳",null,"砲丸投",null,"円盤投",null,"ハンマー投",null,"やり投",null,null,null,"",null,null,null,null,null,null,null,null,2,"200m",2,"高男200m",0,"中男2年100m",0,"小男1年60m"]
[null,"高校男子",null,null,"100m",null,"200m",null,"400m",null,"800m",null,"1500m",null,"5000m",null,"110mH(1.067m)",null,"400mH(0.914m)",null,"3000mSC",null,"5000mW",null,"4X100mR",null,21,null,null,null,null,null,null,3,"400m",3,"高男400m",0,"中男3年100m",0,"小男2年60m"]
[null,null,null,null,"4X400mR",null,"走高跳",null,"棒高跳",null,"走幅跳",null,"三段跳",null,"砲丸投(6.000kg)",null,"円盤投(1.750kg)",null,"ハンマー投",null,"やり投",null,"八種競技",null,"",null,null,null,null,null,null,null,null,4,"800m",4,"高男800m",0,"中男2･3年100m",0,"小男3年100m"]
[null,"中学男子",null,null,"100m",null,"200m",null,"400m",null,"800m",null,"1500m",null,"3000m",null,"110mH(0.914m)",null,"4X100mR",null,"走高跳",null,"走幅跳",null,"棒高跳",null,15,null,null,null,null,null,null,4,"1000m",4,"高男1000m",1,"中男100m",0,"小男4年100m"]
[null,null,null,null,"砲丸投(5.000kg)",null,"円盤投(1.500kg)",null,"四種競技",null,"ジャベリックスロー",null,"",null,"",null,"",null,"",null,"",null,"",null,"",null,null,null,null,null,null,null,null,5,"1500m",5,"高男1500m",2,"中男200m",0,"小男5年100m"]
[null,"小学男子\n",null,null,"100m",null,"800m",null,"1500m",null,"80mH",null,"4X100mR",null,"走高跳",null,"走幅跳",null,"砲丸投",null,"ｼﾞｬﾍﾞﾘｯｸﾎﾞｰﾙｽﾛｰ",null,"",null,"",null,9,null,null,null,null,null,null,6,"5000m",6,"高男5000m",3,"中男400m",0,"小男6年100m"]
[null,null,null,null,"（３～６年）",null,"（３～４年）",null,"（５～６年）",null,"（５～６年）",null,"（４～６年）",null,"（５～６年）",null,"（４～６年）",null,"（６年）",null,"（３～６年）",null,"",null,"",null,null,null,null,null,null,null,null,7,"110mH(1.067m)",7,"高男110mH(1.067m)",4,"中男800m",1,"３～６年100m"]
[null,"女　子",null,null,"100m",null,"200m",null,"400m",null,"800m",null,"1500m",null,"3000m",null,"100mH",null,"400mH",null,"5000mW",null,"4X100mR",null,"4X400mR",null,19,null,null,null,null,null,null,8,"400mH(0.914m)",8,"高男400mH(0.914m)",4,"中男1年1500m",2,"３・４年800m"]
[null,null,null,null,"走高跳",null,"棒高跳",null,"走幅跳",null,"三段跳",null,"砲丸投",null,"円盤投",null,"ハンマー投",null,"やり投",null,null,null,"",null,"",null,null,null,null,null,null,null,null,9,"3000mSC",9,"高男3000mSC",4,"中男2年1500m",2,"小男共通800m"]
[null,"高校女子",null,null,"100m",null,"200m",null,"400m",null,"800m",null,"1500m",null,"3000m",null,"100mH",null,"400mH",null,"5000mW",null,"4X100mR",null,"4X400mR",null,20,null,null,null,null,null,null,10,"5000mW",10,"高男5000mW",4,"中男2･3年1500m",3,"５・６年1500m"]
[null,null,null,null,"走高跳",null,"棒高跳",null,"走幅跳",null,"三段跳",null,"砲丸投",null,"円盤投",null,"ハンマー投",null,"やり投",null,"七種競技",null,"",null,"",null,null,null,null,null,null,null,null,11,"4X100mR",11,"高男4X100mR",5,"中男1500m",3,"小男5年1500m"]
[null,"中学女子",null,null,"100m",null,"200m",null,"400m",null,"800m",null,"1500m",null,"3000m",null,"100mH(0.762m)",null,"走高跳",null,"走幅跳",null,"砲丸投(2.721kg)",null,"円盤投(1.000kg)",null,14,null,null,null,null,null,null,12,"4X400mR",12,"高男4X400mR",6,"中男3000m",3,"小男6年1500m"]
[null,null,null,null,"ジャベリックスロー",null,"4X100mR",null,"四種競技",null,"",null,"",null,"",null,"",null,"",null,"",null,"",null,"",null,null,null,null,null,null,null,null,13,"走高跳",13,"高男走高跳",6,"中男1年100mH",3,"小男4年1500m"]
[null,"小学女子\n",null,null,"100m",null,"800m",null,"80mH",null,"4X100mR",null,"走高跳",null,"走幅跳",null,"砲丸投",null,"ｼﾞｬﾍﾞﾘｯｸﾎﾞｰﾙｽﾛｰ",null,null,null,null,null,"",null,8,null,null,null,null,null,null,14,"棒高跳",14,"高男棒高跳",7,"中男110mH(0.914m)",3,"小男共通1500m"]
[null,null,null,null,"（３～６年）",null,"（３～６年）",null,"（５～６年）",null,"（４～６年）",null,"（５～６年）",null,"（４～６年）",null,"（６年）",null,"（３～６年）",null,"",null,"",null,"",null,null,null,null,null,null,null,null,15,"走幅跳",15,"高男走幅跳",8,"中男4X100mR",4,"５･６年80mH"]
[null,"種目について",null,null,null,null,null,null,null,null,null,null,null,null,null,null,null,null,null,null,null,null,null,null,null,null,null,null,null,null,null,null,null,16,"三段跳",16,"高男三段跳",8,"中男4X100mR",4,"小男5年80mH"]
[null,null,"①","200m",null,"・","400m",null,"・","800m",null,"・","1500m",null,"・","女子3000m",null,"・","5000m",null,"・","3000msc",null,"・","5000mW",null,"は、共通種目とする。",null,null,null,null,null,null,17,"砲丸投",17,"高男砲丸投(6.000kg)",9,"中男走高跳",4,"小男6年80mH"]
[null,null,"②","但し200m,400m,800m,1500m,女子3000mは中学生以上・5000m,3000msc,5000mwは高校生以上とする。",null,null,null,null,null,null,null,null,null,null,null,null,null,null,null,null,null,null,null,null,null,null,null,null,null,null,null,null,null,18,"円盤投",18,"高男円盤投(1.750kg)",10,"中男棒高跳",4,"小男4年80mH"]
[null,null,"③","高さ、重さの規格仕様は、一般、高校、中学、小学の区分とする。"]
[null,null,"④","小学男女リレーは３年生からエントリーできる。但し３年生単独チームは不可。"]
[" 6. 参加資格",null,null,null,null,null,null,null,null,null,null,null,null,null,null,null,null,null,null,null,null,null,null,null,null,null,null,null,null,null,null,null,null,19,"ハンマー投",19,"高男ハンマー投(6.000kg)",11,"中男走幅跳",5,"小男6年4X100mR"]
[null,"(1)","2017年度日本陸上競技連盟登録者（小中学生を除く）であること。",null,null,null,null,null,null,null,null,null,null,null,null,null,null,null,null,null,null,null,null,null,null,null,null,null,null,null,null,null,null,20,"やり投",20,"高男やり投",12,"中男1年砲丸投",5,"小男4年走高跳"]
[null,"(2)","大会参加者は、運営上必要なプログラム、記録表、掲示板、HP等へ氏名、所属、学年の記載を了承するものとする。",null,null,null,null,null,null,null,null,null,null,null,null,null,null,null,null,null,null,null,null,null,null,null,null,null,null,null,null,null,null,21,"十種競技",21,"高男八種競技",13,"中男砲丸投(5.000kg)",6,"５・６年走高跳"]
[" 7. 出場制限",null,null,null,null,null,null,null,null,null,null,null,null,null,null,null,null,null,null,null,null,null,null,null,null,null,null,null,null,null,null,null,null,0,"300m",0,"高男300m",14,"中男円盤投(1.500kg)",6,"小男6年走高跳"]
[null,"(1)","1人","2種目",null,"まで(リレーは除く)とする。",null,null,null,null,null,null,null,null,null,null,null,null,null,null,null,null,null,null,null,null,null,null,null,null,null,null,null,0,0,0,0,null,"中男四種競技",6,"小男走高跳"]
[" 8. 競技方法",null,null,null,null,"2017年度日本陸上競技連盟競技規則による。",null,null,null,null,null,null,null,null,null,null,null,null,null,null,null,null,null,null,null,null,null,null,null,null,null,null,null,0,0,0,0,15,"中男ジャベリックスロー",6,"小男5年走幅跳"]
[" 9. 表　  彰",null,null,null,null,"各種目8位まで表彰します。",null,null,null,null,null,null,null,null,null,null,null,null,null,null,null,null,null,null,null,null,null,null,null,null,null,null,null,0,0,0,0,null,"中男300m",6,"小男6年走幅跳"]
["10. 申込方法",null,null,null,null,"※記録は、番組編成時に必要となります。参考でもよろしいので必ず記入して下さい。",null,null,null,null,null,null,null,null,null,null,null,null,null,null,null,null,null,null,null,null,null,null,null,null,null,null,null,0,0,0,0,null,0,7,"４～６年走幅跳"]
[null,null,null,"必要書類",null,null,null,"作成方法・提出先",null,null,null,null,null,null,null,null,null,null,null,null,null,null,null,null,null,null,null,null,null,null,null,null,null,0,0,0,0,null,0,7,"小男5年砲丸投"]
[null,null,null,"入力表・確認書・参加料",null,null,null,"オホーツク陸協HP（http://wwww.h-ork.jp/）よりダウンロードし必要事項を記入。ｵﾎｰﾂｸ陸協アドレス（orkkiroku@gmail.com）まで送信（メールには団体名と申し込み責任者を明記して下さい）。さらにプリントアウトしたものを、参加料と合わせて郵送するかFAXで５月１日(月)までに下記担当者まで送信してください。参加料は、５月１日（月）までに、現金書留か持参にて納めて下さい。",null,null,null,null,null,null,null,null,null,null,null,null,null,null,null,null,null,null,null,null,null,null,null,null,null,0,0,0,0,null,0,8,"６年砲丸投"]
[null,null,null,null,null,null,null,null,null,null,null,null,null,null,null,null,null,null,null,null,null,null,null,null,null,null,null,null,null,null,null,null,null,null,null,0]
["11. 申込み料",null,null,null,null,null,null,null,null,null,null,null,null,null,null,null,null,null,null,null,null,null,null,null,null,null,null,null,null,null,null,null,null,0,0,0,0,null,0,8,"小男5年ｿﾌﾄﾎﾞｰﾙ投"]
[null,null,null,null,null,null,"一  般",null,null,null,"高校生",null,null,null,"中学生",null,null,null,"小学生",null,null,null,null,"申し込み締切\n５月１日(月)17:00",null,null,null,null,null,null,null,null,null,0,0,0,0,null,0,8,"小男4年ｿﾌﾄﾎﾞｰﾙ投"]
[null,"１種目の出場者",null,null,null,null,2000,null,null,null,1500,null,null,null,1000,null,null,null,800,null,null,null,null,null,null,null,null,null,null,null,null,null,null,0,0,0,0,null,0,9,"４～６年ソフトボール投"]
[null,"２種目の出場者",null,null,null,null,3000,null,null,null,2000,null,null,null,1500,null,null,null,1000,null,null,null,null,null,null,null,null,null,null,null,null,null,null,0,0,0,0,null,0,9,0]
[null,null,null,null,null,null,0,null,null,null,0,null,null,null,0,null,null,null,0,null,null,null,null,null,null,null,null,null,null,null,null,null,null,0,0,0,0,null,0,9,0]
[null,"ﾘﾚｰ１ﾁｰﾑ",null,null,null,null,2000,null,null,null,2000,null,null,null,1500,null,null,null,1000,null,null,null,null,null,null,null,null,null,null,null,null,null,null,0,0,0,0,0,0,0,0]
[null,null,null,null,null,null,null,null,null,null,null,null,null,null,null,null,null,null,null,null,null,null,null,"＊期限遅れ、当日及び電話等による申込み受付はしない。"]
["12. 担当者",null,null,null,null,null,null,null,null,null,null,null,null,null,null,null,null,null,null,null,null,null,null,null,null,null,null,null,null,null,null,null,null,0,"女",0,"高女",0,"中女",0,"小女"]
[null,"遠藤　和明",null,null,null,null,null,null,"連絡先",null,null,"090-5228-1100",null,null,null,null,"勤務先",null,null,"　北見商業高校(FAX　0157-56-3564)",null,null,null,null,null,null,null,null,null,null,null,null,null,1,"女100m",1,"高女100m",0,"中女1年100m",0,"小女幼児60m"]
["13. ﾅﾝﾊﾞｰｶｰﾄﾞ",null,null,null,null,null,null,null,null,null,null,null,null,null,null,null,null,null,null,null,null,null,null,null,null,null,null,null,null,null,null,null,null,2,"女200m",2,"高女200m",0,"中女2年100m",0,"小女1年60m"]
[null,"ﾅﾝﾊﾞｰｶｰﾄﾞは、割当番号を使用し各自用意すること。不足及び管外から申込者のﾅﾝﾊﾞｰｶｰﾄﾞは、事務局で準備する。",null,null,null,null,null,null,null,null,null,null,null,null,null,null,null,null,null,null,null,null,null,null,null,null,null,null,null,null,null,null,null,3,"女400m",3,"高女400m",0,"中女3年100m",0,"小女2年60m"]
["14. そ の 他",null,null,null,null,null,null,null,null,null,null,null,null,null,null,null,null,null,null,null,null,null,null,null,null,null,null,null,null,null,null,null,null,4,"女800m",4,"高女800m",0,"中女2･3年100m",0,"小女3年100m"]
[null,"(1)","万一事故が起こった場合、応急処置までの用意はありますが、それ以上の場合は本人の負担で処置願います。",null,null,null,null,null,null,null,null,null,null,null,null,null,null,null,null,null,null,null,null,null,null,null,null,null,null,null,null,null,null,4,"女1000m",4,"高女1000m",1,"中女100m",0,"小女4年100m"]
[null,"(2)","競技場は全天候型ウレタン舗装のため、スパイクピンは全天候用で長さは９ｍｍ以下を使用して下さい。",null,null,null,null,null,null,null,null,null,null,null,null,null,null,null,null,null,null,null,null,null,null,null,null,null,null,null,null,null,null,5,"女1500m",5,"高女1500m",2,"中女200m",0,"小女5年100m"]
[null,"(3)","競技日程は、プログラム編成後HPに掲載するので、御確認下さい。参加者には送付しません。",null,null,null,null,null,null,null,null,null,null,null,null,null,null,null,null,null,null,null,null,null,null,null,null,null,null,null,null,null,null,6,"女3000m",6,"高女3000m",null,null,0,"小女6年100m"]
[null,"(4)","トラック競技で予選を行う種目は、予選ベスト８で決勝を行う場合もある。800m以上は決勝タイムレースとする。",null,null,null,null,null,null,null,null,null,null,null,null,null,null,null,null,null,null,null,null,null,null,null,null,null,null,null,null,null,null,7,"女100mH",7,"高女100mH",3,"中女400m",1,"３～６年100m"]
["15. 競技役員の派遣について",null,null,null,null,null,null,null,null,null,null,null,null,null,null,null,null,null,null,null,null,null,null,null,null,null,null,null,null,null,null,null,null,8,"女400mH",8,"高女400mH",null,null,1,"小女4年800m"]
["　　　　本大会の競技運営につきまして、審判員が少なく補助生徒がいないため、各参加校から１名以上競技役員としてご協",null,null,null,null,null,null,null,null,null,null,null,null,null,null,null,null,null,null,null,null,null,null,null,null,null,null,null,null,null,null,null,null,9,"女5000mW",9,"高女5000mW",4,"中女800m",1,"小女5年800m"]
["　　　力下さるようお願い致します。なお、申込一覧表にて希望審判名を入力して下さい。",null,null,null,null,null,null,null,null,null,null,null,null,null,null,null,null,null,null,null,null,null,null,null,null,null,null,null,null,null,null,null,null,10,"女4X100mR",10,"高女4X100mR",null,null,1,"小女6年800m"]
[null,null,null,null,null,null,null,null,null,null,null,null,null,null,null,null,null,null,null,null,null,null,null,null,null,null,null,null,null,null,null,null,null,11,"女4X400mR",11,"高女4X400mR",null,"中女1000m",2,"３～６年800m"]
["16.競技日程について　＊参加人数により変更になる場合があります。",null,null,null,null,null,null,null,null,null,null,null,null,null,null,null,null,null,null,null,null,null,null,null,null,null,null,null,null,null,null,null,null,12,"女走高跳",12,"高女走高跳",5,"中女1500m",3,"５･６年80mH"]
[null,"１日目",null,"男　　子",null,null,"200m、800m、5000m、400mH、4×100mR、走高跳、棒高跳、三段跳、砲丸投、ヤリ投、八種（前半）　",null,null,null,null,null,null,null,null,null,null,null,null,null,null,null,null,null,null,null,null,null,null,null,null,null,null,13,"女棒高跳",13,"高女棒高跳",null,null,3,"小女5年80mH"]
[null,null,null,"女　　子",null,null,"200m、800m、3000m、400mH、4×100mR、走高跳、棒高跳、三段跳、砲丸投、ヤリ投、七種（前半）　",null,null,null,null,null,null,null,null,null,null,null,null,null,null,null,null,null,null,null,null,null,null,null,null,null,null,14,"女走幅跳",14,"高女走幅跳",6,"中女3000m",3,"小女6年80mH"]
[null,null,null,null,null,null,null,null,null,null,null,null,null,null,null,null,null,null,null,null,"競技日程は、５月８日にホームページに掲載予定です。必ずご確認ください。",null,null,null,null,null,null,null,null,null,null,null,null,14,"女走高跳",14,"高女走高跳",null,"中女3000m",3,"小女4年80mH"]
[null,null,null,"中学男子",null,null,"１00m、棒高跳、走幅跳、円盤投、ジャベリック投、四種（前半）",null,null,null,null,null,null,null,null,null,null,null,null,null,null,null,null,null,null,null,null,null,null,null,null,null,null,15,"女三段跳",15,"高女三段跳",null,"中女1年80mH",4,"４年以上4X100mR"]
[null,null,null,"中学女子",null,null,"100m、走幅跳、円盤投、ジャベリック投、四種（前半）"]
[null,null,null,"小学男女",null,null,"100m、走幅跳を除く種目(100m、走幅跳は2日目)",null,null,null,null,null,null,null,null,null,null,null,null,null,null,null,null,null,null,null,null,null,null,null,null,null,null,16,"女砲丸投",16,"高女砲丸投",7,"中女100mH(0.762m)",5,"小女5年4X100mR"]
[null,null,null,null,null,null,null,null,null,null,null,null,null,null,null,null,null,null,null,null,null,null,null,null,null,null,null,null,null,null,null,null,null,17,"女円盤投",17,"高女円盤投",8,"中女走高跳",6,"小女6年4X100mR"]
[null,null,null,null,null,null,null,null,null,null,null,null,null,null,null,null,null,null,null,null,null,null,null,null,null,null,null,null,null,null,null,null,null,18,"女ハンマー投",18,"高女ハンマー投",9,"中女走幅跳",6,"小女5年走高跳"]
[null,null,null,null,null,null,null,null,null,null,null,null,null,null,null,null,null,null,null,null,null,null,null,null,null,null,null,null,null,null,null,null,null,19,"女やり投",19,"高女やり投",10,"中女砲丸投(2.721kg)",6,"小女6年走高跳"]
[null,null,null,null,null,null,null,null,null,null,null,null,null,null,null,null,null,null,null,null,null,null,null,null,null,null,null,null,null,null,null,null,null,20,"女七種競技",20,"高女七種競技",11,"中女円盤投(1.000kg)",6,"小女4年走高跳"]
[null,null,null,null,null,null,null,null,null,null,null,null,null,null,null,null,null,null,null,null,null,null,null,null,null,null,null,null,null,null,null,null,null,20,"女300m",20,"高女300m",12,"中女ジャベリックスロー",7,"５・６走高跳"]
[null,null,null,null,null,null,null,null,null,null,null,null,null,null,null,null,null,null,null,null,null,null,null,null,null,null,null,null,null,null,null,null,null,20,0,20,0,null,"中女300m",7,"小女4年走幅跳"]
[null,null,null,null,null,null,null,null,null,null,null,null,null,null,null,null,null,null,null,null,null,null,null,null,null,null,null,null,null,null,null,null,null,20,0,20,0,13,"中女4X100mR",7,"小女5年走幅跳"]
[null,null,null,null,null,null,null,null,null,null,null,null,null,null,null,null,null,null,null,null,null,null,null,null,null,null,null,null,null,null,null,null,null,20,0,20,0,14,"中女四種競技",7,"小女6年走幅跳"]
[null,null,null,null,null,null,null,null,null,null,null,null,null,null,null,null,null,null,null,null,null,null,null,null,null,null,null,null,null,null,null,null,null,20,0,20,0,null,0,8,"４～６年走幅跳"]
[null,null,null,null,null,null,null,null,null,null,null,null,null,null,null,null,null,null,null,null,null,null,null,null,null,null,null,null,null,null,null,null,null,20,0,20,0,null,0,8,"小女5年砲丸投"]
[null,null,null,null,null,null,null,null,null,null,null,null,null,null,null,null,null,null,null,null,null,null,null,null,null,null,null,null,null,null,null,null,null,20,0,20,0,null,0,9,"６年砲丸投"]
[null,null,null,null,null,null,null,null,null,null,null,null,null,null,null,null,null,null,null,null,null,null,null,null,null,null,null,null,null,null,null,null,null,20,0,20,0,null,0,9,"小女砲丸投(2.721kg)"]
[null,null,null,null,null,null,null,null,null,null,null,null,null,null,null,null,null,null,null,null,null,null,null,null,null,null,null,null,null,null,null,null,null,20,0,20,0,null,0,9,"小女6年ｿﾌﾄﾎﾞｰﾙ投"]
[null,null,null,null,null,null,null,null,null,null,null,null,null,null,null,null,null,null,null,null,null,null,null,null,null,null,null,null,null,null,null,null,null,20,0,20,0,null,0,9,"小女5年ｿﾌﾄﾎﾞｰﾙ投"]
[null,null,null,null,null,null,null,null,null,null,null,null,null,null,null,null,null,null,null,null,null,null,null,null,null,null,null,null,null,null,null,null,null,20,0,20,0,null,0,9,"小女4年ｿﾌﾄﾎﾞｰﾙ投"]
[null,null,null,null,null,null,null,null,null,null,null,null,null,null,null,null,null,null,null,null,null,null,null,null,null,null,null,null,null,null,null,null,null,20,0,20,0,null,0,10,"４～６年ソフトボール投"]
[null,null,null,null,null,null,null,null,null,null,null,null,null,null,null,null,null,null,null,null,null,null,null,null,null,null,null,null,null,null,null,null,null,20,0,20,0,null,0,10,0]
[null,null,null,null,null,null,null,null,null,null,null,null,null,null,null,null,null,null,null,null,null,null,null,null,null,null,null,null,null,null,null,null,null,20,0,20,0,null,0,10,0]
[null,null,null,null,null,null,null,null,null,null,null,null,null,null,null,null,null,null,null,null,null,null,null,null,null,null,null,null,null,null,null,null,null,20,0,20,0,null,0,10,0]

{"sheet":"入力表","index":1,"n_rows":64,"n_cols":123,"rows_kept":64,"cut":false,"hidden":false,"merged":[[11,0,11,46],[7,39,10,57],[0,0,1,23],[3,4,4,6],[3,11,4,21],[5,13,6,21],[7,0,8,3],[7,4,8,12],[7,13,8,21],[3,23,4,26],[3,27,4,29],[3,52,3,57],[3,46,3,51],[0,43,1,57],[0,39,1,42],[7,34,7,37],[4,46,4,51],[5,46,5,51],[0,34,1,38],[11,47,11,67],[0,59,0,80],[0,24,1,33],[1,59,1,62],[2,59,2,62],[3,59,3,62],[4,59,4,62],[5,59,5,62],[6,59,6,62],[1,70,1,73],[2,70,2,73],[3,70,3,73],[4,70,4,73],[5,70,5,73],[6,70,6,73],[5,23,5,26],[5,27,5,29],[5,30,5,33],[3,30,4,33],[4,39,4,45],[5,39,5,45],[3,39,3,45],[6,39,6,57],[4,52,4,57],[5,52,5,57],[7,59,7,80],[9,2,10,6],[9,7,10,9],[9,10,10,21],[9,0,10,1],[5,0,6,3],[3,7,4,10],[3,0,4,3],[5,4,6,12],[9,23,10,26],[9,27,10,37],[8,23,8,26],[8,27,8,29],[8,30,8,33],[8,34,8,37],[5,34,5,37],[6,23,6,26],[6,27,6,29],[6,30,6,33],[6,34,6,37],[7,23,7,26],[7,27,7,29],[7,30,7,33],[3,34,4,37],[49,47,49,52],[50,47,50,52],[51,47,51,52],[52,47,52,52],[8,59,8,62],[9,59,9,62],[10,59,10,62],[8,70,8,73],[9,70,9,73],[42,47,42,52],[43,47,43,52],[44,47,44,52],[45,47,45,52],[46,47,46,52],[47,47,47,52],[36,47,36,52],[37,47,37,52],[38,47,38,52],[39,47,39,52],[40,47,40,52],[41,47,41,52],[30,47,30,52],[31,47,31,52],[11,68,11,80],[34,47,34,52],[35,47,35,52],[24,47,24,52],[25,47,25,52],[26,47,26,52],[27,47,27,52],[28,47,28,52],[29,47,29,52],[48,47,48,52],[18,47,18,52],[19,47,19,52],[20,47,20,52],[21,47,21,52],[22,47,22,52],[23,47,23,52],[49,61,49,66],[50,61,50,66],[51,61,51,66],[36,61,36,66],[25,61,25,66],[26,61,26,66],[27,61,27,66],[28,61,28,66],[29,61,29,66],[30,61,30,66],[19,61,19,66],[20,61,20,66],[21,61,21,66],[22,61,22,66],[23,61,23,66],[24,61,24,66],[32,47,32,52],[33,47,33,52],[52,61,52,66],[12,47,12,52],[13,47,13,52],[14,47,14,52],[15,47,15,52],[16,47,16,52],[17,47,17,52],[43,61,43,66],[44,61,44,66],[45,61,45,66],[46,61,46,66],[47,61,47,66],[48,61,48,66],[37,61,37,66],[38,61,38,66],[39,61,39,66],[40,61,40,66],[41,61,41,66],[42,61,42,66],[31,61,31,66],[32,61,32,66],[33,61,33,66],[34,61,34,66],[35,61,35,66],[13,61,13,66],[14,61,14,66],[15,61,15,66],[16,61,16,66],[17,61,17,66],[18,61,18,66],[47,33,47,38],[48,33,48,38],[49,33,49,38],[35,33,35,38],[36,33,36,38],[37,33,37,38],[38,33,38,38],[39,33,39,38],[40,33,40,38],[29,33,29,38],[30,33,30,38],[31,33,31,38],[32,33,32,38],[33,33,33,38],[34,33,34,38],[23,33,23,38],[24,33,24,38],[25,33,25,38],[50,33,50,38],[51,33,51,38],[52,33,52,38],[41,33,41,38],[42,33,42,38],[43,33,43,38],[44,33,44,38],[45,33,45,38],[46,33,46,38],[26,33,26,38],[27,33,27,38],[28,33,28,38],[17,33,17,38],[18,33,18,38],[19,33,19,38],[20,33,20,38],[21,33,21,38],[22,33,22,38],[48,30,48,32],[49,30,49,32],[50,30,50,32],[51,30,51,32],[52,30,52,32],[12,33,12,38],[13,33,13,38],[14,33,14,38],[15,33,15,38],[16,33,16,38],[40,30,40,32],[41,30,41,32],[42,30,42,32],[43,30,43,32],[44,30,44,32],[45,30,45,32],[28,30,28,32],[29,30,29,32],[30,30,30,32],[31,30,31,32],[32,30,32,32],[33,30,33,32],[17,30,17,32],[18,30,18,32],[19,30,19,32],[20,30,20,32],[21,30,21,32],[22,30,22,32],[12,30,12,32],[13,30,13,32],[14,30,14,32],[15,30,15,32],[16,30,16,32],[46,30,46,32],[47,30,47,32],[36,30,36,32],[37,30,37,32],[38,30,38,32],[39,30,39,32],[34,30,34,32],[35,30,35,32],[24,30,24,32],[25,30,25,32],[26,30,26,32],[27,30,27,32],[23,30,23,32],[49,20,49,25],[50,20,50,25],[51,20,51,25],[52,20,52,25],[43,20,43,25],[44,20,44,25],[45,20,45,25],[46,20,46,25],[47,20,47,25],[48,20,48,25],[37,20,37,25],[38,20,38,25],[39,20,39,25],[40,20,40,25],[41,20,41,25],[42,20,42,25],[31,20,31,25],[32,20,32,25],[33,20,33,25],[34,20,34,25],[35,20,35,25],[36,20,36,25],[25,20,25,25],[26,20,26,25],[27,20,27,25],[28,20,28,25],[29,20,29,25],[30,20,30,25],[19,20,19,25],[20,20,20,25],[21,20,21,25],[22,20,22,25],[23,20,23,25],[24,20,24,25],[50,26,50,29],[51,26,51,29],[52,26,52,29],[12,20,12,25],[13,20,13,25],[14,20,14,25],[15,20,15,25],[16,20,16,25],[17,20,17,25],[18,20,18,25],[44,26,44,29],[45,26,45,29],[46,26,46,29],[47,26,47,29],[48,26,48,29],[49,26,49,29],[38,26,38,29],[39,26,39,29],[40,26,40,29],[41,26,41,29],[42,26,42,29],[43,26,43,29],[32,26,32,29],[33,26,33,29],[34,26,34,29],[35,26,35,29],[36,26,36,29],[37,26,37,29],[26,26,26,29],[27,26,27,29],[28,26,28,29],[29,26,29,29],[30,26,30,29],[31,26,31,29],[20,26,20,29],[21,26,21,29],[22,26,22,29],[23,26,23,29],[24,26,24,29],[25,26,25,29],[13,26,13,29],[14,26,14,29],[15,26,15,29],[16,26,16,29],[17,26,17,29],[18,26,18,29],[19,26,19,29],[12,26,12,29],[47,13,47,19],[48,13,48,19],[49,13,49,19],[50,13,50,19],[51,13,51,19],[52,13,52,19],[41,13,41,19],[42,13,42,19],[43,13,43,19],[44,13,44,19],[45,13,45,19],[46,13,46,19],[35,13,35,19],[36,13,36,19],[37,13,37,19],[38,13,38,19],[39,13,39,19],[40,13,40,19],[29,13,29,19],[30,13,30,19],[31,13,31,19],[32,13,32,19],[33,13,33,19],[23,13,23,19],[24,13,24,19],[25,13,25,19],[26,13,26,19],[27,13,27,19],[28,13,28,19],[17,13,17,19],[18,13,18,19],[19,13,19,19],[20,13,20,19],[21,13,21,19],[22,13,22,19],[49,9,49,12],[50,9,50,12],[51,9,51,12],[52,9,52,12],[12,13,12,19],[13,13,13,19],[14,13,14,19],[15,13,15,19],[16,13,16,19],[42,9,42,12],[43,9,43,12],[44,9,44,12],[45,9,45,12],[46,9,46,12],[47,9,47,12],[36,9,36,12],[37,9,37,12],[38,9,38,12],[39,9,39,12],[40,9,40,12],[41,9,41,12],[30,9,30,12],[31,9,31,12],[34,13,34,19],[34,9,34,12],[35,9,35,12],[24,9,24,12],[25,9,25,12],[26,9,26,12],[27,9,27,12],[28,9,28,12],[29,9,29,12],[48,9,48,12],[18,9,18,12],[19,9,19,12],[20,9,20,12],[21,9,21,12],[22,9,22,12],[23,9,23,12],[49,7,49,8],[50,7,50,8],[51,7,51,8],[36,7,36,8],[25,7,25,8],[26,7,26,8],[27,7,27,8],[28,7,28,8],[29,7,29,8],[30,7,30,8],[19,7,19,8],[20,7,20,8],[21,7,21,8],[22,7,22,8],[23,7,23,8],[24,7,24,8],[32,9,32,12],[33,9,33,12],[52,7,52,8],[12,9,12,12],[13,9,13,12],[14,9,14,12],[15,9,15,12],[16,9,16,12],[17,9,17,12],[43,7,43,8],[44,7,44,8],[45,7,45,8],[46,7,46,8],[47,7,47,8],[48,7,48,8],[37,7,37,8],[38,7,38,8],[39,7,39,8],[40,7,40,8],[41,7,41,8],[42,7,42,8],[31,7,31,8],[32,7,32,8],[33,7,33,8],[34,7,34,8],[35,7,35,8],[50,2,50,6],[51,2,51,6],[52,2,52,6],[12,7,12,8],[13,7,13,8],[14,7,14,8],[15,7,15,8],[16,7,16,8],[17,7,17,8],[18,7,18,8],[44,2,44,6],[45,2,45,6],[46,2,46,6],[47,2,47,6],[48,2,48,6],[49,2,49,6],[38,2,38,6],[39,2,39,6],[40,2,40,6],[41,2,41,6],[42,2,42,6],[43,2,43,6],[32,2,32,6],[33,2,33,6],[34,2,34,6],[35,2,35,6],[36,2,36,6],[37,2,37,6],[26,2,26,6],[27,2,27,6],[28,2,28,6],[29,2,29,6],[30,2,30,6],[31,2,31,6],[20,2,20,6],[21,2,21,6],[22,2,22,6],[23,2,23,6],[24,2,24,6],[25,2,25,6],[51,0,51,1],[52,0,52,1],[12,2,12,6],[13,2,13,6],[14,2,14,6],[15,2,15,6],[16,2,16,6],[17,2,17,6],[18,2,18,6],[19,2,19,6],[45,0,45,1],[46,0,46,1],[47,0,47,1],[48,0,48,1],[49,0,49,1],[50,0,50,1],[39,0,39,1],[40,0,40,1],[41,0,41,1],[42,0,42,1],[43,0,43,1],[44,0,44,1],[33,0,33,1],[34,0,34,1],[35,0,35,1],[36,0,36,1],[37,0,37,1],[38,0,38,1],[27,0,27,1],[28,0,28,1],[29,0,29,1],[30,0,30,1],[31,0,31,1],[32,0,32,1],[21,0,21,1],[22,0,22,1],[23,0,23,1],[24,0,24,1],[25,0,25,1],[26,0,26,1],[12,0,12,1],[13,0,13,1],[14,0,14,1],[15,0,15,1],[16,0,16,1],[17,0,17,1],[18,0,18,1],[19,0,19,1],[20,0,20,1],[50,78,50,80],[51,78,51,80],[52,78,52,80],[44,78,44,80],[45,78,45,80],[46,78,46,80],[47,78,47,80],[48,78,48,80],[49,78,49,80],[38,78,38,80],[39,78,39,80],[40,78,40,80],[41,78,41,80],[42,78,42,80],[43,78,43,80],[32,78,32,80],[33,78,33,80],[34,78,34,80],[35,78,35,80],[36,78,36,80],[37,78,37,80],[26,78,26,80],[27,78,27,80],[28,78,28,80],[29,78,29,80],[30,78,30,80],[31,78,31,80],[20,78,20,80],[21,78,21,80],[22,78,22,80],[23,78,23,80],[24,78,24,80],[25,78,25,80],[31,75,31,77],[32,75,32,77],[33,75,33,77],[34,75,34,77],[35,75,35,77],[36,75,36,77],[25,75,25,77],[26,75,26,77],[27,75,27,77],[28,75,28,77],[29,75,29,77],[30,75,30,77],[51,75,51,77],[52,75,52,77],[43,75,43,77],[44,75,44,77],[45,75,45,77],[46,75,46,77],[47,75,47,77],[48,75,48,77],[37,75,37,77],[38,75,38,77],[39,75,39,77],[40,75,40,77],[41,75,41,77],[42,75,42,77],[49,75,49,77],[50,75,50,77],[10,98,12,98],[10,99,12,99],[10,100,12,100],[22,75,22,77],[23,75,23,77],[24,75,24,77],[13,75,13,77],[14,75,14,77],[15,75,15,77],[16,75,16,77],[17,75,17,77],[18,75,18,77],[13,78,13,80],[14,78,14,80],[15,78,15,80],[16,78,16,80],[17,78,17,80],[18,78,18,80],[19,78,19,80],[19,75,19,77],[20,75,20,77],[21,75,21,77],[12,83,12,84],[10,114,11,119],[10,101,12,101],[10,70,10,73],[12,39,12,46],[12,53,12,60],[12,67,12,74],[12,114,12,115],[12,78,12,80],[12,75,12,77],[12,61,12,66],[10,108,12,108],[10,109,12,109],[10,110,12,110],[10,111,12,111],[10,112,12,112],[10,113,12,113],[10,102,12,102],[10,103,12,103],[10,104,12,104],[10,105,12,105],[10,106,12,106],[10,107,12,107],[10,92,12,92],[10,93,11,97]]}
[{"$f":"①初期設定!M1","v":"オホーツク陸上競技選手権大会"},null,null,null,null,null,null,null,null,null,null,null,null,null,null,null,null,null,null,null,null,null,null,null,"参加申込用紙",null,null,null,null,null,null,null,null,null,"再修正版",null,null,null,null,"〆切",null,null,null,{"$f":"CONCATENATE(①初期設定!B19,①初期設定!C19,①初期設定!D19,①初期設定!E19,①初期設定!F19,①初期設定!G19,①初期設定!H19,①初期設定!I19,①初期設定!J19,①初期設定!K19)","v":"5月1日（月）17：00"},null,null,null,null,null,null,null,null,null,null,null,null,null,null,null,"400mRベスト記録",null,null,null,null,null,null,null,null,null,null,null,null,null,null,null,null,null,null,null,null,null,null,null,"審判①",{"$f":"IF(AN5=\"\",0,1)","v":0}]
[null,null,null,null,null,null,null,null,null,null,null,null,null,null,null,null,null,null,null,null,null,null,null,null,null,null,null,null,null,null,null,null,null,null,null,null,null,null,null,null,null,null,null,null,null,null,null,null,null,null,null,null,null,null,null,null,null,null,null,"男子Ａ",null,null,null,null,"分",null,null,"秒",null,null,"女子Ａ",null,null,null,null,"分",null,null,"秒",null,null,null,null,"審判②",{"$f":"IF(AN6=\"\",0,1)","v":0},null,{"$f":"COUNTA(BO2)","v":0},{"$f":"COUNTA(BZ2)","v":0}]
[null,null,null,null,null,null,null,null,null,null,null,null,null,null,null,null,null,null,null,null,null,null,null,null,null,null,null,null,null,null,null,null,null,null,null,null,null,null,null,null,null,null,null,null,null,null,null,null,null,null,null,null,null,null,null,null,null,null,null,"男子B",null,null,null,null,"分",null,null,"秒",null,null,"女子B",null,null,null,null,"分",null,null,"秒",null,null,null,null,null,{"$f":"CG1+CG2","v":0},null,{"$f":"COUNTA(BO3)","v":0},{"$f":"COUNTA(BZ3)","v":0}]
["クラス",null,null,null,null,null,null,"団体名",null,null,null,null,null,null,null,null,null,null,null,null,null,null,null,"内訳",null,null,null,"人数",null,null,"参加料",null,null,null,"小計",null,null,null,null,"審判員氏名",null,null,null,null,null,null,"希望役職①",null,null,null,null,null,"希望役職②",null,null,null,null,null,null,"男子C",null,null,null,null,"分",null,null,"秒",null,null,"女子C",null,null,null,null,"分",null,null,"秒",null,null,null,null,null,null,null,0,0]
[null,null,null,null,null,null,null,null,null,null,null,null,null,null,null,null,null,null,null,null,null,null,null,null,null,null,null,null,null,null,null,null,null,null,null,null,null,null,null,null,null,null,null,null,null,null,null,null,null,null,null,null,null,null,null,null,null,null,null,"男子D",null,null,null,null,"分",null,null,"秒",null,null,"女子D",null,null,null,null,"分",null,null,"秒",null,null,null,null,null,null,null,0,0]
["責任者",null,null,null,null,null,null,null,null,null,null,null,null,"所属陸協",null,null,null,null,null,null,null,null,null,"1種目",null,null,null,{"$f":"COUNTIF($CH$14:$CH$53,1)","v":0},null,null,{"$f":"VLOOKUP($E$4&X6,①初期設定!$B$25:$G$43,4,FALSE)","v":{"$error":"#N/A"}},null,null,null,{"$f":"AB6*AE6","v":{"$error":"#N/A"}},null,null,null,null,null,null,null,null,null,null,null,null,null,null,null,null,null,null,null,null,null,null,null,null,"男子E",null,null,null,null,"分",null,null,"秒",null,null,"女子E",null,null,null,null,"分",null,null,"秒",null,null,null,null,null,null,null,0,0]
[null,null,null,null,null,null,null,null,null,null,null,null,null,null,null,null,null,null,null,null,null,null,null,"2種目",null,null,null,{"$f":"COUNTIF($CH$14:$CH$53,2)","v":0},null,null,{"$f":"VLOOKUP($E$4&X7,①初期設定!$B$25:$G$43,4,FALSE)","v":{"$error":"#N/A"}},null,null,null,{"$f":"AB7*AE7","v":{"$error":"#N/A"}},null,null,null,null,"何かあれば、下記の欄にご記入ください！",null,null,null,null,null,null,null,null,null,null,null,null,null,null,null,null,null,null,null,"男子F",null,null,null,null,"分",null,null,"秒",null,null,"女子F",null,null,null,null,"分",null,null,"秒",null,null,null,null,null,null,null,0,0]
["携帯",null,null,null,null,null,null,null,null,null,null,null,null,null,null,null,null,null,null,null,null,null,null,"3種目",null,null,null,{"$f":"COUNTIF($CH$14:$CH$53,3)","v":0},null,null,{"$f":"VLOOKUP($E$4&X8,①初期設定!$B$25:$G$43,4,FALSE)","v":{"$error":"#N/A"}},null,null,null,{"$error":"#N/A"},null,null,null,null,null,null,null,null,null,null,null,null,null,null,null,null,null,null,null,null,null,null,null,null,"1600mRベスト記録"]
[null,null,null,null,null,null,null,null,null,null,null,null,null,null,null,null,null,null,null,null,null,null,null,"リレー",null,null,null,{"$f":"SUM(CI2:CJ11)","v":0},null,null,{"$f":"IF(ISERROR(VLOOKUP($E$4&X9,①初期設定!$B$25:$G$43,4,FALSE)),0,VLOOKUP($E$4&X9,①初期設定!$B$25:$G$43,4,FALSE))","v":0},null,null,null,0,null,null,null,null,null,null,null,null,null,null,null,null,null,null,null,null,null,null,null,null,null,null,null,null,"男子Ａ",null,null,null,null,"分",null,null,"秒",null,null,"女子Ａ",null,null,null,null,"分",null,null,"秒",null,null,null,null,null,null,null,0,0]
["〒",null,null,null,null,null,null,"住所",null,null,null,null,null,null,null,null,null,null,null,null,null,null,null,"合計",null,null,null,{"$f":"SUM(AI6:AL9)","v":{"$error":"#N/A"}},null,null,null,null,null,null,null,null,null,null,null,null,null,null,null,null,null,null,null,null,null,null,null,null,null,null,null,null,null,null,null,"男子Ｂ",null,null,null,null,"分",null,null,"秒",null,null,"女子Ｂ",null,null,null,null,"分",null,null,"秒",null,null,null,null,null,null,null,0,0]
[null,null,null,null,null,null,null,null,null,null,null,null,null,null,null,null,null,null,null,null,null,null,null,null,null,null,null,null,null,null,null,null,null,null,null,null,null,null,null,null,null,null,null,null,null,null,null,null,null,null,null,null,null,null,null,null,null,null,null,"男子Ｃ",null,null,null,null,"分",null,null,"秒",null,null,"女子Ｃ",null,null,null,null,"分",null,null,"秒",null,null,null,null,null,null,null,0,0,null,null,null,null,"種別","出場団体名",null,null,null,null,"役員希望","性別","生年","陸協","年","数","幼児男","幼児女","小学男","小学女","中学男","中学女","高校男","高校女","一般男","一般女","リレー"]
["*上記【クラス】と下の【性別】によって種目選択リストが変更します。どちらかが未入力であれば種目選択が【エラー】となります。",null,null,null,null,null,null,null,null,null,null,null,null,null,null,null,null,null,null,null,null,null,null,null,null,null,null,null,null,null,null,null,null,null,null,null,null,null,null,null,null,null,null,null,null,null,null,"リレーは、ベスト記録を入力しないと参加料に反映されません！",null,null,null,null,null,null,null,null,null,null,null,null,null,null,null,null,null,null,null,null,"混成競技のベストは、記入不要！"]
["数",null,"登録番号",null,null,null,null,"性",null,"ゼッケン",null,null,null,"氏名",null,null,null,null,null,null,"ﾌﾘｶﾞﾅ",null,null,null,null,null,"生年",null,null,null,"年",null,null,"種目１",null,null,null,null,null,"種目１ベスト",null,null,null,null,null,null,null,"種目２",null,null,null,null,null,"種目２ベスト",null,null,null,null,null,null,null,"種目３",null,null,null,null,null,"種目３ベスト",null,null,null,null,null,null,null,"400R",null,null,"MR",null,null,null,null,"Rカウント",null,"種目カウント",null,null,null,null,null,null,null,"幼児","小学","中学","高校","一般",null,null,null,null,null,null,null,null,null,null,null,null,null,null,null,null,"種別",null,"男400R","女400R","男MR","女MR"]
[1,null,null,null,null,null,null,null,null,null,null,null,null,null,null,null,null,null,null,null,null,null,null,null,null,null,null,null,null,null,null,null,null,null,null,null,null,null,null,null,null,{"$f":"IF(AH14=\"\",\"\",IF(CJ14=0,\"\",\"分\"))","v":""},null,null,{"$f":"IF(AH14=\"\",\"\",IF(CJ14=0,\"m\",\"秒\"))","v":""},null,null,null,null,null,null,null,null,null,null,{"$f":"IF(AV14=\"\",\"\",IF(CK14=0,\"\",\"分\"))","v":""},null,null,{"$f":"IF(AV14=\"\",\"\",IF(CK14=0,\"m\",\"秒\"))","v":""},null,null,null,null,null,null,null,null,null,null,{"$f":"IF(BJ14=\"\",\"\",IF(CL14=0,\"\",\"分\"))","v":""},null,null,{"$f":"IF(BJ14=\"\",\"\",IF(CL14=0,\"m\",\"秒\"))","v":""},null,null,null,null,null,null,null,null,null,null,{"$f":"H14&$BX$13","v":"400R"},{"$f":"H14&$CA$13","v":"MR"},{"$f":"COUNTA(AH14,AV14,BJ14)","v":0},{"$f":"$E$4&H14&\"種目\"","v":"種目"},{"$f":"LEN(AH14)-LEN(SUBSTITUTE(AH14,\"m\",\"\"))","v":0},{"$f":"LEN(AV14)-LEN(SUBSTITUTE(AV14,\"m\",\"\"))","v":0},{"$f":"LEN(BJ14)-LEN(SUBSTITUTE(BJ14,\"m\",\"\"))","v":0},{"$f":"$E$4&COUNTA(AH14,AV14,BJ14)","v":"0"},null,null,null,null,null,null,null,null,null,null,null,null,null,null,null,null,null,null,null,null,null,null,null,null,null,null,null,null,null,null,"小学女","小学女"]
[2,null,null,null,null,null,null,null,null,null,null,null,null,null,null,null,null,null,null,null,null,null,null,null,null,null,null,null,null,null,null,null,null,null,null,null,null,null,null,null,null,{"$f":"IF(AH15=\"\",\"\",IF(CJ15=0,\"\",\"分\"))","v":""},null,null,{"$f":"IF(AH15=\"\",\"\",IF(CJ15=0,\"m\",\"秒\"))","v":""},null,null,null,null,null,null,null,null,null,null,{"$f":"IF(AV15=\"\",\"\",IF(CK15=0,\"\",\"分\"))","v":""},null,null,"",null,null,null,null,null,null,null,null,null,null,"",null,null,"",null,null,null,null,null,null,null,null,null,null,{"$f":"H15&$BX$13","v":"400R"},{"$f":"H15&$CA$13","v":"MR"},{"$f":"COUNTA(AH15,AV15,BJ15)","v":0},{"$f":"$E$4&H15&\"種目\"","v":"種目"},{"$f":"LEN(AH15)-LEN(SUBSTITUTE(AH15,\"m\",\"\"))","v":0},{"$f":"LEN(AV15)-LEN(SUBSTITUTE(AV15,\"m\",\"\"))","v":0},{"$f":"LEN(BJ15)-LEN(SUBSTITUTE(BJ15,\"m\",\"\"))","v":0},"0",null,"幼児","美幌保育園","斜里小","斜里中","北見北斗高","ｵﾎｰﾂｸ陸協(水島)","一任","男",1970,"道南","幼児",1,{"$f":"IF(ISERROR(VLOOKUP(CZ15,①初期設定!$C$49:$N$96,4,FALSE)),\"*\",VLOOKUP(CZ15,①初期設定!$C$49:$N$96,4,FALSE))","v":"*"},{"$f":"IF(ISERROR(VLOOKUP(CZ15,①初期設定!$Q$49:$AB$96,4,FALSE)),\"*\",VLOOKUP(CZ15,①初期設定!$Q$49:$AB$96,4,FALSE))","v":"*"},{"$f":"IF(ISERROR(VLOOKUP(CZ15,①初期設定!$E$49:$N$96,2,FALSE)),\"*\",VLOOKUP(CZ15,①初期設定!$E$49:$N$96,2,FALSE))","v":"小男6年100m"},{"$f":"IF(ISERROR(VLOOKUP(CZ15,①初期設定!$S$49:$AB$96,2,FALSE)),\"*\",VLOOKUP(CZ15,①初期設定!$S$49:$AB$96,2,FALSE))","v":"小女6年100m"},{"$f":"IF(ISERROR(VLOOKUP(CZ15,①初期設定!$C$117:$Q$179,6,FALSE)),\"*\",VLOOKUP(CZ15,①初期設定!$C$117:$Q$179,6,FALSE))","v":"中男100m"},{"$f":"IF(ISERROR(VLOOKUP(CZ15,①初期設定!$T$117:$AH$179,6,FALSE)),\"*\",VLOOKUP(CZ15,①初期設定!$T$117:$AH$179,6,FALSE))","v":"中女100m"},{"$f":"IF(ISERROR(VLOOKUP(CZ15,①初期設定!$E$117:$Q$179,4,FALSE)),\"*\",VLOOKUP(CZ15,①初期設定!$E$117:$Q$179,4,FALSE))","v":"共男100m"},{"$f":"IF(ISERROR(VLOOKUP(CZ15,①初期設定!$V$117:$AH$179,4,FALSE)),\"*\",VLOOKUP(CZ15,①初期設定!$V$117:$AH$179,4,FALSE))","v":"共女100m"},{"$f":"IF(ISERROR(VLOOKUP(CZ15,①初期設定!$G$117:$Q$179,2,FALSE)),\"*\",VLOOKUP(CZ15,①初期設定!$G$117:$Q$179,2,FALSE))","v":"共男100m"},{"$f":"IF(ISERROR(VLOOKUP(CZ15,①初期設定!$X$117:$AH$179,2,FALSE)),\"*\",VLOOKUP(CZ15,①初期設定!$X$117:$AH$179,2,FALSE))","v":"共女100m"},"幼児","幼児","男子A","女子A","男子A","女子A",null,"小学男","小学男"]
[3,null,null,null,null,null,null,null,null,null,null,null,null,null,null,null,null,null,null,null,null,null,null,null,null,null,null,null,null,null,null,null,null,null,null,null,null,null,null,null,null,"",null,null,{"$f":"IF(AH16=\"\",\"\",IF(CJ16=0,\"m\",\"秒\"))","v":""},null,null,null,null,null,null,null,null,null,null,"",null,null,"",null,null,null,null,null,null,null,null,null,null,"",null,null,"",null,null,null,null,null,null,null,null,null,null,"400R","MR",0,"種目",0,0,0,"0",null,"小学","大谷幼稚園","斜里朝日小","斜里知床ｳﾄﾛ学校","北見柏陽高","ｵﾎｰﾂｸ陸協(野村)","技術総務","女",1971,"小樽後志","小1",2,{"$f":"IF(ISERROR(VLOOKUP(CZ16,①初期設定!$C$49:$N$96,4,FALSE)),\"*\",VLOOKUP(CZ16,①初期設定!$C$49:$N$96,4,FALSE))","v":"*"},{"$f":"IF(ISERROR(VLOOKUP(CZ16,①初期設定!$Q$49:$AB$96,4,FALSE)),\"*\",VLOOKUP(CZ16,①初期設定!$Q$49:$AB$96,4,FALSE))","v":"*"},{"$f":"IF(ISERROR(VLOOKUP(CZ16,①初期設定!$E$49:$N$96,2,FALSE)),\"*\",VLOOKUP(CZ16,①初期設定!$E$49:$N$96,2,FALSE))","v":"小男5年100m"},{"$f":"IF(ISERROR(VLOOKUP(CZ16,①初期設定!$S$49:$AB$96,2,FALSE)),\"*\",VLOOKUP(CZ16,①初期設定!$S$49:$AB$96,2,FALSE))","v":"小女5年100m"},{"$f":"IF(ISERROR(VLOOKUP(CZ16,①初期設定!$C$117:$Q$179,6,FALSE)),\"*\",VLOOKUP(CZ16,①初期設定!$C$117:$Q$179,6,FALSE))","v":"共男200m"},{"$f":"IF(ISERROR(VLOOKUP(CZ16,①初期設定!$T$117:$AH$179,6,FALSE)),\"*\",VLOOKUP(CZ16,①初期設定!$T$117:$AH$179,6,FALSE))","v":"共女200m"},{"$f":"IF(ISERROR(VLOOKUP(CZ16,①初期設定!$E$117:$Q$179,4,FALSE)),\"*\",VLOOKUP(CZ16,①初期設定!$E$117:$Q$179,4,FALSE))","v":"共男200m"},{"$f":"IF(ISERROR(VLOOKUP(CZ16,①初期設定!$V$117:$AH$179,4,FALSE)),\"*\",VLOOKUP(CZ16,①初期設定!$V$117:$AH$179,4,FALSE))","v":"共女200m"},{"$f":"IF(ISERROR(VLOOKUP(CZ16,①初期設定!$G$117:$Q$179,2,FALSE)),\"*\",VLOOKUP(CZ16,①初期設定!$G$117:$Q$179,2,FALSE))","v":"共男200m"},{"$f":"IF(ISERROR(VLOOKUP(CZ16,①初期設定!$X$117:$AH$179,2,FALSE)),\"*\",VLOOKUP(CZ16,①初期設定!$X$117:$AH$179,2,FALSE))","v":"共女200m"},"小1","小学","男子B","女子B","男子B","女子B",null,"中学男","中学男"]
[4,null,null,null,null,null,null,null,null,null,null,null,null,null,null,null,null,null,null,null,null,null,null,null,null,null,null,null,null,null,null,null,null,null,null,null,null,null,null,null,null,"",null,null,"",null,null,null,null,null,null,null,null,null,null,"",null,null,"",null,null,null,null,null,null,null,null,null,null,"",null,null,"",null,null,null,null,null,null,null,null,null,null,"400R","MR",0,"種目",0,0,0,"0",null,"中学","くるみ幼稚園","東藻琴小","清里中","北見緑陵高","ｵﾎｰﾂｸ陸協(飯島)","番組編成",null,1972,"室蘭地方","小2",3,{"$f":"IF(ISERROR(VLOOKUP(CZ17,①初期設定!$C$49:$N$96,4,FALSE)),\"*\",VLOOKUP(CZ17,①初期設定!$C$49:$N$96,4,FALSE))","v":"*"},{"$f":"IF(ISERROR(VLOOKUP(CZ17,①初期設定!$Q$49:$AB$96,4,FALSE)),\"*\",VLOOKUP(CZ17,①初期設定!$Q$49:$AB$96,4,FALSE))","v":"*"},{"$f":"IF(ISERROR(VLOOKUP(CZ17,①初期設定!$E$49:$N$96,2,FALSE)),\"*\",VLOOKUP(CZ17,①初期設定!$E$49:$N$96,2,FALSE))","v":"小男4年100m"},{"$f":"IF(ISERROR(VLOOKUP(CZ17,①初期設定!$S$49:$AB$96,2,FALSE)),\"*\",VLOOKUP(CZ17,①初期設定!$S$49:$AB$96,2,FALSE))","v":"小女4年100m"},{"$f":"IF(ISERROR(VLOOKUP(CZ17,①初期設定!$C$117:$Q$179,6,FALSE)),\"*\",VLOOKUP(CZ17,①初期設定!$C$117:$Q$179,6,FALSE))","v":"共男400m"},{"$f":"IF(ISERROR(VLOOKUP(CZ17,①初期設定!$T$117:$AH$179,6,FALSE)),\"*\",VLOOKUP(CZ17,①初期設定!$T$117:$AH$179,6,FALSE))","v":"共女400m"},{"$f":"IF(ISERROR(VLOOKUP(CZ17,①初期設定!$E$117:$Q$179,4,FALSE)),\"*\",VLOOKUP(CZ17,①初期設定!$E$117:$Q$179,4,FALSE))","v":"共男400m"},{"$f":"IF(ISERROR(VLOOKUP(CZ17,①初期設定!$V$117:$AH$179,4,FALSE)),\"*\",VLOOKUP(CZ17,①初期設定!$V$117:$AH$179,4,FALSE))","v":"共女400m"},{"$f":"IF(ISERROR(VLOOKUP(CZ17,①初期設定!$G$117:$Q$179,2,FALSE)),\"*\",VLOOKUP(CZ17,①初期設定!$G$117:$Q$179,2,FALSE))","v":"共男400m"},{"$f":"IF(ISERROR(VLOOKUP(CZ17,①初期設定!$X$117:$AH$179,2,FALSE)),\"*\",VLOOKUP(CZ17,①初期設定!$X$117:$AH$179,2,FALSE))","v":"共女400m"},"小2","小学","男子C","女子C","男子C","女子C",null,"中学女","中学女"]
[5,null,null,null,null,null,null,null,null,null,null,null,null,null,null,null,null,null,null,null,null,null,null,null,null,null,null,null,null,null,null,null,null,null,null,null,null,null,null,null,null,"",null,null,"",null,null,null,null,null,null,null,null,null,null,"",null,null,"",null,null,null,null,null,null,null,null,null,null,"",null,null,"",null,null,null,null,null,null,null,null,null,null,"400R","MR",0,"種目",0,0,0,"0",null,"高校","北見藤幼稚園","美幌小","小清水中","北見工業高","ｵﾎｰﾂｸ陸協(長谷川)","記録情報",null,1973,"苫小牧地方","小3",4,{"$f":"IF(ISERROR(VLOOKUP(CZ18,①初期設定!$C$49:$N$96,4,FALSE)),\"*\",VLOOKUP(CZ18,①初期設定!$C$49:$N$96,4,FALSE))","v":"*"},{"$f":"IF(ISERROR(VLOOKUP(CZ18,①初期設定!$Q$49:$AB$96,4,FALSE)),\"*\",VLOOKUP(CZ18,①初期設定!$Q$49:$AB$96,4,FALSE))","v":"*"},{"$f":"IF(ISERROR(VLOOKUP(CZ18,①初期設定!$E$49:$N$96,2,FALSE)),\"*\",VLOOKUP(CZ18,①初期設定!$E$49:$N$96,2,FALSE))","v":"小男3年100m"},{"$f":"IF(ISERROR(VLOOKUP(CZ18,①初期設定!$S$49:$AB$96,2,FALSE)),\"*\",VLOOKUP(CZ18,①初期設定!$S$49:$AB$96,2,FALSE))","v":"小女3年100m"},{"$f":"IF(ISERROR(VLOOKUP(CZ18,①初期設定!$C$117:$Q$179,6,FALSE)),\"*\",VLOOKUP(CZ18,①初期設定!$C$117:$Q$179,6,FALSE))","v":"共男800m"},{"$f":"IF(ISERROR(VLOOKUP(CZ18,①初期設定!$T$117:$AH$179,6,FALSE)),\"*\",VLOOKUP(CZ18,①初期設定!$T$117:$AH$179,6,FALSE))","v":"共女800m"},{"$f":"IF(ISERROR(VLOOKUP(CZ18,①初期設定!$E$117:$Q$179,4,FALSE)),\"*\",VLOOKUP(CZ18,①初期設定!$E$117:$Q$179,4,FALSE))","v":"共男800m"},{"$f":"IF(ISERROR(VLOOKUP(CZ18,①初期設定!$V$117:$AH$179,4,FALSE)),\"*\",VLOOKUP(CZ18,①初期設定!$V$117:$AH$179,4,FALSE))","v":"共女800m"},{"$f":"IF(ISERROR(VLOOKUP(CZ18,①初期設定!$G$117:$Q$179,2,FALSE)),\"*\",VLOOKUP(CZ18,①初期設定!$G$117:$Q$179,2,FALSE))","v":"共男800m"},{"$f":"IF(ISERROR(VLOOKUP(CZ18,①初期設定!$X$117:$AH$179,2,FALSE)),\"*\",VLOOKUP(CZ18,①初期設定!$X$117:$AH$179,2,FALSE))","v":"共女800m"},"小3","小学","男子D","女子D",null,null,null,"高校男","高校男"]
[6,null,null,null,null,null,null,null,null,null,null,null,null,null,null,null,null,null,null,null,null,null,null,null,null,null,null,null,null,null,null,null,null,null,null,null,null,null,null,null,null,"",null,null,"",null,null,null,null,null,null,null,null,null,null,"",null,null,"",null,null,null,null,null,null,null,null,null,null,"",null,null,"",null,null,null,null,null,null,null,null,null,null,"400R","MR",0,"種目",0,0,0,"0",null,"一般","常呂保育園","訓子府小","大空東藻琴中","北見商業高","ｵﾎｰﾂｸ陸協(川内)","ｱﾅｳﾝｻｰ",null,1974,"札幌","小4",5,{"$f":"IF(ISERROR(VLOOKUP(CZ19,①初期設定!$C$49:$N$96,4,FALSE)),\"*\",VLOOKUP(CZ19,①初期設定!$C$49:$N$96,4,FALSE))","v":"*"},{"$f":"IF(ISERROR(VLOOKUP(CZ19,①初期設定!$Q$49:$AB$96,4,FALSE)),\"*\",VLOOKUP(CZ19,①初期設定!$Q$49:$AB$96,4,FALSE))","v":"*"},{"$f":"IF(ISERROR(VLOOKUP(CZ19,①初期設定!$E$49:$N$96,2,FALSE)),\"*\",VLOOKUP(CZ19,①初期設定!$E$49:$N$96,2,FALSE))","v":"小男4年800m"},{"$f":"IF(ISERROR(VLOOKUP(CZ19,①初期設定!$S$49:$AB$96,2,FALSE)),\"*\",VLOOKUP(CZ19,①初期設定!$S$49:$AB$96,2,FALSE))","v":"小女6年800m"},{"$f":"IF(ISERROR(VLOOKUP(CZ19,①初期設定!$C$117:$Q$179,6,FALSE)),\"*\",VLOOKUP(CZ19,①初期設定!$C$117:$Q$179,6,FALSE))","v":"共男1500m"},{"$f":"IF(ISERROR(VLOOKUP(CZ19,①初期設定!$T$117:$AH$179,6,FALSE)),\"*\",VLOOKUP(CZ19,①初期設定!$T$117:$AH$179,6,FALSE))","v":"共女1500m"},{"$f":"IF(ISERROR(VLOOKUP(CZ19,①初期設定!$E$117:$Q$179,4,FALSE)),\"*\",VLOOKUP(CZ19,①初期設定!$E$117:$Q$179,4,FALSE))","v":"共男1500m"},{"$f":"IF(ISERROR(VLOOKUP(CZ19,①初期設定!$V$117:$AH$179,4,FALSE)),\"*\",VLOOKUP(CZ19,①初期設定!$V$117:$AH$179,4,FALSE))","v":"共女1500m"},{"$f":"IF(ISERROR(VLOOKUP(CZ19,①初期設定!$G$117:$Q$179,2,FALSE)),\"*\",VLOOKUP(CZ19,①初期設定!$G$117:$Q$179,2,FALSE))","v":"共男1500m"},{"$f":"IF(ISERROR(VLOOKUP(CZ19,①初期設定!$X$117:$AH$179,2,FALSE)),\"*\",VLOOKUP(CZ19,①初期設定!$X$117:$AH$179,2,FALSE))","v":"共女1500m"},"小4","小学","男子E","女子E",null,null,null,"高校女","高校女"]
[7,null,null,null,null,null,null,null,null,null,null,null,null,null,null,null,null,null,null,null,null,null,null,null,null,null,null,null,null,null,null,null,null,null,null,null,null,null,null,null,null,"",null,null,"",null,null,null,null,null,null,null,null,null,null,"",null,null,"",null,null,null,null,null,null,null,null,null,null,"",null,null,"",null,null,null,null,null,null,null,null,null,null,"400R","MR",0,"種目",0,0,0,"0",null,null,"北光幼稚園こどもOB","訓子府居武士小","大空女満別中","網走南ヶ丘高","ｵﾎｰﾂｸ陸協(川田)","風力計測",null,1975,"道央","小5",6,{"$f":"IF(ISERROR(VLOOKUP(CZ20,①初期設定!$C$49:$N$96,4,FALSE)),\"*\",VLOOKUP(CZ20,①初期設定!$C$49:$N$96,4,FALSE))","v":"*"},{"$f":"IF(ISERROR(VLOOKUP(CZ20,①初期設定!$Q$49:$AB$96,4,FALSE)),\"*\",VLOOKUP(CZ20,①初期設定!$Q$49:$AB$96,4,FALSE))","v":"*"},{"$f":"IF(ISERROR(VLOOKUP(CZ20,①初期設定!$E$49:$N$96,2,FALSE)),\"*\",VLOOKUP(CZ20,①初期設定!$E$49:$N$96,2,FALSE))","v":"小男3年800m"},{"$f":"IF(ISERROR(VLOOKUP(CZ20,①初期設定!$S$49:$AB$96,2,FALSE)),\"*\",VLOOKUP(CZ20,①初期設定!$S$49:$AB$96,2,FALSE))","v":"小女5年800m"},{"$f":"IF(ISERROR(VLOOKUP(CZ20,①初期設定!$C$117:$Q$179,6,FALSE)),\"*\",VLOOKUP(CZ20,①初期設定!$C$117:$Q$179,6,FALSE))","v":"共男3000m"},{"$f":"IF(ISERROR(VLOOKUP(CZ20,①初期設定!$T$117:$AH$179,6,FALSE)),\"*\",VLOOKUP(CZ20,①初期設定!$T$117:$AH$179,6,FALSE))","v":"共女3000m"},{"$f":"IF(ISERROR(VLOOKUP(CZ20,①初期設定!$E$117:$Q$179,4,FALSE)),\"*\",VLOOKUP(CZ20,①初期設定!$E$117:$Q$179,4,FALSE))","v":"共男5000m"},{"$f":"IF(ISERROR(VLOOKUP(CZ20,①初期設定!$V$117:$AH$179,4,FALSE)),\"*\",VLOOKUP(CZ20,①初期設定!$V$117:$AH$179,4,FALSE))","v":"共女3000m"},{"$f":"IF(ISERROR(VLOOKUP(CZ20,①初期設定!$G$117:$Q$179,2,FALSE)),\"*\",VLOOKUP(CZ20,①初期設定!$G$117:$Q$179,2,FALSE))","v":"共男5000m"},{"$f":"IF(ISERROR(VLOOKUP(CZ20,①初期設定!$X$117:$AH$179,2,FALSE)),\"*\",VLOOKUP(CZ20,①初期設定!$X$117:$AH$179,2,FALSE))","v":"共女3000m"},"小5","小学","男子F","女子F",null,null,null,"一般男","一般男"]
[8,null,null,null,null,null,null,null,null,null,null,null,null,null,null,null,null,null,null,null,null,null,null,null,null,null,null,null,null,null,null,null,null,null,null,null,null,null,null,null,null,"",null,null,"",null,null,null,null,null,null,null,null,null,null,"",null,null,"",null,null,null,null,null,null,null,null,null,null,"",null,null,"",null,null,null,null,null,null,null,null,null,null,"400R","MR",0,"種目",0,0,0,"0",null,null,"北見ﾏﾘｱ幼稚園","遠軽南小","美幌中","網走桂陽高","ｵﾎｰﾂｸ陸協(沼田)","用器具",null,1976,"空知","小6",7,{"$f":"IF(ISERROR(VLOOKUP(CZ21,①初期設定!$C$49:$N$96,4,FALSE)),\"*\",VLOOKUP(CZ21,①初期設定!$C$49:$N$96,4,FALSE))","v":"*"},{"$f":"IF(ISERROR(VLOOKUP(CZ21,①初期設定!$Q$49:$AB$96,4,FALSE)),\"*\",VLOOKUP(CZ21,①初期設定!$Q$49:$AB$96,4,FALSE))","v":"*"},{"$f":"IF(ISERROR(VLOOKUP(CZ21,①初期設定!$E$49:$N$96,2,FALSE)),\"*\",VLOOKUP(CZ21,①初期設定!$E$49:$N$96,2,FALSE))","v":"小男6年1500m"},{"$f":"IF(ISERROR(VLOOKUP(CZ21,①初期設定!$S$49:$AB$96,2,FALSE)),\"*\",VLOOKUP(CZ21,①初期設定!$S$49:$AB$96,2,FALSE))","v":"小女4年800m"},{"$f":"IF(ISERROR(VLOOKUP(CZ21,①初期設定!$C$117:$Q$179,6,FALSE)),\"*\",VLOOKUP(CZ21,①初期設定!$C$117:$Q$179,6,FALSE))","v":"中男110mH"},{"$f":"IF(ISERROR(VLOOKUP(CZ21,①初期設定!$T$117:$AH$179,6,FALSE)),\"*\",VLOOKUP(CZ21,①初期設定!$T$117:$AH$179,6,FALSE))","v":"中女100mH"},{"$f":"IF(ISERROR(VLOOKUP(CZ21,①初期設定!$E$117:$Q$179,4,FALSE)),\"*\",VLOOKUP(CZ21,①初期設定!$E$117:$Q$179,4,FALSE))","v":"共男110mH"},{"$f":"IF(ISERROR(VLOOKUP(CZ21,①初期設定!$V$117:$AH$179,4,FALSE)),\"*\",VLOOKUP(CZ21,①初期設定!$V$117:$AH$179,4,FALSE))","v":"共女100mH"},{"$f":"IF(ISERROR(VLOOKUP(CZ21,①初期設定!$G$117:$Q$179,2,FALSE)),\"*\",VLOOKUP(CZ21,①初期設定!$G$117:$Q$179,2,FALSE))","v":"共男110mH"},{"$f":"IF(ISERROR(VLOOKUP(CZ21,①初期設定!$X$117:$AH$179,2,FALSE)),\"*\",VLOOKUP(CZ21,①初期設定!$X$117:$AH$179,2,FALSE))","v":"共女100mH"},"小6","小学",null,null,null,null,null,"一般女","一般女"]
[9,null,null,null,null,null,null,null,null,null,null,null,null,null,null,null,null,null,null,null,null,null,null,null,null,null,null,null,null,null,null,null,null,null,null,null,null,null,null,null,null,"",null,null,"",null,null,null,null,null,null,null,null,null,null,"",null,null,"",null,null,null,null,null,null,null,null,null,null,"",null,null,"",null,null,null,null,null,null,null,null,null,null,"400R","MR",0,"種目",0,0,0,"0",null,null,null,"遠軽白滝小","美幌北中","紋別高","ｵﾎｰﾂｸ陸協(松田)","写真判定",null,1977,"道北","中1",8,{"$f":"IF(ISERROR(VLOOKUP(CZ22,①初期設定!$C$49:$N$96,4,FALSE)),\"*\",VLOOKUP(CZ22,①初期設定!$C$49:$N$96,4,FALSE))","v":"*"},{"$f":"IF(ISERROR(VLOOKUP(CZ22,①初期設定!$Q$49:$AB$96,4,FALSE)),\"*\",VLOOKUP(CZ22,①初期設定!$Q$49:$AB$96,4,FALSE))","v":"*"},{"$f":"IF(ISERROR(VLOOKUP(CZ22,①初期設定!$E$49:$N$96,2,FALSE)),\"*\",VLOOKUP(CZ22,①初期設定!$E$49:$N$96,2,FALSE))","v":"小男5年1500m"},{"$f":"IF(ISERROR(VLOOKUP(CZ22,①初期設定!$S$49:$AB$96,2,FALSE)),\"*\",VLOOKUP(CZ22,①初期設定!$S$49:$AB$96,2,FALSE))","v":"小女3年800m"},{"$f":"IF(ISERROR(VLOOKUP(CZ22,①初期設定!$C$117:$Q$179,6,FALSE)),\"*\",VLOOKUP(CZ22,①初期設定!$C$117:$Q$179,6,FALSE))","v":"中男走高跳"},{"$f":"IF(ISERROR(VLOOKUP(CZ22,①初期設定!$T$117:$AH$179,6,FALSE)),\"*\",VLOOKUP(CZ22,①初期設定!$T$117:$AH$179,6,FALSE))","v":"中女走高跳"},{"$f":"IF(ISERROR(VLOOKUP(CZ22,①初期設定!$E$117:$Q$179,4,FALSE)),\"*\",VLOOKUP(CZ22,①初期設定!$E$117:$Q$179,4,FALSE))","v":"共男400mH"},{"$f":"IF(ISERROR(VLOOKUP(CZ22,①初期設定!$V$117:$AH$179,4,FALSE)),\"*\",VLOOKUP(CZ22,①初期設定!$V$117:$AH$179,4,FALSE))","v":"共女400mH"},{"$f":"IF(ISERROR(VLOOKUP(CZ22,①初期設定!$G$117:$Q$179,2,FALSE)),\"*\",VLOOKUP(CZ22,①初期設定!$G$117:$Q$179,2,FALSE))","v":"共男400mH"},{"$f":"IF(ISERROR(VLOOKUP(CZ22,①初期設定!$X$117:$AH$179,2,FALSE)),\"*\",VLOOKUP(CZ22,①初期設定!$X$117:$AH$179,2,FALSE))","v":"共女400mH"},"中1","中学"]
[10,null,null,null,null,null,null,null,null,null,null,null,null,null,null,null,null,null,null,null,null,null,null,null,null,null,null,null,null,null,null,null,null,null,null,null,null,null,null,null,null,"",null,null,"",null,null,null,null,null,null,null,null,null,null,"",null,null,"",null,null,null,null,null,null,null,null,null,null,"",null,null,"",null,null,null,null,null,null,null,null,null,null,"400R","MR",0,"種目",0,0,0,"0",null,null,null,"興部小","遠軽中","美幌高","ｵﾎｰﾂｸ陸協(小川)","ｽﾀｰﾀｰ・ﾘｺｰﾗｰ",null,1978,"十勝","中2",9,{"$f":"IF(ISERROR(VLOOKUP(CZ23,①初期設定!$C$49:$N$96,4,FALSE)),\"*\",VLOOKUP(CZ23,①初期設定!$C$49:$N$96,4,FALSE))","v":"*"},{"$f":"IF(ISERROR(VLOOKUP(CZ23,①初期設定!$Q$49:$AB$96,4,FALSE)),\"*\",VLOOKUP(CZ23,①初期設定!$Q$49:$AB$96,4,FALSE))","v":"*"},{"$f":"IF(ISERROR(VLOOKUP(CZ23,①初期設定!$E$49:$N$96,2,FALSE)),\"*\",VLOOKUP(CZ23,①初期設定!$E$49:$N$96,2,FALSE))","v":"小男6年80mH"},{"$f":"IF(ISERROR(VLOOKUP(CZ23,①初期設定!$S$49:$AB$96,2,FALSE)),\"*\",VLOOKUP(CZ23,①初期設定!$S$49:$AB$96,2,FALSE))","v":"小女6年80mH"},{"$f":"IF(ISERROR(VLOOKUP(CZ23,①初期設定!$C$117:$Q$179,6,FALSE)),\"*\",VLOOKUP(CZ23,①初期設定!$C$117:$Q$179,6,FALSE))","v":"中男棒高跳"},{"$f":"IF(ISERROR(VLOOKUP(CZ23,①初期設定!$T$117:$AH$179,6,FALSE)),\"*\",VLOOKUP(CZ23,①初期設定!$T$117:$AH$179,6,FALSE))","v":"中女走幅跳"},{"$f":"IF(ISERROR(VLOOKUP(CZ23,①初期設定!$E$117:$Q$179,4,FALSE)),\"*\",VLOOKUP(CZ23,①初期設定!$E$117:$Q$179,4,FALSE))","v":"共男3000mSC"},{"$f":"IF(ISERROR(VLOOKUP(CZ23,①初期設定!$V$117:$AH$179,4,FALSE)),\"*\",VLOOKUP(CZ23,①初期設定!$V$117:$AH$179,4,FALSE))","v":"共女5000mW"},{"$f":"IF(ISERROR(VLOOKUP(CZ23,①初期設定!$G$117:$Q$179,2,FALSE)),\"*\",VLOOKUP(CZ23,①初期設定!$G$117:$Q$179,2,FALSE))","v":"共男3000mSC"},{"$f":"IF(ISERROR(VLOOKUP(CZ23,①初期設定!$X$117:$AH$179,2,FALSE)),\"*\",VLOOKUP(CZ23,①初期設定!$X$117:$AH$179,2,FALSE))","v":"共女5000mW"},"中2","中学"]
[11,null,null,null,null,null,null,null,null,null,null,null,null,null,null,null,null,null,null,null,null,null,null,null,null,null,null,null,null,null,null,null,null,null,null,null,null,null,null,null,null,"",null,null,"",null,null,null,null,null,null,null,null,null,null,"",null,null,"",null,null,null,null,null,null,null,null,null,null,"",null,null,"",null,null,null,null,null,null,null,null,null,null,"400R","MR",0,"種目",0,0,0,"0",null,null,null,"北見中央小","遠軽南中","斜里高","ｵﾎｰﾂｸ陸協(榊)","計時・決審",null,1979,"釧路地方","中3",10,{"$f":"IF(ISERROR(VLOOKUP(CZ24,①初期設定!$C$49:$N$96,4,FALSE)),\"*\",VLOOKUP(CZ24,①初期設定!$C$49:$N$96,4,FALSE))","v":"*"},{"$f":"IF(ISERROR(VLOOKUP(CZ24,①初期設定!$Q$49:$AB$96,4,FALSE)),\"*\",VLOOKUP(CZ24,①初期設定!$Q$49:$AB$96,4,FALSE))","v":"*"},{"$f":"IF(ISERROR(VLOOKUP(CZ24,①初期設定!$E$49:$N$96,2,FALSE)),\"*\",VLOOKUP(CZ24,①初期設定!$E$49:$N$96,2,FALSE))","v":"小男5年80mH"},{"$f":"IF(ISERROR(VLOOKUP(CZ24,①初期設定!$S$49:$AB$96,2,FALSE)),\"*\",VLOOKUP(CZ24,①初期設定!$S$49:$AB$96,2,FALSE))","v":"小女5年80mH"},{"$f":"IF(ISERROR(VLOOKUP(CZ24,①初期設定!$C$117:$Q$179,6,FALSE)),\"*\",VLOOKUP(CZ24,①初期設定!$C$117:$Q$179,6,FALSE))","v":"中男走幅跳"},{"$f":"IF(ISERROR(VLOOKUP(CZ24,①初期設定!$T$117:$AH$179,6,FALSE)),\"*\",VLOOKUP(CZ24,①初期設定!$T$117:$AH$179,6,FALSE))","v":"中女砲丸"},{"$f":"IF(ISERROR(VLOOKUP(CZ24,①初期設定!$E$117:$Q$179,4,FALSE)),\"*\",VLOOKUP(CZ24,①初期設定!$E$117:$Q$179,4,FALSE))","v":"共男5000mW"},{"$f":"IF(ISERROR(VLOOKUP(CZ24,①初期設定!$V$117:$AH$179,4,FALSE)),\"*\",VLOOKUP(CZ24,①初期設定!$V$117:$AH$179,4,FALSE))","v":"共女走高跳"},{"$f":"IF(ISERROR(VLOOKUP(CZ24,①初期設定!$G$117:$Q$179,2,FALSE)),\"*\",VLOOKUP(CZ24,①初期設定!$G$117:$Q$179,2,FALSE))","v":"共男5000mW"},{"$f":"IF(ISERROR(VLOOKUP(CZ24,①初期設定!$X$117:$AH$179,2,FALSE)),\"*\",VLOOKUP(CZ24,①初期設定!$X$117:$AH$179,2,FALSE))","v":"共女走高跳"},"中3","中学"]
[12,null,null,null,null,null,null,null,null,null,null,null,null,null,null,null,null,null,null,null,null,null,null,null,null,null,null,null,null,null,null,null,null,null,null,null,null,null,null,null,null,"",null,null,"",null,null,null,null,null,null,null,null,null,null,"",null,null,"",null,null,null,null,null,null,null,null,null,null,"",null,null,"",null,null,null,null,null,null,null,null,null,null,"400R","MR",0,"種目",0,0,0,"0",null,null,null,"北見東小","遠軽白滝中","留辺蘂高","ｵﾎｰﾂｸ陸協(佐々木)","競技者係",null,1980,"オホーツク","高1",11,{"$f":"IF(ISERROR(VLOOKUP(CZ25,①初期設定!$C$49:$N$96,4,FALSE)),\"*\",VLOOKUP(CZ25,①初期設定!$C$49:$N$96,4,FALSE))","v":"*"},{"$f":"IF(ISERROR(VLOOKUP(CZ25,①初期設定!$Q$49:$AB$96,4,FALSE)),\"*\",VLOOKUP(CZ25,①初期設定!$Q$49:$AB$96,4,FALSE))","v":"*"},{"$f":"IF(ISERROR(VLOOKUP(CZ25,①初期設定!$E$49:$N$96,2,FALSE)),\"*\",VLOOKUP(CZ25,①初期設定!$E$49:$N$96,2,FALSE))","v":"小男6年走高跳"},{"$f":"IF(ISERROR(VLOOKUP(CZ25,①初期設定!$S$49:$AB$96,2,FALSE)),\"*\",VLOOKUP(CZ25,①初期設定!$S$49:$AB$96,2,FALSE))","v":"小女6年走高跳"},{"$f":"IF(ISERROR(VLOOKUP(CZ25,①初期設定!$C$117:$Q$179,6,FALSE)),\"*\",VLOOKUP(CZ25,①初期設定!$C$117:$Q$179,6,FALSE))","v":"中男砲丸"},{"$f":"IF(ISERROR(VLOOKUP(CZ25,①初期設定!$T$117:$AH$179,6,FALSE)),\"*\",VLOOKUP(CZ25,①初期設定!$T$117:$AH$179,6,FALSE))","v":"中女円盤"},{"$f":"IF(ISERROR(VLOOKUP(CZ25,①初期設定!$E$117:$Q$179,4,FALSE)),\"*\",VLOOKUP(CZ25,①初期設定!$E$117:$Q$179,4,FALSE))","v":"共男走高跳"},{"$f":"IF(ISERROR(VLOOKUP(CZ25,①初期設定!$V$117:$AH$179,4,FALSE)),\"*\",VLOOKUP(CZ25,①初期設定!$V$117:$AH$179,4,FALSE))","v":"共女棒高跳"},{"$f":"IF(ISERROR(VLOOKUP(CZ25,①初期設定!$G$117:$Q$179,2,FALSE)),\"*\",VLOOKUP(CZ25,①初期設定!$G$117:$Q$179,2,FALSE))","v":"共男走高跳"},{"$f":"IF(ISERROR(VLOOKUP(CZ25,①初期設定!$X$117:$AH$179,2,FALSE)),\"*\",VLOOKUP(CZ25,①初期設定!$X$117:$AH$179,2,FALSE))","v":"共女棒高跳"},"高1","高校"]
[13,null,null,null,null,null,null,null,null,null,null,null,null,null,null,null,null,null,null,null,null,null,null,null,null,null,null,null,null,null,null,null,null,null,null,null,null,null,null,null,null,"",null,null,"",null,null,null,null,null,null,null,null,null,null,"",null,null,"",null,null,null,null,null,null,null,null,null,null,"",null,null,"",null,null,null,null,null,null,null,null,null,null,"400R","MR",0,"種目",0,0,0,"0",null,null,null,"北見西小","遠軽丸瀬布中","常呂高","ｵﾎｰﾂｸ陸協(今枝)","出発係",null,1981,null,"高2",12,{"$f":"IF(ISERROR(VLOOKUP(CZ26,①初期設定!$C$49:$N$96,4,FALSE)),\"*\",VLOOKUP(CZ26,①初期設定!$C$49:$N$96,4,FALSE))","v":"*"},{"$f":"IF(ISERROR(VLOOKUP(CZ26,①初期設定!$Q$49:$AB$96,4,FALSE)),\"*\",VLOOKUP(CZ26,①初期設定!$Q$49:$AB$96,4,FALSE))","v":"*"},{"$f":"IF(ISERROR(VLOOKUP(CZ26,①初期設定!$E$49:$N$96,2,FALSE)),\"*\",VLOOKUP(CZ26,①初期設定!$E$49:$N$96,2,FALSE))","v":"小男5年走高跳"},{"$f":"IF(ISERROR(VLOOKUP(CZ26,①初期設定!$S$49:$AB$96,2,FALSE)),\"*\",VLOOKUP(CZ26,①初期設定!$S$49:$AB$96,2,FALSE))","v":"小女5年走高跳"},{"$f":"IF(ISERROR(VLOOKUP(CZ26,①初期設定!$C$117:$Q$179,6,FALSE)),\"*\",VLOOKUP(CZ26,①初期設定!$C$117:$Q$179,6,FALSE))","v":"中男円盤"},{"$f":"IF(ISERROR(VLOOKUP(CZ26,①初期設定!$T$117:$AH$179,6,FALSE)),\"*\",VLOOKUP(CZ26,①初期設定!$T$117:$AH$179,6,FALSE))","v":"中女四種競技"},{"$f":"IF(ISERROR(VLOOKUP(CZ26,①初期設定!$E$117:$Q$179,4,FALSE)),\"*\",VLOOKUP(CZ26,①初期設定!$E$117:$Q$179,4,FALSE))","v":"共男棒高跳"},{"$f":"IF(ISERROR(VLOOKUP(CZ26,①初期設定!$V$117:$AH$179,4,FALSE)),\"*\",VLOOKUP(CZ26,①初期設定!$V$117:$AH$179,4,FALSE))","v":"共女走幅跳"},{"$f":"IF(ISERROR(VLOOKUP(CZ26,①初期設定!$G$117:$Q$179,2,FALSE)),\"*\",VLOOKUP(CZ26,①初期設定!$G$117:$Q$179,2,FALSE))","v":"共男棒高跳"},{"$f":"IF(ISERROR(VLOOKUP(CZ26,①初期設定!$X$117:$AH$179,2,FALSE)),\"*\",VLOOKUP(CZ26,①初期設定!$X$117:$AH$179,2,FALSE))","v":"共女走幅跳"},"高2","高校"]
[14,null,null,null,null,null,null,null,null,null,null,null,null,null,null,null,null,null,null,null,null,null,null,null,null,null,null,null,null,null,null,null,null,null,null,null,null,null,null,null,null,"",null,null,"",null,null,null,null,null,null,null,null,null,null,"",null,null,"",null,null,null,null,null,null,null,null,null,null,"",null,null,"",null,null,null,null,null,null,null,null,null,null,"400R","MR",0,"種目",0,0,0,"0",null,null,null,"北見南小","湧別中","遠軽高","ｵﾎｰﾂｸ陸協(小倉)","周回記録",null,1982,null,"高3",13,{"$f":"IF(ISERROR(VLOOKUP(CZ27,①初期設定!$C$49:$N$96,4,FALSE)),\"*\",VLOOKUP(CZ27,①初期設定!$C$49:$N$96,4,FALSE))","v":"*"},{"$f":"IF(ISERROR(VLOOKUP(CZ27,①初期設定!$Q$49:$AB$96,4,FALSE)),\"*\",VLOOKUP(CZ27,①初期設定!$Q$49:$AB$96,4,FALSE))","v":"*"},{"$f":"IF(ISERROR(VLOOKUP(CZ27,①初期設定!$E$49:$N$96,2,FALSE)),\"*\",VLOOKUP(CZ27,①初期設定!$E$49:$N$96,2,FALSE))","v":"小男6年走幅跳"},{"$f":"IF(ISERROR(VLOOKUP(CZ27,①初期設定!$S$49:$AB$96,2,FALSE)),\"*\",VLOOKUP(CZ27,①初期設定!$S$49:$AB$96,2,FALSE))","v":"小女6年走幅跳"},{"$f":"IF(ISERROR(VLOOKUP(CZ27,①初期設定!$C$117:$Q$179,6,FALSE)),\"*\",VLOOKUP(CZ27,①初期設定!$C$117:$Q$179,6,FALSE))","v":"中男ｼﾞｬﾍﾞﾘｯｸ"},{"$f":"IF(ISERROR(VLOOKUP(CZ27,①初期設定!$T$117:$AH$179,6,FALSE)),\"*\",VLOOKUP(CZ27,①初期設定!$T$117:$AH$179,6,FALSE))","v":"中女ｼﾞｬﾍﾞﾘｯｸ"},{"$f":"IF(ISERROR(VLOOKUP(CZ27,①初期設定!$E$117:$Q$179,4,FALSE)),\"*\",VLOOKUP(CZ27,①初期設定!$E$117:$Q$179,4,FALSE))","v":"共男走幅跳"},{"$f":"IF(ISERROR(VLOOKUP(CZ27,①初期設定!$V$117:$AH$179,4,FALSE)),\"*\",VLOOKUP(CZ27,①初期設定!$V$117:$AH$179,4,FALSE))","v":"共女三段跳"},{"$f":"IF(ISERROR(VLOOKUP(CZ27,①初期設定!$G$117:$Q$179,2,FALSE)),\"*\",VLOOKUP(CZ27,①初期設定!$G$117:$Q$179,2,FALSE))","v":"共男走幅跳"},{"$f":"IF(ISERROR(VLOOKUP(CZ27,①初期設定!$X$117:$AH$179,2,FALSE)),\"*\",VLOOKUP(CZ27,①初期設定!$X$117:$AH$179,2,FALSE))","v":"共女三段跳"},"高3","高校"]
[15,null,null,null,null,null,null,null,null,null,null,null,null,null,null,null,null,null,null,null,null,null,null,null,null,null,null,null,null,null,null,null,null,null,null,null,null,null,null,null,null,"",null,null,"",null,null,null,null,null,null,null,null,null,null,"",null,null,"",null,null,null,null,null,null,null,null,null,null,"",null,null,"",null,null,null,null,null,null,null,null,null,null,"400R","MR",0,"種目",0,0,0,"0",null,null,null,"北見北小","興部沙留中","湧別高","ｵﾎｰﾂｸ陸協(三浦)","役員係",null,1983,null,"一般",14,{"$f":"IF(ISERROR(VLOOKUP(CZ28,①初期設定!$C$49:$N$96,4,FALSE)),\"*\",VLOOKUP(CZ28,①初期設定!$C$49:$N$96,4,FALSE))","v":"*"},{"$f":"IF(ISERROR(VLOOKUP(CZ28,①初期設定!$Q$49:$AB$96,4,FALSE)),\"*\",VLOOKUP(CZ28,①初期設定!$Q$49:$AB$96,4,FALSE))","v":"*"},{"$f":"IF(ISERROR(VLOOKUP(CZ28,①初期設定!$E$49:$N$96,2,FALSE)),\"*\",VLOOKUP(CZ28,①初期設定!$E$49:$N$96,2,FALSE))","v":"小男5年走幅跳"},{"$f":"IF(ISERROR(VLOOKUP(CZ28,①初期設定!$S$49:$AB$96,2,FALSE)),\"*\",VLOOKUP(CZ28,①初期設定!$S$49:$AB$96,2,FALSE))","v":"小女5年走幅跳"},{"$f":"IF(ISERROR(VLOOKUP(CZ28,①初期設定!$C$117:$Q$179,6,FALSE)),\"*\",VLOOKUP(CZ28,①初期設定!$C$117:$Q$179,6,FALSE))","v":"中男四種競技"},{"$f":"IF(ISERROR(VLOOKUP(CZ28,①初期設定!$T$117:$AH$179,6,FALSE)),\"*\",VLOOKUP(CZ28,①初期設定!$T$117:$AH$179,6,FALSE))","v":"*"},{"$f":"IF(ISERROR(VLOOKUP(CZ28,①初期設定!$E$117:$Q$179,4,FALSE)),\"*\",VLOOKUP(CZ28,①初期設定!$E$117:$Q$179,4,FALSE))","v":"共男三段跳"},{"$f":"IF(ISERROR(VLOOKUP(CZ28,①初期設定!$V$117:$AH$179,4,FALSE)),\"*\",VLOOKUP(CZ28,①初期設定!$V$117:$AH$179,4,FALSE))","v":"共女砲丸"},{"$f":"IF(ISERROR(VLOOKUP(CZ28,①初期設定!$G$117:$Q$179,2,FALSE)),\"*\",VLOOKUP(CZ28,①初期設定!$G$117:$Q$179,2,FALSE))","v":"共男三段跳"},{"$f":"IF(ISERROR(VLOOKUP(CZ28,①初期設定!$X$117:$AH$179,2,FALSE)),\"*\",VLOOKUP(CZ28,①初期設定!$X$117:$AH$179,2,FALSE))","v":"共女砲丸"},"一般","一般"]
[16,null,null,null,null,null,null,null,null,null,null,null,null,null,null,null,null,null,null,null,null,null,null,null,null,null,null,null,null,null,null,null,null,null,null,null,null,null,null,null,null,"",null,null,"",null,null,null,null,null,null,null,null,null,null,"",null,null,"",null,null,null,null,null,null,null,null,null,null,"",null,null,"",null,null,null,null,null,null,null,null,null,null,"400R","MR",0,"種目",0,0,0,"0",null,null,null,"北見小泉小","雄武中","興部高","ｵﾎｰﾂｸ陸協(天野)","監察員",null,1984,null,null,15,{"$f":"IF(ISERROR(VLOOKUP(CZ29,①初期設定!$C$49:$N$96,4,FALSE)),\"*\",VLOOKUP(CZ29,①初期設定!$C$49:$N$96,4,FALSE))","v":"*"},{"$f":"IF(ISERROR(VLOOKUP(CZ29,①初期設定!$Q$49:$AB$96,4,FALSE)),\"*\",VLOOKUP(CZ29,①初期設定!$Q$49:$AB$96,4,FALSE))","v":"*"},{"$f":"IF(ISERROR(VLOOKUP(CZ29,①初期設定!$E$49:$N$96,2,FALSE)),\"*\",VLOOKUP(CZ29,①初期設定!$E$49:$N$96,2,FALSE))","v":"小男4年走幅跳"},{"$f":"IF(ISERROR(VLOOKUP(CZ29,①初期設定!$S$49:$AB$96,2,FALSE)),\"*\",VLOOKUP(CZ29,①初期設定!$S$49:$AB$96,2,FALSE))","v":"小女4年走幅跳"},{"$f":"IF(ISERROR(VLOOKUP(CZ29,①初期設定!$C$117:$Q$179,6,FALSE)),\"*\",VLOOKUP(CZ29,①初期設定!$C$117:$Q$179,6,FALSE))","v":"*"},{"$f":"IF(ISERROR(VLOOKUP(CZ29,①初期設定!$T$117:$AH$179,6,FALSE)),\"*\",VLOOKUP(CZ29,①初期設定!$T$117:$AH$179,6,FALSE))","v":"*"},{"$f":"IF(ISERROR(VLOOKUP(CZ29,①初期設定!$E$117:$Q$179,4,FALSE)),\"*\",VLOOKUP(CZ29,①初期設定!$E$117:$Q$179,4,FALSE))","v":"高校男砲丸"},{"$f":"IF(ISERROR(VLOOKUP(CZ29,①初期設定!$V$117:$AH$179,4,FALSE)),\"*\",VLOOKUP(CZ29,①初期設定!$V$117:$AH$179,4,FALSE))","v":"共女円盤"},{"$f":"IF(ISERROR(VLOOKUP(CZ29,①初期設定!$G$117:$Q$179,2,FALSE)),\"*\",VLOOKUP(CZ29,①初期設定!$G$117:$Q$179,2,FALSE))","v":"一般男砲丸"},{"$f":"IF(ISERROR(VLOOKUP(CZ29,①初期設定!$X$117:$AH$179,2,FALSE)),\"*\",VLOOKUP(CZ29,①初期設定!$X$117:$AH$179,2,FALSE))","v":"共女円盤"}]
[17,null,null,null,null,null,null,null,null,null,null,null,null,null,null,null,null,null,null,null,null,null,null,null,null,null,null,null,null,null,null,null,null,null,null,null,null,null,null,null,null,"",null,null,"",null,null,null,null,null,null,null,null,null,null,"",null,null,"",null,null,null,null,null,null,null,null,null,null,"",null,null,"",null,null,null,null,null,null,null,null,null,null,"400R","MR",0,"種目",0,0,0,"0",null,null,null,"北見三輪小","北見東陵中","滝上高","ｵﾎｰﾂｸ陸協(神代)","表彰係",null,1985,null,null,16,{"$f":"IF(ISERROR(VLOOKUP(CZ30,①初期設定!$C$49:$N$96,4,FALSE)),\"*\",VLOOKUP(CZ30,①初期設定!$C$49:$N$96,4,FALSE))","v":"*"},{"$f":"IF(ISERROR(VLOOKUP(CZ30,①初期設定!$Q$49:$AB$96,4,FALSE)),\"*\",VLOOKUP(CZ30,①初期設定!$Q$49:$AB$96,4,FALSE))","v":"*"},{"$f":"IF(ISERROR(VLOOKUP(CZ30,①初期設定!$E$49:$N$96,2,FALSE)),\"*\",VLOOKUP(CZ30,①初期設定!$E$49:$N$96,2,FALSE))","v":"小男6年砲丸"},{"$f":"IF(ISERROR(VLOOKUP(CZ30,①初期設定!$S$49:$AB$96,2,FALSE)),\"*\",VLOOKUP(CZ30,①初期設定!$S$49:$AB$96,2,FALSE))","v":"小女6年砲丸"},{"$f":"IF(ISERROR(VLOOKUP(CZ30,①初期設定!$C$117:$Q$179,6,FALSE)),\"*\",VLOOKUP(CZ30,①初期設定!$C$117:$Q$179,6,FALSE))","v":"*"},{"$f":"IF(ISERROR(VLOOKUP(CZ30,①初期設定!$T$117:$AH$179,6,FALSE)),\"*\",VLOOKUP(CZ30,①初期設定!$T$117:$AH$179,6,FALSE))","v":"*"},{"$f":"IF(ISERROR(VLOOKUP(CZ30,①初期設定!$E$117:$Q$179,4,FALSE)),\"*\",VLOOKUP(CZ30,①初期設定!$E$117:$Q$179,4,FALSE))","v":"高校男円盤"},{"$f":"IF(ISERROR(VLOOKUP(CZ30,①初期設定!$V$117:$AH$179,4,FALSE)),\"*\",VLOOKUP(CZ30,①初期設定!$V$117:$AH$179,4,FALSE))","v":"共女ハンマー"},{"$f":"IF(ISERROR(VLOOKUP(CZ30,①初期設定!$G$117:$Q$179,2,FALSE)),\"*\",VLOOKUP(CZ30,①初期設定!$G$117:$Q$179,2,FALSE))","v":"一般男円盤"},{"$f":"IF(ISERROR(VLOOKUP(CZ30,①初期設定!$X$117:$AH$179,2,FALSE)),\"*\",VLOOKUP(CZ30,①初期設定!$X$117:$AH$179,2,FALSE))","v":"共女ハンマー"}]
[18,null,null,null,null,null,null,null,null,null,null,null,null,null,null,null,null,null,null,null,null,null,null,null,null,null,null,null,null,null,null,null,null,null,null,null,null,null,null,null,null,"",null,null,"",null,null,null,null,null,null,null,null,null,null,"",null,null,"",null,null,null,null,null,null,null,null,null,null,"",null,null,"",null,null,null,null,null,null,null,null,null,null,"400R","MR",0,"種目",0,0,0,"0",null,null,null,"北見緑小","北見光西中","雄武高","北見工大","跳躍審判",null,1986,null,null,17,{"$f":"IF(ISERROR(VLOOKUP(CZ31,①初期設定!$C$49:$N$96,4,FALSE)),\"*\",VLOOKUP(CZ31,①初期設定!$C$49:$N$96,4,FALSE))","v":"*"},{"$f":"IF(ISERROR(VLOOKUP(CZ31,①初期設定!$Q$49:$AB$96,4,FALSE)),\"*\",VLOOKUP(CZ31,①初期設定!$Q$49:$AB$96,4,FALSE))","v":"*"},{"$f":"IF(ISERROR(VLOOKUP(CZ31,①初期設定!$E$49:$N$96,2,FALSE)),\"*\",VLOOKUP(CZ31,①初期設定!$E$49:$N$96,2,FALSE))","v":"小男6年ｼﾞｬﾍﾞﾘｯｸﾎﾞｰﾙｽﾛｰ"},{"$f":"IF(ISERROR(VLOOKUP(CZ31,①初期設定!$S$49:$AB$96,2,FALSE)),\"*\",VLOOKUP(CZ31,①初期設定!$S$49:$AB$96,2,FALSE))","v":"小女6年ｼﾞｬﾍﾞﾘｯｸﾎﾞｰﾙｽﾛｰ"},{"$f":"IF(ISERROR(VLOOKUP(CZ31,①初期設定!$C$117:$Q$179,6,FALSE)),\"*\",VLOOKUP(CZ31,①初期設定!$C$117:$Q$179,6,FALSE))","v":"*"},{"$f":"IF(ISERROR(VLOOKUP(CZ31,①初期設定!$T$117:$AH$179,6,FALSE)),\"*\",VLOOKUP(CZ31,①初期設定!$T$117:$AH$179,6,FALSE))","v":"*"},{"$f":"IF(ISERROR(VLOOKUP(CZ31,①初期設定!$E$117:$Q$179,4,FALSE)),\"*\",VLOOKUP(CZ31,①初期設定!$E$117:$Q$179,4,FALSE))","v":"高校男ハンマー"},{"$f":"IF(ISERROR(VLOOKUP(CZ31,①初期設定!$V$117:$AH$179,4,FALSE)),\"*\",VLOOKUP(CZ31,①初期設定!$V$117:$AH$179,4,FALSE))","v":"共女やり(600g)"},{"$f":"IF(ISERROR(VLOOKUP(CZ31,①初期設定!$G$117:$Q$179,2,FALSE)),\"*\",VLOOKUP(CZ31,①初期設定!$G$117:$Q$179,2,FALSE))","v":"一般男ハンマー"},{"$f":"IF(ISERROR(VLOOKUP(CZ31,①初期設定!$X$117:$AH$179,2,FALSE)),\"*\",VLOOKUP(CZ31,①初期設定!$X$117:$AH$179,2,FALSE))","v":"共女やり(600g)"}]
[19,null,null,null,null,null,null,null,null,null,null,null,null,null,null,null,null,null,null,null,null,null,null,null,null,null,null,null,null,null,null,null,null,null,null,null,null,null,null,null,null,"",null,null,"",null,null,null,null,null,null,null,null,null,null,"",null,null,"",null,null,null,null,null,null,null,null,null,null,"",null,null,"",null,null,null,null,null,null,null,null,null,null,"400R","MR",0,"種目",0,0,0,"0",null,null,null,"北見緑小(福井)","北見南中","訓子府高","東京農大","投擲審判",null,1987,null,null,18,{"$f":"IF(ISERROR(VLOOKUP(CZ32,①初期設定!$C$49:$N$96,4,FALSE)),\"*\",VLOOKUP(CZ32,①初期設定!$C$49:$N$96,4,FALSE))","v":"*"},{"$f":"IF(ISERROR(VLOOKUP(CZ32,①初期設定!$Q$49:$AB$96,4,FALSE)),\"*\",VLOOKUP(CZ32,①初期設定!$Q$49:$AB$96,4,FALSE))","v":"*"},{"$f":"IF(ISERROR(VLOOKUP(CZ32,①初期設定!$E$49:$N$96,2,FALSE)),\"*\",VLOOKUP(CZ32,①初期設定!$E$49:$N$96,2,FALSE))","v":"小男5年ｼﾞｬﾍﾞﾘｯｸﾎﾞｰﾙｽﾛｰ"},{"$f":"IF(ISERROR(VLOOKUP(CZ32,①初期設定!$S$49:$AB$96,2,FALSE)),\"*\",VLOOKUP(CZ32,①初期設定!$S$49:$AB$96,2,FALSE))","v":"小女5年ｼﾞｬﾍﾞﾘｯｸﾎﾞｰﾙｽﾛｰ"},{"$f":"IF(ISERROR(VLOOKUP(CZ32,①初期設定!$C$117:$Q$179,6,FALSE)),\"*\",VLOOKUP(CZ32,①初期設定!$C$117:$Q$179,6,FALSE))","v":"*"},{"$f":"IF(ISERROR(VLOOKUP(CZ32,①初期設定!$T$117:$AH$179,6,FALSE)),\"*\",VLOOKUP(CZ32,①初期設定!$T$117:$AH$179,6,FALSE))","v":"*"},{"$f":"IF(ISERROR(VLOOKUP(CZ32,①初期設定!$E$117:$Q$179,4,FALSE)),\"*\",VLOOKUP(CZ32,①初期設定!$E$117:$Q$179,4,FALSE))","v":"共男やり(800g)"},{"$f":"IF(ISERROR(VLOOKUP(CZ32,①初期設定!$V$117:$AH$179,4,FALSE)),\"*\",VLOOKUP(CZ32,①初期設定!$V$117:$AH$179,4,FALSE))","v":"共女七種競技"},{"$f":"IF(ISERROR(VLOOKUP(CZ32,①初期設定!$G$117:$Q$179,2,FALSE)),\"*\",VLOOKUP(CZ32,①初期設定!$G$117:$Q$179,2,FALSE))","v":"共男やり(800g)"},{"$f":"IF(ISERROR(VLOOKUP(CZ32,①初期設定!$X$117:$AH$179,2,FALSE)),\"*\",VLOOKUP(CZ32,①初期設定!$X$117:$AH$179,2,FALSE))","v":"*"}]
[20,null,null,null,null,null,null,null,null,null,null,null,null,null,null,null,null,null,null,null,null,null,null,null,null,null,null,null,null,null,null,null,null,null,null,null,null,null,null,null,null,"",null,null,"",null,null,null,null,null,null,null,null,null,null,"",null,null,"",null,null,null,null,null,null,null,null,null,null,"",null,null,"",null,null,null,null,null,null,null,null,null,null,"400R","MR",0,"種目",0,0,0,"0",null,null,null,"北見緑小(高橋)","北見北中","女満別高","ｵﾎｰﾂｸAC",null,null,1988,null,null,19,{"$f":"IF(ISERROR(VLOOKUP(CZ33,①初期設定!$C$49:$N$96,4,FALSE)),\"*\",VLOOKUP(CZ33,①初期設定!$C$49:$N$96,4,FALSE))","v":"*"},{"$f":"IF(ISERROR(VLOOKUP(CZ33,①初期設定!$Q$49:$AB$96,4,FALSE)),\"*\",VLOOKUP(CZ33,①初期設定!$Q$49:$AB$96,4,FALSE))","v":"*"},{"$f":"IF(ISERROR(VLOOKUP(CZ33,①初期設定!$E$49:$N$96,2,FALSE)),\"*\",VLOOKUP(CZ33,①初期設定!$E$49:$N$96,2,FALSE))","v":"小男4年ｼﾞｬﾍﾞﾘｯｸﾎﾞｰﾙｽﾛｰ"},{"$f":"IF(ISERROR(VLOOKUP(CZ33,①初期設定!$S$49:$AB$96,2,FALSE)),\"*\",VLOOKUP(CZ33,①初期設定!$S$49:$AB$96,2,FALSE))","v":"小女4年ｼﾞｬﾍﾞﾘｯｸﾎﾞｰﾙｽﾛｰ"},{"$f":"IF(ISERROR(VLOOKUP(CZ33,①初期設定!$C$117:$Q$179,6,FALSE)),\"*\",VLOOKUP(CZ33,①初期設定!$C$117:$Q$179,6,FALSE))","v":"*"},{"$f":"IF(ISERROR(VLOOKUP(CZ33,①初期設定!$T$117:$AH$179,6,FALSE)),\"*\",VLOOKUP(CZ33,①初期設定!$T$117:$AH$179,6,FALSE))","v":"*"},{"$f":"IF(ISERROR(VLOOKUP(CZ33,①初期設定!$E$117:$Q$179,4,FALSE)),\"*\",VLOOKUP(CZ33,①初期設定!$E$117:$Q$179,4,FALSE))","v":"高校男八種競技"},{"$f":"IF(ISERROR(VLOOKUP(CZ33,①初期設定!$V$117:$AH$179,4,FALSE)),\"*\",VLOOKUP(CZ33,①初期設定!$V$117:$AH$179,4,FALSE))","v":"*"},{"$f":"IF(ISERROR(VLOOKUP(CZ33,①初期設定!$G$117:$Q$179,2,FALSE)),\"*\",VLOOKUP(CZ33,①初期設定!$G$117:$Q$179,2,FALSE))","v":"*"},{"$f":"IF(ISERROR(VLOOKUP(CZ33,①初期設定!$X$117:$AH$179,2,FALSE)),\"*\",VLOOKUP(CZ33,①初期設定!$X$117:$AH$179,2,FALSE))","v":"*"}]
[21,null,null,null,null,null,null,null,null,null,null,null,null,null,null,null,null,null,null,null,null,null,null,null,null,null,null,null,null,null,null,null,null,null,null,null,null,null,null,null,null,"",null,null,"",null,null,null,null,null,null,null,null,null,null,"",null,null,"",null,null,null,null,null,null,null,null,null,null,"",null,null,"",null,null,null,null,null,null,null,null,null,null,"400R","MR",0,"種目",0,0,0,"0",null,null,null,"北見北光小","北見高栄中","東藻琴高","札幌大(佐藤)",null,null,1989,null,null,20,{"$f":"IF(ISERROR(VLOOKUP(CZ34,①初期設定!$C$49:$N$96,4,FALSE)),\"*\",VLOOKUP(CZ34,①初期設定!$C$49:$N$96,4,FALSE))","v":"*"},{"$f":"IF(ISERROR(VLOOKUP(CZ34,①初期設定!$Q$49:$AB$96,4,FALSE)),\"*\",VLOOKUP(CZ34,①初期設定!$Q$49:$AB$96,4,FALSE))","v":"*"},{"$f":"IF(ISERROR(VLOOKUP(CZ34,①初期設定!$E$49:$N$96,2,FALSE)),\"*\",VLOOKUP(CZ34,①初期設定!$E$49:$N$96,2,FALSE))","v":"小男3年ｼﾞｬﾍﾞﾘｯｸﾎﾞｰﾙｽﾛｰ"},{"$f":"IF(ISERROR(VLOOKUP(CZ34,①初期設定!$S$49:$AB$96,2,FALSE)),\"*\",VLOOKUP(CZ34,①初期設定!$S$49:$AB$96,2,FALSE))","v":"小女3年ｼﾞｬﾍﾞﾘｯｸﾎﾞｰﾙｽﾛｰ"},{"$f":"IF(ISERROR(VLOOKUP(CZ34,①初期設定!$C$117:$Q$179,6,FALSE)),\"*\",VLOOKUP(CZ34,①初期設定!$C$117:$Q$179,6,FALSE))","v":"*"},{"$f":"IF(ISERROR(VLOOKUP(CZ34,①初期設定!$T$117:$AH$179,6,FALSE)),\"*\",VLOOKUP(CZ34,①初期設定!$T$117:$AH$179,6,FALSE))","v":"*"},{"$f":"IF(ISERROR(VLOOKUP(CZ34,①初期設定!$E$117:$Q$179,4,FALSE)),\"*\",VLOOKUP(CZ34,①初期設定!$E$117:$Q$179,4,FALSE))","v":"*"},{"$f":"IF(ISERROR(VLOOKUP(CZ34,①初期設定!$V$117:$AH$179,4,FALSE)),\"*\",VLOOKUP(CZ34,①初期設定!$V$117:$AH$179,4,FALSE))","v":"*"},{"$f":"IF(ISERROR(VLOOKUP(CZ34,①初期設定!$G$117:$Q$179,2,FALSE)),\"*\",VLOOKUP(CZ34,①初期設定!$G$117:$Q$179,2,FALSE))","v":"*"},{"$f":"IF(ISERROR(VLOOKUP(CZ34,①初期設定!$X$117:$AH$179,2,FALSE)),\"*\",VLOOKUP(CZ34,①初期設定!$X$117:$AH$179,2,FALSE))","v":"*"}]
[22,null,null,null,null,null,null,null,null,null,null,null,null,null,null,null,null,null,null,null,null,null,null,null,null,null,null,null,null,null,null,null,null,null,null,null,null,null,null,null,null,"",null,null,"",null,null,null,null,null,null,null,null,null,null,"",null,null,"",null,null,null,null,null,null,null,null,null,null,"",null,null,"",null,null,null,null,null,null,null,null,null,null,"400R","MR",0,"種目",0,0,0,"0",null,null,null,"北見美山小","北見小泉中","北見藤女子高","北翔大",null,null,1990,null,null,21,{"$f":"IF(ISERROR(VLOOKUP(CZ35,①初期設定!$C$49:$N$96,4,FALSE)),\"*\",VLOOKUP(CZ35,①初期設定!$C$49:$N$96,4,FALSE))","v":"*"},{"$f":"IF(ISERROR(VLOOKUP(CZ35,①初期設定!$Q$49:$AB$96,4,FALSE)),\"*\",VLOOKUP(CZ35,①初期設定!$Q$49:$AB$96,4,FALSE))","v":"*"},{"$f":"IF(ISERROR(VLOOKUP(CZ35,①初期設定!$E$49:$N$96,2,FALSE)),\"*\",VLOOKUP(CZ35,①初期設定!$E$49:$N$96,2,FALSE))","v":"*"},{"$f":"IF(ISERROR(VLOOKUP(CZ35,①初期設定!$S$49:$AB$96,2,FALSE)),\"*\",VLOOKUP(CZ35,①初期設定!$S$49:$AB$96,2,FALSE))","v":"*"},{"$f":"IF(ISERROR(VLOOKUP(CZ35,①初期設定!$C$117:$Q$179,6,FALSE)),\"*\",VLOOKUP(CZ35,①初期設定!$C$117:$Q$179,6,FALSE))","v":"*"},{"$f":"IF(ISERROR(VLOOKUP(CZ35,①初期設定!$T$117:$AH$179,6,FALSE)),\"*\",VLOOKUP(CZ35,①初期設定!$T$117:$AH$179,6,FALSE))","v":"*"},{"$f":"IF(ISERROR(VLOOKUP(CZ35,①初期設定!$E$117:$Q$179,4,FALSE)),\"*\",VLOOKUP(CZ35,①初期設定!$E$117:$Q$179,4,FALSE))","v":"*"},{"$f":"IF(ISERROR(VLOOKUP(CZ35,①初期設定!$V$117:$AH$179,4,FALSE)),\"*\",VLOOKUP(CZ35,①初期設定!$V$117:$AH$179,4,FALSE))","v":"*"},{"$f":"IF(ISERROR(VLOOKUP(CZ35,①初期設定!$G$117:$Q$179,2,FALSE)),\"*\",VLOOKUP(CZ35,①初期設定!$G$117:$Q$179,2,FALSE))","v":"*"},{"$f":"IF(ISERROR(VLOOKUP(CZ35,①初期設定!$X$117:$AH$179,2,FALSE)),\"*\",VLOOKUP(CZ35,①初期設定!$X$117:$AH$179,2,FALSE))","v":"*"}]
[23,null,null,null,null,null,null,null,null,null,null,null,null,null,null,null,null,null,null,null,{"$f":"ASC(PHONETIC(N36))","v":""},null,null,null,null,null,null,null,null,null,null,null,null,null,null,null,null,null,null,null,null,"",null,null,"",null,null,null,null,null,null,null,null,null,null,"",null,null,"",null,null,null,null,null,null,null,null,null,null,"",null,null,"",null,null,null,null,null,null,null,null,null,null,"400R","MR",0,"種目",0,0,0,"0",null,null,null,"北見美山小(成々澤)","北見北光中","清里高","北海道教育大",null,null,1991,null,null,22,{"$f":"IF(ISERROR(VLOOKUP(CZ36,①初期設定!$C$49:$N$96,4,FALSE)),\"*\",VLOOKUP(CZ36,①初期設定!$C$49:$N$96,4,FALSE))","v":"*"},{"$f":"IF(ISERROR(VLOOKUP(CZ36,①初期設定!$Q$49:$AB$96,4,FALSE)),\"*\",VLOOKUP(CZ36,①初期設定!$Q$49:$AB$96,4,FALSE))","v":"*"},{"$f":"IF(ISERROR(VLOOKUP(CZ36,①初期設定!$E$49:$N$96,2,FALSE)),\"*\",VLOOKUP(CZ36,①初期設定!$E$49:$N$96,2,FALSE))","v":"*"},{"$f":"IF(ISERROR(VLOOKUP(CZ36,①初期設定!$S$49:$AB$96,2,FALSE)),\"*\",VLOOKUP(CZ36,①初期設定!$S$49:$AB$96,2,FALSE))","v":"*"},{"$f":"IF(ISERROR(VLOOKUP(CZ36,①初期設定!$C$117:$Q$179,6,FALSE)),\"*\",VLOOKUP(CZ36,①初期設定!$C$117:$Q$179,6,FALSE))","v":"*"},{"$f":"IF(ISERROR(VLOOKUP(CZ36,①初期設定!$T$117:$AH$179,6,FALSE)),\"*\",VLOOKUP(CZ36,①初期設定!$T$117:$AH$179,6,FALSE))","v":"*"},{"$f":"IF(ISERROR(VLOOKUP(CZ36,①初期設定!$E$117:$Q$179,4,FALSE)),\"*\",VLOOKUP(CZ36,①初期設定!$E$117:$Q$179,4,FALSE))","v":"*"},{"$f":"IF(ISERROR(VLOOKUP(CZ36,①初期設定!$V$117:$AH$179,4,FALSE)),\"*\",VLOOKUP(CZ36,①初期設定!$V$117:$AH$179,4,FALSE))","v":"*"},{"$f":"IF(ISERROR(VLOOKUP(CZ36,①初期設定!$G$117:$Q$179,2,FALSE)),\"*\",VLOOKUP(CZ36,①初期設定!$G$117:$Q$179,2,FALSE))","v":"*"},{"$f":"IF(ISERROR(VLOOKUP(CZ36,①初期設定!$X$117:$AH$179,2,FALSE)),\"*\",VLOOKUP(CZ36,①初期設定!$X$117:$AH$179,2,FALSE))","v":"*"}]
[24,null,null,null,null,null,null,null,null,null,null,null,null,null,null,null,null,null,null,null,"",null,null,null,null,null,null,null,null,null,null,null,null,null,null,null,null,null,null,null,null,"",null,null,"",null,null,null,null,null,null,null,null,null,null,"",null,null,"",null,null,null,null,null,null,null,null,null,null,"",null,null,"",null,null,null,null,null,null,null,null,null,null,"400R","MR",0,"種目",0,0,0,"0",null,null,null,"北見美山小(須藤)","北見相内中","釧路明輝高","北教大岩見沢",null,null,1992,null,null,23,{"$f":"IF(ISERROR(VLOOKUP(CZ37,①初期設定!$C$49:$N$96,4,FALSE)),\"*\",VLOOKUP(CZ37,①初期設定!$C$49:$N$96,4,FALSE))","v":"*"},{"$f":"IF(ISERROR(VLOOKUP(CZ37,①初期設定!$Q$49:$AB$96,4,FALSE)),\"*\",VLOOKUP(CZ37,①初期設定!$Q$49:$AB$96,4,FALSE))","v":"*"},{"$f":"IF(ISERROR(VLOOKUP(CZ37,①初期設定!$E$49:$N$96,2,FALSE)),\"*\",VLOOKUP(CZ37,①初期設定!$E$49:$N$96,2,FALSE))","v":"*"},{"$f":"IF(ISERROR(VLOOKUP(CZ37,①初期設定!$S$49:$AB$96,2,FALSE)),\"*\",VLOOKUP(CZ37,①初期設定!$S$49:$AB$96,2,FALSE))","v":"*"},{"$f":"IF(ISERROR(VLOOKUP(CZ37,①初期設定!$C$117:$Q$179,6,FALSE)),\"*\",VLOOKUP(CZ37,①初期設定!$C$117:$Q$179,6,FALSE))","v":"*"},{"$f":"IF(ISERROR(VLOOKUP(CZ37,①初期設定!$T$117:$AH$179,6,FALSE)),\"*\",VLOOKUP(CZ37,①初期設定!$T$117:$AH$179,6,FALSE))","v":"*"},{"$f":"IF(ISERROR(VLOOKUP(CZ37,①初期設定!$E$117:$Q$179,4,FALSE)),\"*\",VLOOKUP(CZ37,①初期設定!$E$117:$Q$179,4,FALSE))","v":"*"},{"$f":"IF(ISERROR(VLOOKUP(CZ37,①初期設定!$V$117:$AH$179,4,FALSE)),\"*\",VLOOKUP(CZ37,①初期設定!$V$117:$AH$179,4,FALSE))","v":"*"},{"$f":"IF(ISERROR(VLOOKUP(CZ37,①初期設定!$G$117:$Q$179,2,FALSE)),\"*\",VLOOKUP(CZ37,①初期設定!$G$117:$Q$179,2,FALSE))","v":"*"},{"$f":"IF(ISERROR(VLOOKUP(CZ37,①初期設定!$X$117:$AH$179,2,FALSE)),\"*\",VLOOKUP(CZ37,①初期設定!$X$117:$AH$179,2,FALSE))","v":"*"}]
[25,null,null,null,null,null,null,null,null,null,null,null,null,null,null,null,null,null,null,null,"",null,null,null,null,null,null,null,null,null,null,null,null,null,null,null,null,null,null,null,null,"",null,null,"",null,null,null,null,null,null,null,null,null,null,"",null,null,"",null,null,null,null,null,null,null,null,null,null,"",null,null,"",null,null,null,null,null,null,null,null,null,null,"400R","MR",0,"種目",0,0,0,"0",null,null,null,"北見美山小(五藤)","北見東相内中","弟子屈高","釧路地方(川端)",null,null,1993,null,null,24,{"$f":"IF(ISERROR(VLOOKUP(CZ38,①初期設定!$C$49:$N$96,4,FALSE)),\"*\",VLOOKUP(CZ38,①初期設定!$C$49:$N$96,4,FALSE))","v":"*"},{"$f":"IF(ISERROR(VLOOKUP(CZ38,①初期設定!$Q$49:$AB$96,4,FALSE)),\"*\",VLOOKUP(CZ38,①初期設定!$Q$49:$AB$96,4,FALSE))","v":"*"},{"$f":"IF(ISERROR(VLOOKUP(CZ38,①初期設定!$E$49:$N$96,2,FALSE)),\"*\",VLOOKUP(CZ38,①初期設定!$E$49:$N$96,2,FALSE))","v":"*"},{"$f":"IF(ISERROR(VLOOKUP(CZ38,①初期設定!$S$49:$AB$96,2,FALSE)),\"*\",VLOOKUP(CZ38,①初期設定!$S$49:$AB$96,2,FALSE))","v":"*"},{"$f":"IF(ISERROR(VLOOKUP(CZ38,①初期設定!$C$117:$Q$179,6,FALSE)),\"*\",VLOOKUP(CZ38,①初期設定!$C$117:$Q$179,6,FALSE))","v":"*"},{"$f":"IF(ISERROR(VLOOKUP(CZ38,①初期設定!$T$117:$AH$179,6,FALSE)),\"*\",VLOOKUP(CZ38,①初期設定!$T$117:$AH$179,6,FALSE))","v":"*"},{"$f":"IF(ISERROR(VLOOKUP(CZ38,①初期設定!$E$117:$Q$179,4,FALSE)),\"*\",VLOOKUP(CZ38,①初期設定!$E$117:$Q$179,4,FALSE))","v":"*"},{"$f":"IF(ISERROR(VLOOKUP(CZ38,①初期設定!$V$117:$AH$179,4,FALSE)),\"*\",VLOOKUP(CZ38,①初期設定!$V$117:$AH$179,4,FALSE))","v":"*"},{"$f":"IF(ISERROR(VLOOKUP(CZ38,①初期設定!$G$117:$Q$179,2,FALSE)),\"*\",VLOOKUP(CZ38,①初期設定!$G$117:$Q$179,2,FALSE))","v":"*"},{"$f":"IF(ISERROR(VLOOKUP(CZ38,①初期設定!$X$117:$AH$179,2,FALSE)),\"*\",VLOOKUP(CZ38,①初期設定!$X$117:$AH$179,2,FALSE))","v":"*"}]
[26,null,null,null,null,null,null,null,null,null,null,null,null,null,null,null,null,null,null,null,"",null,null,null,null,null,null,null,null,null,null,null,null,null,null,null,null,null,null,null,null,"",null,null,"",null,null,null,null,null,null,null,null,null,null,"",null,null,"",null,null,null,null,null,null,null,null,null,null,"",null,null,"",null,null,null,null,null,null,null,null,null,null,"400R","MR",0,"種目",0,0,0,"0",null,null,null,"北見常呂小","北見常呂中","旭川北高","釧路地方(井上)",null,null,1994,null,null,25,{"$f":"IF(ISERROR(VLOOKUP(CZ39,①初期設定!$C$49:$N$96,4,FALSE)),\"*\",VLOOKUP(CZ39,①初期設定!$C$49:$N$96,4,FALSE))","v":"*"},{"$f":"IF(ISERROR(VLOOKUP(CZ39,①初期設定!$Q$49:$AB$96,4,FALSE)),\"*\",VLOOKUP(CZ39,①初期設定!$Q$49:$AB$96,4,FALSE))","v":"*"},{"$f":"IF(ISERROR(VLOOKUP(CZ39,①初期設定!$E$49:$N$96,2,FALSE)),\"*\",VLOOKUP(CZ39,①初期設定!$E$49:$N$96,2,FALSE))","v":"*"},{"$f":"IF(ISERROR(VLOOKUP(CZ39,①初期設定!$S$49:$AB$96,2,FALSE)),\"*\",VLOOKUP(CZ39,①初期設定!$S$49:$AB$96,2,FALSE))","v":"*"},{"$f":"IF(ISERROR(VLOOKUP(CZ39,①初期設定!$C$117:$Q$179,6,FALSE)),\"*\",VLOOKUP(CZ39,①初期設定!$C$117:$Q$179,6,FALSE))","v":"*"},{"$f":"IF(ISERROR(VLOOKUP(CZ39,①初期設定!$T$117:$AH$179,6,FALSE)),\"*\",VLOOKUP(CZ39,①初期設定!$T$117:$AH$179,6,FALSE))","v":"*"},{"$f":"IF(ISERROR(VLOOKUP(CZ39,①初期設定!$E$117:$Q$179,4,FALSE)),\"*\",VLOOKUP(CZ39,①初期設定!$E$117:$Q$179,4,FALSE))","v":"*"},{"$f":"IF(ISERROR(VLOOKUP(CZ39,①初期設定!$V$117:$AH$179,4,FALSE)),\"*\",VLOOKUP(CZ39,①初期設定!$V$117:$AH$179,4,FALSE))","v":"*"},{"$f":"IF(ISERROR(VLOOKUP(CZ39,①初期設定!$G$117:$Q$179,2,FALSE)),\"*\",VLOOKUP(CZ39,①初期設定!$G$117:$Q$179,2,FALSE))","v":"*"},{"$f":"IF(ISERROR(VLOOKUP(CZ39,①初期設定!$X$117:$AH$179,2,FALSE)),\"*\",VLOOKUP(CZ39,①初期設定!$X$117:$AH$179,2,FALSE))","v":"*"}]
[27,null,null,null,null,null,null,null,null,null,null,null,null,null,null,null,null,null,null,null,"",null,null,null,null,null,null,null,null,null,null,null,null,null,null,null,null,null,null,null,null,"",null,null,"",null,null,null,null,null,null,null,null,null,null,"",null,null,"",null,null,null,null,null,null,null,null,null,null,"",null,null,"",null,null,null,null,null,null,null,null,null,null,"400R","MR",0,"種目",0,0,0,"0",null,null,null,"北見川沿小","網走第一中","北海道栄高","釧路高専",null,null,1995,null,null,26,{"$f":"IF(ISERROR(VLOOKUP(CZ40,①初期設定!$C$49:$N$96,4,FALSE)),\"*\",VLOOKUP(CZ40,①初期設定!$C$49:$N$96,4,FALSE))","v":"*"},{"$f":"IF(ISERROR(VLOOKUP(CZ40,①初期設定!$Q$49:$AB$96,4,FALSE)),\"*\",VLOOKUP(CZ40,①初期設定!$Q$49:$AB$96,4,FALSE))","v":"*"},{"$f":"IF(ISERROR(VLOOKUP(CZ40,①初期設定!$E$49:$N$96,2,FALSE)),\"*\",VLOOKUP(CZ40,①初期設定!$E$49:$N$96,2,FALSE))","v":"*"},{"$f":"IF(ISERROR(VLOOKUP(CZ40,①初期設定!$S$49:$AB$96,2,FALSE)),\"*\",VLOOKUP(CZ40,①初期設定!$S$49:$AB$96,2,FALSE))","v":"*"},{"$f":"IF(ISERROR(VLOOKUP(CZ40,①初期設定!$C$117:$Q$179,6,FALSE)),\"*\",VLOOKUP(CZ40,①初期設定!$C$117:$Q$179,6,FALSE))","v":"*"},{"$f":"IF(ISERROR(VLOOKUP(CZ40,①初期設定!$T$117:$AH$179,6,FALSE)),\"*\",VLOOKUP(CZ40,①初期設定!$T$117:$AH$179,6,FALSE))","v":"*"},{"$f":"IF(ISERROR(VLOOKUP(CZ40,①初期設定!$E$117:$Q$179,4,FALSE)),\"*\",VLOOKUP(CZ40,①初期設定!$E$117:$Q$179,4,FALSE))","v":"*"},{"$f":"IF(ISERROR(VLOOKUP(CZ40,①初期設定!$V$117:$AH$179,4,FALSE)),\"*\",VLOOKUP(CZ40,①初期設定!$V$117:$AH$179,4,FALSE))","v":"*"},{"$f":"IF(ISERROR(VLOOKUP(CZ40,①初期設定!$G$117:$Q$179,2,FALSE)),\"*\",VLOOKUP(CZ40,①初期設定!$G$117:$Q$179,2,FALSE))","v":"*"},{"$f":"IF(ISERROR(VLOOKUP(CZ40,①初期設定!$X$117:$AH$179,2,FALSE)),\"*\",VLOOKUP(CZ40,①初期設定!$X$117:$AH$179,2,FALSE))","v":"*"}]
[28,null,null,null,null,null,null,null,null,null,null,null,null,null,null,null,null,null,null,null,"",null,null,null,null,null,null,null,null,null,null,null,null,null,null,null,null,null,null,null,null,"",null,null,"",null,null,null,null,null,null,null,null,null,null,"",null,null,"",null,null,null,null,null,null,null,null,null,null,"",null,null,"",null,null,null,null,null,null,null,null,null,null,"400R","MR",0,"種目",0,0,0,"0",null,null,null,"北見留辺蘂小","網走第二中","富良野緑峰高","釧路公立大(伊藤)",null,null,1996,null,null,27,{"$f":"IF(ISERROR(VLOOKUP(CZ41,①初期設定!$C$49:$N$96,4,FALSE)),\"*\",VLOOKUP(CZ41,①初期設定!$C$49:$N$96,4,FALSE))","v":"*"},{"$f":"IF(ISERROR(VLOOKUP(CZ41,①初期設定!$Q$49:$AB$96,4,FALSE)),\"*\",VLOOKUP(CZ41,①初期設定!$Q$49:$AB$96,4,FALSE))","v":"*"},{"$f":"IF(ISERROR(VLOOKUP(CZ41,①初期設定!$E$49:$N$96,2,FALSE)),\"*\",VLOOKUP(CZ41,①初期設定!$E$49:$N$96,2,FALSE))","v":"*"},{"$f":"IF(ISERROR(VLOOKUP(CZ41,①初期設定!$S$49:$AB$96,2,FALSE)),\"*\",VLOOKUP(CZ41,①初期設定!$S$49:$AB$96,2,FALSE))","v":"*"},{"$f":"IF(ISERROR(VLOOKUP(CZ41,①初期設定!$C$117:$Q$179,6,FALSE)),\"*\",VLOOKUP(CZ41,①初期設定!$C$117:$Q$179,6,FALSE))","v":"*"},{"$f":"IF(ISERROR(VLOOKUP(CZ41,①初期設定!$T$117:$AH$179,6,FALSE)),\"*\",VLOOKUP(CZ41,①初期設定!$T$117:$AH$179,6,FALSE))","v":"*"},{"$f":"IF(ISERROR(VLOOKUP(CZ41,①初期設定!$E$117:$Q$179,4,FALSE)),\"*\",VLOOKUP(CZ41,①初期設定!$E$117:$Q$179,4,FALSE))","v":"*"},{"$f":"IF(ISERROR(VLOOKUP(CZ41,①初期設定!$V$117:$AH$179,4,FALSE)),\"*\",VLOOKUP(CZ41,①初期設定!$V$117:$AH$179,4,FALSE))","v":"*"},{"$f":"IF(ISERROR(VLOOKUP(CZ41,①初期設定!$G$117:$Q$179,2,FALSE)),\"*\",VLOOKUP(CZ41,①初期設定!$G$117:$Q$179,2,FALSE))","v":"*"},{"$f":"IF(ISERROR(VLOOKUP(CZ41,①初期設定!$X$117:$AH$179,2,FALSE)),\"*\",VLOOKUP(CZ41,①初期設定!$X$117:$AH$179,2,FALSE))","v":"*"}]
[29,null,null,null,null,null,null,null,null,null,null,null,null,null,null,null,null,null,null,null,"",null,null,null,null,null,null,null,null,null,null,null,null,null,null,null,null,null,null,null,null,"",null,null,"",null,null,null,null,null,null,null,null,null,null,"",null,null,"",null,null,null,null,null,null,null,null,null,null,"",null,null,"",null,null,null,null,null,null,null,null,null,null,"400R","MR",0,"種目",0,0,0,"0",null,null,null,"紋別潮見小","網走第三中","早稲田実業高","北見消防",null,null,1997,null,null,28,{"$f":"IF(ISERROR(VLOOKUP(CZ42,①初期設定!$C$49:$N$96,4,FALSE)),\"*\",VLOOKUP(CZ42,①初期設定!$C$49:$N$96,4,FALSE))","v":"*"},{"$f":"IF(ISERROR(VLOOKUP(CZ42,①初期設定!$Q$49:$AB$96,4,FALSE)),\"*\",VLOOKUP(CZ42,①初期設定!$Q$49:$AB$96,4,FALSE))","v":"*"},{"$f":"IF(ISERROR(VLOOKUP(CZ42,①初期設定!$E$49:$N$96,2,FALSE)),\"*\",VLOOKUP(CZ42,①初期設定!$E$49:$N$96,2,FALSE))","v":"*"},{"$f":"IF(ISERROR(VLOOKUP(CZ42,①初期設定!$S$49:$AB$96,2,FALSE)),\"*\",VLOOKUP(CZ42,①初期設定!$S$49:$AB$96,2,FALSE))","v":"*"},{"$f":"IF(ISERROR(VLOOKUP(CZ42,①初期設定!$C$117:$Q$179,6,FALSE)),\"*\",VLOOKUP(CZ42,①初期設定!$C$117:$Q$179,6,FALSE))","v":"*"},{"$f":"IF(ISERROR(VLOOKUP(CZ42,①初期設定!$T$117:$AH$179,6,FALSE)),\"*\",VLOOKUP(CZ42,①初期設定!$T$117:$AH$179,6,FALSE))","v":"*"},{"$f":"IF(ISERROR(VLOOKUP(CZ42,①初期設定!$E$117:$Q$179,4,FALSE)),\"*\",VLOOKUP(CZ42,①初期設定!$E$117:$Q$179,4,FALSE))","v":"*"},{"$f":"IF(ISERROR(VLOOKUP(CZ42,①初期設定!$V$117:$AH$179,4,FALSE)),\"*\",VLOOKUP(CZ42,①初期設定!$V$117:$AH$179,4,FALSE))","v":"*"},{"$f":"IF(ISERROR(VLOOKUP(CZ42,①初期設定!$G$117:$Q$179,2,FALSE)),\"*\",VLOOKUP(CZ42,①初期設定!$G$117:$Q$179,2,FALSE))","v":"*"},{"$f":"IF(ISERROR(VLOOKUP(CZ42,①初期設定!$X$117:$AH$179,2,FALSE)),\"*\",VLOOKUP(CZ42,①初期設定!$X$117:$AH$179,2,FALSE))","v":"*"}]
[30,null,null,null,null,null,null,null,null,null,null,null,null,null,null,null,null,null,null,null,"",null,null,null,null,null,null,null,null,null,null,null,null,null,null,null,null,null,null,null,null,"",null,null,"",null,null,null,null,null,null,null,null,null,null,"",null,null,"",null,null,null,null,null,null,null,null,null,null,"",null,null,"",null,null,null,null,null,null,null,null,null,null,"400R","MR",0,"種目",0,0,0,"0",null,null,null,"網走白鳥台小","網走第四中","標茶高","小樽後志陸協（野宮）",null,null,1998,null,null,29,{"$f":"IF(ISERROR(VLOOKUP(CZ43,①初期設定!$C$49:$N$96,4,FALSE)),\"*\",VLOOKUP(CZ43,①初期設定!$C$49:$N$96,4,FALSE))","v":"*"},{"$f":"IF(ISERROR(VLOOKUP(CZ43,①初期設定!$Q$49:$AB$96,4,FALSE)),\"*\",VLOOKUP(CZ43,①初期設定!$Q$49:$AB$96,4,FALSE))","v":"*"},{"$f":"IF(ISERROR(VLOOKUP(CZ43,①初期設定!$E$49:$N$96,2,FALSE)),\"*\",VLOOKUP(CZ43,①初期設定!$E$49:$N$96,2,FALSE))","v":"*"},{"$f":"IF(ISERROR(VLOOKUP(CZ43,①初期設定!$S$49:$AB$96,2,FALSE)),\"*\",VLOOKUP(CZ43,①初期設定!$S$49:$AB$96,2,FALSE))","v":"*"},{"$f":"IF(ISERROR(VLOOKUP(CZ43,①初期設定!$C$117:$Q$179,6,FALSE)),\"*\",VLOOKUP(CZ43,①初期設定!$C$117:$Q$179,6,FALSE))","v":"*"},{"$f":"IF(ISERROR(VLOOKUP(CZ43,①初期設定!$T$117:$AH$179,6,FALSE)),\"*\",VLOOKUP(CZ43,①初期設定!$T$117:$AH$179,6,FALSE))","v":"*"},{"$f":"IF(ISERROR(VLOOKUP(CZ43,①初期設定!$E$117:$Q$179,4,FALSE)),\"*\",VLOOKUP(CZ43,①初期設定!$E$117:$Q$179,4,FALSE))","v":"*"},{"$f":"IF(ISERROR(VLOOKUP(CZ43,①初期設定!$V$117:$AH$179,4,FALSE)),\"*\",VLOOKUP(CZ43,①初期設定!$V$117:$AH$179,4,FALSE))","v":"*"},{"$f":"IF(ISERROR(VLOOKUP(CZ43,①初期設定!$G$117:$Q$179,2,FALSE)),\"*\",VLOOKUP(CZ43,①初期設定!$G$117:$Q$179,2,FALSE))","v":"*"},{"$f":"IF(ISERROR(VLOOKUP(CZ43,①初期設定!$X$117:$AH$179,2,FALSE)),\"*\",VLOOKUP(CZ43,①初期設定!$X$117:$AH$179,2,FALSE))","v":"*"}]
[31,null,null,null,null,null,null,null,null,null,null,null,null,null,null,null,null,null,null,null,"",null,null,null,null,null,null,null,null,null,null,null,null,null,null,null,null,null,null,null,null,"",null,null,"",null,null,null,null,null,null,null,null,null,null,"",null,null,"",null,null,null,null,null,null,null,null,null,null,"",null,null,"",null,null,null,null,null,null,null,null,null,null,"400R","MR",0,"種目",0,0,0,"0",null,null,null,"網走東小","紋別中","帯広農業高","作．AC札幌",null,null,1999,null,null,30,{"$f":"IF(ISERROR(VLOOKUP(CZ44,①初期設定!$C$49:$N$96,4,FALSE)),\"*\",VLOOKUP(CZ44,①初期設定!$C$49:$N$96,4,FALSE))","v":"*"},{"$f":"IF(ISERROR(VLOOKUP(CZ44,①初期設定!$Q$49:$AB$96,4,FALSE)),\"*\",VLOOKUP(CZ44,①初期設定!$Q$49:$AB$96,4,FALSE))","v":"*"},{"$f":"IF(ISERROR(VLOOKUP(CZ44,①初期設定!$E$49:$N$96,2,FALSE)),\"*\",VLOOKUP(CZ44,①初期設定!$E$49:$N$96,2,FALSE))","v":"*"},{"$f":"IF(ISERROR(VLOOKUP(CZ44,①初期設定!$S$49:$AB$96,2,FALSE)),\"*\",VLOOKUP(CZ44,①初期設定!$S$49:$AB$96,2,FALSE))","v":"*"},{"$f":"IF(ISERROR(VLOOKUP(CZ44,①初期設定!$C$117:$Q$179,6,FALSE)),\"*\",VLOOKUP(CZ44,①初期設定!$C$117:$Q$179,6,FALSE))","v":"*"},{"$f":"IF(ISERROR(VLOOKUP(CZ44,①初期設定!$T$117:$AH$179,6,FALSE)),\"*\",VLOOKUP(CZ44,①初期設定!$T$117:$AH$179,6,FALSE))","v":"*"},{"$f":"IF(ISERROR(VLOOKUP(CZ44,①初期設定!$E$117:$Q$179,4,FALSE)),\"*\",VLOOKUP(CZ44,①初期設定!$E$117:$Q$179,4,FALSE))","v":"*"},{"$f":"IF(ISERROR(VLOOKUP(CZ44,①初期設定!$V$117:$AH$179,4,FALSE)),\"*\",VLOOKUP(CZ44,①初期設定!$V$117:$AH$179,4,FALSE))","v":"*"},{"$f":"IF(ISERROR(VLOOKUP(CZ44,①初期設定!$G$117:$Q$179,2,FALSE)),\"*\",VLOOKUP(CZ44,①初期設定!$G$117:$Q$179,2,FALSE))","v":"*"},{"$f":"IF(ISERROR(VLOOKUP(CZ44,①初期設定!$X$117:$AH$179,2,FALSE)),\"*\",VLOOKUP(CZ44,①初期設定!$X$117:$AH$179,2,FALSE))","v":"*"}]
[32,null,null,null,null,null,null,null,null,null,null,null,null,null,null,null,null,null,null,null,"",null,null,null,null,null,null,null,null,null,null,null,null,null,null,null,null,null,null,null,null,"",null,null,"",null,null,null,null,null,null,null,null,null,null,"",null,null,"",null,null,null,null,null,null,null,null,null,null,"",null,null,"",null,null,null,null,null,null,null,null,null,null,"400R","MR",0,"種目",0,0,0,"0",null,null,null,"網走中央小","紋別潮見中",null,"佐藤農場T&F",null,null,2000,null,null,31,{"$f":"IF(ISERROR(VLOOKUP(CZ45,①初期設定!$C$49:$N$96,4,FALSE)),\"*\",VLOOKUP(CZ45,①初期設定!$C$49:$N$96,4,FALSE))","v":"*"},{"$f":"IF(ISERROR(VLOOKUP(CZ45,①初期設定!$Q$49:$AB$96,4,FALSE)),\"*\",VLOOKUP(CZ45,①初期設定!$Q$49:$AB$96,4,FALSE))","v":"*"},{"$f":"IF(ISERROR(VLOOKUP(CZ45,①初期設定!$E$49:$N$96,2,FALSE)),\"*\",VLOOKUP(CZ45,①初期設定!$E$49:$N$96,2,FALSE))","v":"*"},{"$f":"IF(ISERROR(VLOOKUP(CZ45,①初期設定!$S$49:$AB$96,2,FALSE)),\"*\",VLOOKUP(CZ45,①初期設定!$S$49:$AB$96,2,FALSE))","v":"*"},{"$f":"IF(ISERROR(VLOOKUP(CZ45,①初期設定!$C$117:$Q$179,6,FALSE)),\"*\",VLOOKUP(CZ45,①初期設定!$C$117:$Q$179,6,FALSE))","v":"*"},{"$f":"IF(ISERROR(VLOOKUP(CZ45,①初期設定!$T$117:$AH$179,6,FALSE)),\"*\",VLOOKUP(CZ45,①初期設定!$T$117:$AH$179,6,FALSE))","v":"*"},{"$f":"IF(ISERROR(VLOOKUP(CZ45,①初期設定!$E$117:$Q$179,4,FALSE)),\"*\",VLOOKUP(CZ45,①初期設定!$E$117:$Q$179,4,FALSE))","v":"*"},{"$f":"IF(ISERROR(VLOOKUP(CZ45,①初期設定!$V$117:$AH$179,4,FALSE)),\"*\",VLOOKUP(CZ45,①初期設定!$V$117:$AH$179,4,FALSE))","v":"*"},{"$f":"IF(ISERROR(VLOOKUP(CZ45,①初期設定!$G$117:$Q$179,2,FALSE)),\"*\",VLOOKUP(CZ45,①初期設定!$G$117:$Q$179,2,FALSE))","v":"*"},{"$f":"IF(ISERROR(VLOOKUP(CZ45,①初期設定!$X$117:$AH$179,2,FALSE)),\"*\",VLOOKUP(CZ45,①初期設定!$X$117:$AH$179,2,FALSE))","v":"*"}]
[33,null,null,null,null,null,null,null,null,null,null,null,null,null,null,null,null,null,null,null,"",null,null,null,null,null,null,null,null,null,null,null,null,null,null,null,null,null,null,null,null,"",null,null,"",null,null,null,null,null,null,null,null,null,null,"",null,null,"",null,null,null,null,null,null,null,null,null,null,"",null,null,"",null,null,null,null,null,null,null,null,null,null,"400R","MR",0,"種目",0,0,0,"0",null,null,null,"美幌RCｷｯｽﾞ","紋別上渚滑中",null,"立教大",null,null,2001,null,null,32,{"$f":"IF(ISERROR(VLOOKUP(CZ46,①初期設定!$C$49:$N$96,4,FALSE)),\"*\",VLOOKUP(CZ46,①初期設定!$C$49:$N$96,4,FALSE))","v":"*"},{"$f":"IF(ISERROR(VLOOKUP(CZ46,①初期設定!$Q$49:$AB$96,4,FALSE)),\"*\",VLOOKUP(CZ46,①初期設定!$Q$49:$AB$96,4,FALSE))","v":"*"},{"$f":"IF(ISERROR(VLOOKUP(CZ46,①初期設定!$E$49:$N$96,2,FALSE)),\"*\",VLOOKUP(CZ46,①初期設定!$E$49:$N$96,2,FALSE))","v":"*"},{"$f":"IF(ISERROR(VLOOKUP(CZ46,①初期設定!$S$49:$AB$96,2,FALSE)),\"*\",VLOOKUP(CZ46,①初期設定!$S$49:$AB$96,2,FALSE))","v":"*"},{"$f":"IF(ISERROR(VLOOKUP(CZ46,①初期設定!$C$117:$Q$179,6,FALSE)),\"*\",VLOOKUP(CZ46,①初期設定!$C$117:$Q$179,6,FALSE))","v":"*"},{"$f":"IF(ISERROR(VLOOKUP(CZ46,①初期設定!$T$117:$AH$179,6,FALSE)),\"*\",VLOOKUP(CZ46,①初期設定!$T$117:$AH$179,6,FALSE))","v":"*"},{"$f":"IF(ISERROR(VLOOKUP(CZ46,①初期設定!$E$117:$Q$179,4,FALSE)),\"*\",VLOOKUP(CZ46,①初期設定!$E$117:$Q$179,4,FALSE))","v":"*"},{"$f":"IF(ISERROR(VLOOKUP(CZ46,①初期設定!$V$117:$AH$179,4,FALSE)),\"*\",VLOOKUP(CZ46,①初期設定!$V$117:$AH$179,4,FALSE))","v":"*"},{"$f":"IF(ISERROR(VLOOKUP(CZ46,①初期設定!$G$117:$Q$179,2,FALSE)),\"*\",VLOOKUP(CZ46,①初期設定!$G$117:$Q$179,2,FALSE))","v":"*"},{"$f":"IF(ISERROR(VLOOKUP(CZ46,①初期設定!$X$117:$AH$179,2,FALSE)),\"*\",VLOOKUP(CZ46,①初期設定!$X$117:$AH$179,2,FALSE))","v":"*"}]
[34,null,null,null,null,null,null,null,null,null,null,null,null,null,null,null,null,null,null,null,"",null,null,null,null,null,null,null,null,null,null,null,null,null,null,null,null,null,null,null,null,"",null,null,"",null,null,null,null,null,null,null,null,null,null,"",null,null,"",null,null,null,null,null,null,null,null,null,null,"",null,null,"",null,null,null,null,null,null,null,null,null,null,"400R","MR",0,"種目",0,0,0,"0",null,null,null,"美幌XC少年団","ｵﾎｰﾂｸAC(中学)",null,"トヨタＬ＆Ｆ旭川",null,null,2002,null,null,33,{"$f":"IF(ISERROR(VLOOKUP(CZ47,①初期設定!$C$49:$N$96,4,FALSE)),\"*\",VLOOKUP(CZ47,①初期設定!$C$49:$N$96,4,FALSE))","v":"*"},{"$f":"IF(ISERROR(VLOOKUP(CZ47,①初期設定!$Q$49:$AB$96,4,FALSE)),\"*\",VLOOKUP(CZ47,①初期設定!$Q$49:$AB$96,4,FALSE))","v":"*"},{"$f":"IF(ISERROR(VLOOKUP(CZ47,①初期設定!$E$49:$N$96,2,FALSE)),\"*\",VLOOKUP(CZ47,①初期設定!$E$49:$N$96,2,FALSE))","v":"*"},{"$f":"IF(ISERROR(VLOOKUP(CZ47,①初期設定!$S$49:$AB$96,2,FALSE)),\"*\",VLOOKUP(CZ47,①初期設定!$S$49:$AB$96,2,FALSE))","v":"*"},{"$f":"IF(ISERROR(VLOOKUP(CZ47,①初期設定!$C$117:$Q$179,6,FALSE)),\"*\",VLOOKUP(CZ47,①初期設定!$C$117:$Q$179,6,FALSE))","v":"*"},{"$f":"IF(ISERROR(VLOOKUP(CZ47,①初期設定!$T$117:$AH$179,6,FALSE)),\"*\",VLOOKUP(CZ47,①初期設定!$T$117:$AH$179,6,FALSE))","v":"*"},{"$f":"IF(ISERROR(VLOOKUP(CZ47,①初期設定!$E$117:$Q$179,4,FALSE)),\"*\",VLOOKUP(CZ47,①初期設定!$E$117:$Q$179,4,FALSE))","v":"*"},{"$f":"IF(ISERROR(VLOOKUP(CZ47,①初期設定!$V$117:$AH$179,4,FALSE)),\"*\",VLOOKUP(CZ47,①初期設定!$V$117:$AH$179,4,FALSE))","v":"*"},{"$f":"IF(ISERROR(VLOOKUP(CZ47,①初期設定!$G$117:$Q$179,2,FALSE)),\"*\",VLOOKUP(CZ47,①初期設定!$G$117:$Q$179,2,FALSE))","v":"*"},{"$f":"IF(ISERROR(VLOOKUP(CZ47,①初期設定!$X$117:$AH$179,2,FALSE)),\"*\",VLOOKUP(CZ47,①初期設定!$X$117:$AH$179,2,FALSE))","v":"*"}]
[35,null,null,null,null,null,null,null,null,null,null,null,null,null,null,null,null,null,null,null,"",null,null,null,null,null,null,null,null,null,null,null,null,null,null,null,null,null,null,null,null,"",null,null,"",null,null,null,null,null,null,null,null,null,null,"",null,null,"",null,null,null,null,null,null,null,null,null,null,"",null,null,"",null,null,null,null,null,null,null,null,null,null,"400R","MR",0,"種目",0,0,0,"0",null,null,null,"美幌SSS",null,null,"中京大",null,null,2003,null,null,34,{"$f":"IF(ISERROR(VLOOKUP(CZ48,①初期設定!$C$49:$N$96,4,FALSE)),\"*\",VLOOKUP(CZ48,①初期設定!$C$49:$N$96,4,FALSE))","v":"*"},{"$f":"IF(ISERROR(VLOOKUP(CZ48,①初期設定!$Q$49:$AB$96,4,FALSE)),\"*\",VLOOKUP(CZ48,①初期設定!$Q$49:$AB$96,4,FALSE))","v":"*"},{"$f":"IF(ISERROR(VLOOKUP(CZ48,①初期設定!$E$49:$N$96,2,FALSE)),\"*\",VLOOKUP(CZ48,①初期設定!$E$49:$N$96,2,FALSE))","v":"*"},{"$f":"IF(ISERROR(VLOOKUP(CZ48,①初期設定!$S$49:$AB$96,2,FALSE)),\"*\",VLOOKUP(CZ48,①初期設定!$S$49:$AB$96,2,FALSE))","v":"*"},{"$f":"IF(ISERROR(VLOOKUP(CZ48,①初期設定!$C$117:$Q$179,6,FALSE)),\"*\",VLOOKUP(CZ48,①初期設定!$C$117:$Q$179,6,FALSE))","v":"*"},{"$f":"IF(ISERROR(VLOOKUP(CZ48,①初期設定!$T$117:$AH$179,6,FALSE)),\"*\",VLOOKUP(CZ48,①初期設定!$T$117:$AH$179,6,FALSE))","v":"*"},{"$f":"IF(ISERROR(VLOOKUP(CZ48,①初期設定!$E$117:$Q$179,4,FALSE)),\"*\",VLOOKUP(CZ48,①初期設定!$E$117:$Q$179,4,FALSE))","v":"*"},{"$f":"IF(ISERROR(VLOOKUP(CZ48,①初期設定!$V$117:$AH$179,4,FALSE)),\"*\",VLOOKUP(CZ48,①初期設定!$V$117:$AH$179,4,FALSE))","v":"*"},{"$f":"IF(ISERROR(VLOOKUP(CZ48,①初期設定!$G$117:$Q$179,2,FALSE)),\"*\",VLOOKUP(CZ48,①初期設定!$G$117:$Q$179,2,FALSE))","v":"*"},{"$f":"IF(ISERROR(VLOOKUP(CZ48,①初期設定!$X$117:$AH$179,2,FALSE)),\"*\",VLOOKUP(CZ48,①初期設定!$X$117:$AH$179,2,FALSE))","v":"*"}]
[36,null,null,null,null,null,null,null,null,null,null,null,null,null,null,null,null,null,null,null,"",null,null,null,null,null,null,null,null,null,null,null,null,null,null,null,null,null,null,null,null,"",null,null,"",null,null,null,null,null,null,null,null,null,null,"",null,null,"",null,null,null,null,null,null,null,null,null,null,"",null,null,"",null,null,null,null,null,null,null,null,null,null,"400R","MR",0,"種目",0,0,0,"0",null,null,null,"美幌RC",null,null,"JR東海",null,null,2004,null,null,35,{"$f":"IF(ISERROR(VLOOKUP(CZ49,①初期設定!$C$49:$N$96,4,FALSE)),\"*\",VLOOKUP(CZ49,①初期設定!$C$49:$N$96,4,FALSE))","v":"*"},{"$f":"IF(ISERROR(VLOOKUP(CZ49,①初期設定!$Q$49:$AB$96,4,FALSE)),\"*\",VLOOKUP(CZ49,①初期設定!$Q$49:$AB$96,4,FALSE))","v":"*"},{"$f":"IF(ISERROR(VLOOKUP(CZ49,①初期設定!$E$49:$N$96,2,FALSE)),\"*\",VLOOKUP(CZ49,①初期設定!$E$49:$N$96,2,FALSE))","v":"*"},{"$f":"IF(ISERROR(VLOOKUP(CZ49,①初期設定!$S$49:$AB$96,2,FALSE)),\"*\",VLOOKUP(CZ49,①初期設定!$S$49:$AB$96,2,FALSE))","v":"*"},{"$f":"IF(ISERROR(VLOOKUP(CZ49,①初期設定!$C$117:$Q$179,6,FALSE)),\"*\",VLOOKUP(CZ49,①初期設定!$C$117:$Q$179,6,FALSE))","v":"*"},{"$f":"IF(ISERROR(VLOOKUP(CZ49,①初期設定!$T$117:$AH$179,6,FALSE)),\"*\",VLOOKUP(CZ49,①初期設定!$T$117:$AH$179,6,FALSE))","v":"*"},{"$f":"IF(ISERROR(VLOOKUP(CZ49,①初期設定!$E$117:$Q$179,4,FALSE)),\"*\",VLOOKUP(CZ49,①初期設定!$E$117:$Q$179,4,FALSE))","v":"*"},{"$f":"IF(ISERROR(VLOOKUP(CZ49,①初期設定!$V$117:$AH$179,4,FALSE)),\"*\",VLOOKUP(CZ49,①初期設定!$V$117:$AH$179,4,FALSE))","v":"*"},{"$f":"IF(ISERROR(VLOOKUP(CZ49,①初期設定!$G$117:$Q$179,2,FALSE)),\"*\",VLOOKUP(CZ49,①初期設定!$G$117:$Q$179,2,FALSE))","v":"*"},{"$f":"IF(ISERROR(VLOOKUP(CZ49,①初期設定!$X$117:$AH$179,2,FALSE)),\"*\",VLOOKUP(CZ49,①初期設定!$X$117:$AH$179,2,FALSE))","v":"*"}]
[37,null,null,null,null,null,null,null,null,null,null,null,null,null,null,null,null,null,null,null,"",null,null,null,null,null,null,null,null,null,null,null,null,null,null,null,null,null,null,null,null,"",null,null,"",null,null,null,null,null,null,null,null,null,null,"",null,null,"",null,null,null,null,null,null,null,null,null,null,"",null,null,"",null,null,null,null,null,null,null,null,null,null,"400R","MR",0,"種目",0,0,0,"0",null,null,null,"遠軽陸上ｸﾗﾌﾞ",null,null,"道央(佐々木)",null,null,2005,null,null,36,{"$f":"IF(ISERROR(VLOOKUP(CZ50,①初期設定!$C$49:$N$96,4,FALSE)),\"*\",VLOOKUP(CZ50,①初期設定!$C$49:$N$96,4,FALSE))","v":"*"},{"$f":"IF(ISERROR(VLOOKUP(CZ50,①初期設定!$Q$49:$AB$96,4,FALSE)),\"*\",VLOOKUP(CZ50,①初期設定!$Q$49:$AB$96,4,FALSE))","v":"*"},{"$f":"IF(ISERROR(VLOOKUP(CZ50,①初期設定!$E$49:$N$96,2,FALSE)),\"*\",VLOOKUP(CZ50,①初期設定!$E$49:$N$96,2,FALSE))","v":"*"},{"$f":"IF(ISERROR(VLOOKUP(CZ50,①初期設定!$S$49:$AB$96,2,FALSE)),\"*\",VLOOKUP(CZ50,①初期設定!$S$49:$AB$96,2,FALSE))","v":"*"},{"$f":"IF(ISERROR(VLOOKUP(CZ50,①初期設定!$C$117:$Q$179,6,FALSE)),\"*\",VLOOKUP(CZ50,①初期設定!$C$117:$Q$179,6,FALSE))","v":"*"},{"$f":"IF(ISERROR(VLOOKUP(CZ50,①初期設定!$T$117:$AH$179,6,FALSE)),\"*\",VLOOKUP(CZ50,①初期設定!$T$117:$AH$179,6,FALSE))","v":"*"},{"$f":"IF(ISERROR(VLOOKUP(CZ50,①初期設定!$E$117:$Q$179,4,FALSE)),\"*\",VLOOKUP(CZ50,①初期設定!$E$117:$Q$179,4,FALSE))","v":"*"},{"$f":"IF(ISERROR(VLOOKUP(CZ50,①初期設定!$V$117:$AH$179,4,FALSE)),\"*\",VLOOKUP(CZ50,①初期設定!$V$117:$AH$179,4,FALSE))","v":"*"},{"$f":"IF(ISERROR(VLOOKUP(CZ50,①初期設定!$G$117:$Q$179,2,FALSE)),\"*\",VLOOKUP(CZ50,①初期設定!$G$117:$Q$179,2,FALSE))","v":"*"},{"$f":"IF(ISERROR(VLOOKUP(CZ50,①初期設定!$X$117:$AH$179,2,FALSE)),\"*\",VLOOKUP(CZ50,①初期設定!$X$117:$AH$179,2,FALSE))","v":"*"}]
[38,null,null,null,null,null,null,null,null,null,null,null,null,null,null,null,null,null,null,null,null,null,null,null,null,null,null,null,null,null,null,null,null,null,null,null,null,null,null,null,null,"",null,null,"",null,null,null,null,null,null,null,null,null,null,"",null,null,"",null,null,null,null,null,null,null,null,null,null,"",null,null,"",null,null,null,null,null,null,null,null,null,null,"400R","MR",0,"種目",0,0,0,"0",null,null,null,"遠軽陸上少年団",null,null,"弘前大",null,null,2006]
[39,null,null,null,null,null,null,null,null,null,null,null,null,null,null,null,null,null,null,null,null,null,null,null,null,null,null,null,null,null,null,null,null,null,null,null,null,null,null,null,null,"",null,null,"",null,null,null,null,null,null,null,null,null,null,"",null,null,"",null,null,null,null,null,null,null,null,null,null,"",null,null,"",null,null,null,null,null,null,null,null,null,null,"400R","MR",0,"種目",0,0,0,"0",null,null,null,"ｵﾎｰﾂｸｷｯｽﾞ",null,null,"別海AC",null,null,2007]
[40,null,null,null,null,null,null,null,null,null,null,null,null,null,null,null,null,null,null,null,null,null,null,null,null,null,null,null,null,null,null,null,null,null,null,null,null,null,null,null,null,"",null,null,"",null,null,null,null,null,null,null,null,null,null,"",null,null,"",null,null,null,null,null,null,null,null,null,null,"",null,null,"",null,null,null,null,null,null,null,null,null,null,"400R","MR",0,"種目",0,0,0,"0",null,null,null,"QP-JSRC",null,null,"ｵﾎｰﾂｸ陸協(古城)",null,null,2008]
[null,null,null,null,null,null,null,null,null,null,null,null,null,null,null,null,null,null,null,null,null,null,null,null,null,null,null,null,null,null,null,null,null,null,null,null,null,null,null,null,null,null,null,null,null,null,null,null,null,null,null,null,null,null,null,null,null,null,null,null,null,null,null,null,null,null,null,null,null,null,null,null,null,null,null,null,null,null,null,null,null,null,null,null,null,null,null,null,null,null,null,null,null,null,"網走陸上少年団",null,null,"ｵﾎｰﾂｸ陸協(清水)",null,null,2009]
[null,null,null,null,null,null,null,null,null,null,null,null,null,null,null,null,null,null,null,null,null,null,null,null,null,null,null,null,null,null,null,null,null,null,null,null,null,null,null,null,null,null,null,null,null,null,null,null,null,null,null,null,null,null,null,null,null,null,null,null,null,null,null,null,null,null,null,null,null,null,null,null,null,null,null,null,null,null,null,null,null,null,null,null,null,null,null,null,null,null,null,null,null,null,"清里陸上少年団",null,null,null,null,null,2010]
[null,null,null,null,null,null,null,null,null,null,null,null,null,null,null,null,null,null,null,null,null,null,null,null,null,null,null,null,null,null,null,null,null,null,null,null,null,null,null,null,null,null,null,null,null,null,null,null,null,null,null,null,null,null,null,null,null,null,null,null,null,null,null,null,null,null,null,null,null,null,null,null,null,null,null,null,null,null,null,null,null,null,null,null,null,null,null,null,null,null,null,null,null,null,"常呂陸上少年団",null,null,null,null,null,2011]
[null,null,null,null,null,null,null,null,null,null,null,null,null,null,null,null,null,null,null,null,null,null,null,null,null,null,null,null,null,null,null,null,null,null,null,null,null,null,null,null,null,null,null,null,null,null,null,null,null,null,null,null,null,null,null,null,null,null,null,null,null,null,null,null,null,null,null,null,null,null,null,null,null,null,null,null,null,null,null,null,null,null,null,null,null,null,null,null,null,null,null,null,null,null,"訓子府陸上少年団",null,null,null,null,null,2012]
[null,null,null,null,null,null,null,null,null,null,null,null,null,null,null,null,null,null,null,null,null,null,null,null,null,null,null,null,null,null,null,null,null,null,null,null,null,null,null,null,null,null,null,null,null,null,null,null,null,null,null,null,null,null,null,null,null,null,null,null,null,null,null,null,null,null,null,null,null,null,null,null,null,null,null,null,null,null,null,null,null,null,null,null,null,null,null,null,null,null,null,null,null,null,"ｵﾎｰﾂｸACｼﾞｭﾆｱ"]
[null,null,null,null,null,null,null,null,null,null,null,null,null,null,null,null,null,null,null,null,null,null,null,null,null,null,null,null,null,null,null,null,null,null,null,null,null,null,null,null,null,null,null,null,null,null,null,null,null,null,null,null,null,null,null,null,null,null,null,null,null,null,null,null,null,null,null,null,null,null,null,null,null,null,null,null,null,null,null,null,null,null,null,null,null,null,null,null,null,null,null,null,null,null,"ｵﾎｰﾂｸSS"]
[null,null,null,null,null,null,null,null,null,null,null,null,null,null,null,null,null,null,null,null,null,null,null,null,null,null,null,null,null,null,null,null,null,null,null,null,null,null,null,null,null,null,null,null,null,null,null,null,null,null,null,null,null,null,null,null,null,null,null,null,null,null,null,null,null,null,null,null,null,null,null,null,null,null,null,null,null,null,null,null,null,null,null,null,null,null,null,null,null,null,null,null,null,null,"知床斜里RC"]
[null,null,null,null,null,null,null,null,null,null,null,null,null,null,null,null,null,null,null,null,null,null,null,null,null,null,null,null,null,null,null,null,null,null,null,null,null,null,null,null,null,null,null,null,null,null,null,null,null,null,null,null,null,null,null,null,null,null,null,null,null,null,null,null,null,null,null,null,null,null,null,null,null,null,null,null,null,null,null,null,null,null,null,null,null,null,null,null,null,null,null,null,null,null,"標茶陸上少年団"]
[null,null,null,null,null,null,null,null,null,null,null,null,null,null,null,null,null,null,null,null,null,null,null,null,null,null,null,null,null,null,null,null,null,null,null,null,null,null,null,null,null,null,null,null,null,null,null,null,null,null,null,null,null,null,null,null,null,null,null,null,null,null,null,null,null,null,null,null,null,null,null,null,null,null,null,null,null,null,null,null,null,null,null,null,null,null,null,null,null,null,null,null,null,null,"共栄陸上ｸﾗﾌﾞ"]
[null,null,null,null,null,null,null,null,null,null,null,null,null,null,null,null,null,null,null,null,null,null,null,null,null,null,null,null,null,null,null,null,null,null,null,null,null,null,null,null,null,null,null,null,null,null,null,null,null,null,null,null,null,null,null,null,null,null,null,null,null,null,null,null,null,null,null,null,null,null,null,null,null,null,null,null,null,null,null,null,null,null,null,null,null,null,null,null,null,null,null,null,null,null,"弟子屈陸少"]
[null,null,null,null,null,null,null,null,null,null,null,null,null,null,null,null,null,null,null,null,null,null,null,null,null,null,null,null,null,null,null,null,null,null,null,null,null,null,null,null,null,null,null,null,null,null,null,null,null,null,null,null,null,null,null,null,null,null,null,null,null,null,null,null,null,null,null,null,null,null,null,null,null,null,null,null,null,null,null,null,null,null,null,null,null,null,null,null,null,null,null,null,null,null,"弟子屈RC"]

{"sheet":"申込確認","index":2,"n_rows":56,"n_cols":50,"rows_kept":56,"cut":false,"hidden":false,"merged":[[46,49,46,50],[3,49,3,50],[50,0,50,3],[51,0,51,3],[52,0,52,3],[53,0,53,3],[54,0,54,3],[55,0,55,3],[37,49,37,50],[38,49,38,50],[39,49,39,50],[40,49,40,50],[41,49,41,50],[42,49,42,50],[43,49,43,50],[44,49,44,50],[45,49,45,50],[28,49,28,50],[29,49,29,50],[30,49,30,50],[31,49,31,50],[32,49,32,50],[33,49,33,50],[34,49,34,50],[35,49,35,50],[36,49,36,50],[19,49,19,50],[20,49,20,50],[21,49,21,50],[22,49,22,50],[23,49,23,50],[24,49,24,50],[25,49,25,50],[26,49,26,50],[27,49,27,50],[47,34,47,36],[47,37,47,39],[47,40,47,42],[47,43,47,45],[47,46,47,48],[47,49,47,50],[4,49,4,50],[5,49,5,50],[6,49,6,50],[7,49,7,50],[8,49,8,50],[9,49,9,50],[10,49,10,50],[11,49,11,50],[12,49,12,50],[13,49,13,50],[14,49,14,50],[15,49,15,50],[16,49,16,50],[17,49,17,50],[18,49,18,50],[45,34,45,36],[45,37,45,39],[45,40,45,42],[42,34,42,36],[42,37,42,39],[42,40,42,42],[42,43,42,45],[42,46,42,48],[45,43,45,45],[45,46,45,48],[46,34,46,36],[46,37,46,39],[46,40,46,42],[46,43,46,45],[46,46,46,48],[43,34,43,36],[43,37,43,39],[43,40,43,42],[43,43,43,45],[43,46,43,48],[44,34,44,36],[44,37,44,39],[44,40,44,42],[44,43,44,45],[44,46,44,48],[40,34,40,36],[40,37,40,39],[40,40,40,42],[40,43,40,45],[40,46,40,48],[41,34,41,36],[41,37,41,39],[41,40,41,42],[41,43,41,45],[41,46,41,48],[38,34,38,36],[38,37,38,39],[38,40,38,42],[38,43,38,45],[38,46,38,48],[39,34,39,36],[39,37,39,39],[39,40,39,42],[39,43,39,45],[39,46,39,48],[36,34,36,36],[36,37,36,39],[36,40,36,42],[36,43,36,45],[36,46,36,48],[37,34,37,36],[37,37,37,39],[37,40,37,42],[37,43,37,45],[37,46,37,48],[34,34,34,36],[34,37,34,39],[34,40,34,42],[34,43,34,45],[34,46,34,48],[35,34,35,36],[35,37,35,39],[35,40,35,42],[35,43,35,45],[35,46,35,48],[32,34,32,36],[32,37,32,39],[32,40,32,42],[32,43,32,45],[32,46,32,48],[33,34,33,36],[33,37,33,39],[33,40,33,42],[33,43,33,45],[33,46,33,48],[30,34,30,36],[30,37,30,39],[30,40,30,42],[30,43,30,45],[30,46,30,48],[31,34,31,36],[31,37,31,39],[31,40,31,42],[31,43,31,45],[31,46,31,48],[28,34,28,36],[28,37,28,39],[28,40,28,42],[28,43,28,45],[28,46,28,48],[29,34,29,36],[29,37,29,39],[29,40,29,42],[29,43,29,45],[29,46,29,48],[26,34,26,36],[26,37,26,39],[26,40,26,42],[26,43,26,45],[26,46,26,48],[27,34,27,36],[27,37,27,39],[27,40,27,42],[27,43,27,45],[27,46,27,48],[21,34,21,36],[21,37,21,39],[21,40,21,42],[21,43,21,45],[21,46,21,48],[24,46,24,48],[25,34,25,36],[25,37,25,39],[25,40,25,42],[25,43,25,45],[25,46,25,48],[19,34,19,36],[19,37,19,39],[19,40,19,42],[19,43,19,45],[19,46,19,48],[20,34,20,36],[20,37,20,39],[20,40,20,42],[20,43,20,45],[20,46,20,48],[17,34,17,36],[17,37,17,39],[17,40,17,42],[17,43,17,45],[17,46,17,48],[18,34,18,36],[18,37,18,39],[18,40,18,42],[18,43,18,45],[18,46,18,48],[15,34,15,36],[15,37,15,39],[15,40,15,42],[15,43,15,45],[15,46,15,48],[16,34,16,36],[16,37,16,39],[16,40,16,42],[16,43,16,45],[16,46,16,48],[12,46,12,48],[13,34,13,36],[13,37,13,39],[13,40,13,42],[13,43,13,45],[13,46,13,48],[12,34,12,36],[14,34,14,36],[14,37,14,39],[14,40,14,42],[14,43,14,45],[14,46,14,48],[6,40,6,42],[6,43,6,45],[6,46,6,48],[10,37,10,39],[10,40,10,42],[10,43,10,45],[10,46,10,48],[11,34,11,36],[11,37,11,39],[11,40,11,42],[11,43,11,45],[11,46,11,48],[9,34,9,36],[7,43,7,45],[7,46,7,48],[8,34,8,36],[8,37,8,39],[8,40,8,42],[8,43,8,45],[8,46,8,48],[7,34,7,36],[9,37,9,39],[9,40,9,42],[9,43,9,45],[55,48,55,50],[49,45,49,47],[49,48,49,50],[53,36,53,38],[53,39,53,41],[53,42,53,44],[53,45,53,47],[50,36,50,38],[50,39,50,41],[50,42,50,44],[50,45,50,47],[50,48,50,50],[51,36,51,38],[51,39,51,41],[51,42,51,44],[51,45,51,47],[51,48,51,50],[52,36,52,38],[52,39,52,41],[52,42,52,44],[52,45,52,47],[52,48,52,50],[53,48,53,50],[49,36,49,38],[53,18,53,20],[53,21,53,23],[54,12,54,14],[54,15,54,17],[54,18,54,20],[54,21,54,23],[54,28,54,32],[55,45,55,47],[55,24,55,26],[55,28,55,32],[55,33,55,35],[55,36,55,38],[55,39,55,41],[55,42,55,44],[53,28,53,32],[53,33,53,35],[54,33,54,35],[54,36,54,38],[54,39,54,41],[54,42,54,44],[54,45,54,47],[54,48,54,50],[55,12,55,14],[55,15,55,17],[55,18,55,20],[55,21,55,23],[50,12,50,14],[50,15,50,17],[50,18,50,20],[50,21,50,23],[51,12,51,14],[51,15,51,17],[51,18,51,20],[51,21,51,23],[52,12,52,14],[52,15,52,17],[52,18,52,20],[52,21,52,23],[50,24,50,26],[51,24,51,26],[52,24,52,26],[53,24,53,26],[54,24,54,26],[53,12,53,14],[53,15,53,17],[53,4,53,8],[54,4,54,8],[55,4,55,8],[49,4,49,8],[50,9,50,11],[51,9,51,11],[52,9,52,11],[53,9,53,11],[54,9,54,11],[55,9,55,11],[49,9,49,11],[50,28,50,32],[50,33,50,35],[49,28,49,32],[41,31,41,33],[41,28,41,30],[51,4,51,8],[52,4,52,8],[49,21,49,23],[49,24,49,26],[49,33,49,35],[46,31,46,33],[46,28,46,30],[44,31,44,33],[44,28,44,30],[45,28,45,30],[47,10,47,12],[47,13,47,15],[47,16,47,18],[47,19,47,21],[45,10,45,12],[43,22,43,24],[43,25,43,27],[43,28,43,30],[46,4,46,6],[49,39,49,41],[49,42,49,44],[51,28,51,32],[51,33,51,35],[52,28,52,32],[52,33,52,35],[43,31,43,33],[42,28,42,30],[42,31,42,33],[48,0,48,33],[50,4,50,8],[49,12,49,14],[49,15,49,17],[49,18,49,20],[46,22,46,24],[46,25,46,27],[47,22,47,24],[44,22,44,24],[44,25,44,27],[45,22,45,24],[47,25,47,27],[45,25,45,27],[47,28,47,30],[47,31,47,33],[0,14,1,17],[46,19,46,21],[33,13,33,15],[33,16,33,18],[40,13,40,15],[40,16,40,18],[40,19,40,21],[40,22,40,24],[36,31,36,33],[35,19,35,21],[35,22,35,24],[35,25,35,27],[35,28,35,30],[37,31,37,33],[29,31,29,33],[29,19,29,21],[45,31,45,33],[44,19,44,21],[44,13,44,15],[44,16,44,18],[45,13,45,15],[45,16,45,18],[42,16,42,18],[41,16,41,18],[37,22,37,24],[37,16,37,18],[34,19,34,21],[34,22,34,24],[32,19,32,21],[32,22,32,24],[28,10,28,12],[28,13,28,15],[28,16,28,18],[30,16,30,18],[30,19,30,21],[30,22,30,24],[29,10,29,12],[29,13,29,15],[29,16,29,18],[28,22,28,24],[37,25,37,27],[37,28,37,30],[34,25,34,27],[41,4,41,6],[42,4,42,6],[42,7,42,9],[42,10,42,12],[42,13,42,15],[34,10,34,12],[34,13,34,15],[34,16,34,18],[35,10,35,12],[35,13,35,15],[35,16,35,18],[41,25,41,27],[42,25,42,27],[37,4,37,6],[37,7,37,9],[40,4,40,6],[40,7,40,9],[40,10,40,12],[41,19,41,21],[39,4,39,6],[38,4,38,6],[46,7,46,9],[46,10,46,12],[46,13,46,15],[46,16,46,18],[43,13,43,15],[43,16,43,18],[43,19,43,21],[44,4,44,6],[44,7,44,9],[44,10,44,12],[45,4,45,6],[45,7,45,9],[43,4,43,6],[43,7,43,9],[43,10,43,12],[41,22,41,24],[42,19,42,21],[42,22,42,24],[33,19,33,21],[33,22,33,24],[32,7,32,9],[32,10,32,12],[32,13,32,15],[32,16,32,18],[37,19,37,21],[39,7,39,9],[39,10,39,12],[39,13,39,15],[39,16,39,18],[38,7,38,9],[38,10,38,12],[38,13,38,15],[38,16,38,18],[37,10,37,12],[37,13,37,15],[41,7,41,9],[41,10,41,12],[41,13,41,15],[33,10,33,12],[38,31,38,33],[40,28,40,30],[40,31,40,33],[39,19,39,21],[39,22,39,24],[39,25,39,27],[39,28,39,30],[40,25,40,27],[39,31,39,33],[38,19,38,21],[38,22,38,24],[38,25,38,27],[32,4,32,6],[33,4,33,6],[35,4,35,6],[31,4,31,6],[30,4,30,6],[34,4,34,6],[34,7,34,9],[33,7,33,9],[38,28,38,30],[36,4,36,6],[36,7,36,9],[36,10,36,12],[36,13,36,15],[36,16,36,18],[36,19,36,21],[36,22,36,24],[36,25,36,27],[36,28,36,30],[35,7,35,9],[31,19,31,21],[31,22,31,24],[30,7,30,9],[30,10,30,12],[30,13,30,15],[31,7,31,9],[31,10,31,12],[31,13,31,15],[31,16,31,18],[35,31,35,33],[34,28,34,30],[34,31,34,33],[33,31,33,33],[30,28,30,30],[30,31,30,33],[31,28,31,30],[31,31,31,33],[31,25,31,27],[33,25,33,27],[33,28,33,30],[32,25,32,27],[32,28,32,30],[30,25,30,27],[32,31,32,33],[29,25,29,27],[21,19,21,21],[20,19,20,21],[22,4,22,6],[22,7,22,9],[22,10,22,12],[22,13,22,15],[22,16,22,18],[21,7,21,9],[21,10,21,12],[21,13,21,15],[21,16,21,18],[22,19,22,21],[29,4,29,6],[22,25,22,27],[27,25,27,27],[26,25,26,27],[25,10,25,12],[25,13,25,15],[25,16,25,18],[25,19,25,21],[25,22,25,24],[25,25,25,27],[29,22,29,24],[6,13,6,15],[6,16,6,18],[6,31,6,33],[6,22,6,24],[6,25,6,27],[19,16,19,18],[20,7,20,9],[20,10,20,12],[20,13,20,15],[20,16,20,18],[11,19,11,21],[11,22,11,24],[11,25,11,27],[10,22,10,24],[10,25,10,27],[17,28,17,30],[7,31,7,33],[20,25,20,27],[14,31,14,33],[15,25,15,27],[16,25,16,27],[15,16,15,18],[15,19,15,21],[13,19,13,21],[3,7,3,9],[3,10,3,12],[3,13,3,15],[3,16,3,18],[3,19,3,21],[4,22,4,24],[9,13,9,15],[9,16,9,18],[9,19,9,21],[5,19,5,21],[7,7,7,9],[7,10,7,12],[7,13,7,15],[7,16,7,18],[7,19,7,21],[6,19,6,21],[5,22,5,24],[7,22,7,24],[3,22,3,24],[8,19,8,21],[8,7,8,9],[8,10,8,12],[8,13,8,15],[8,16,8,18],[4,4,4,6],[4,7,4,9],[4,10,4,12],[4,13,4,15],[10,19,10,21],[8,25,8,27],[4,16,4,18],[4,19,4,21],[7,4,7,6],[8,4,8,6],[9,4,9,6],[9,7,9,9],[5,25,5,27],[5,4,5,6],[5,7,5,9],[5,10,5,12],[5,13,5,15],[5,16,5,18],[10,7,10,9],[10,10,10,12],[10,16,10,18],[6,4,6,6],[6,7,6,9],[6,10,6,12],[0,0,1,6],[0,7,1,12],[3,4,3,6],[47,4,47,6],[47,7,47,9],[13,4,13,6],[45,19,45,21],[20,4,20,6],[0,13,1,13],[0,18,1,28],[27,22,27,24],[21,22,21,24],[20,22,20,24],[23,28,23,30],[24,25,24,27],[23,4,23,6],[23,7,23,9],[23,10,23,12],[23,13,23,15],[23,16,23,18],[23,19,23,21],[23,22,23,24],[23,25,23,27],[28,7,28,9],[9,22,9,24],[9,25,9,27],[9,28,9,30],[9,31,9,33],[28,28,28,30],[28,31,28,33],[12,28,12,30],[12,31,12,33],[3,28,3,30],[3,31,3,33],[4,28,4,30],[4,31,4,33],[6,28,6,30],[11,28,11,30],[11,31,11,33],[10,31,10,33],[8,28,8,30],[8,31,8,33],[8,22,8,24],[3,25,3,27],[13,28,13,30],[13,31,13,33],[7,28,7,30],[7,25,7,27],[4,25,4,27],[5,28,5,30],[5,31,5,33],[3,34,3,36],[5,34,5,36],[10,34,10,36],[0,30,1,50],[3,37,3,39],[3,40,3,42],[3,43,3,45],[3,46,3,48],[4,34,4,36],[4,37,4,39],[4,40,4,42],[4,43,4,45],[4,46,4,48],[5,37,5,39],[5,40,5,42],[5,43,5,45],[5,46,5,48],[6,34,6,36],[6,37,6,39],[7,37,7,39],[7,40,7,42],[9,46,9,48],[24,28,24,30],[24,31,24,33],[25,28,25,30],[25,31,25,33],[26,28,26,30],[10,28,10,30],[22,34,22,36],[22,37,22,39],[22,40,22,42],[22,43,22,45],[22,46,22,48],[23,34,23,36],[23,37,23,39],[23,40,23,42],[23,43,23,45],[23,46,23,48],[24,34,24,36],[24,37,24,39],[24,40,24,42],[24,43,24,45],[12,37,12,39],[12,40,12,42],[12,43,12,45],[27,28,27,30],[22,28,22,30],[26,31,26,33],[22,31,22,33],[15,28,15,30],[15,31,15,33],[18,28,18,30],[18,31,18,33],[17,31,17,33],[27,31,27,33],[23,31,23,33],[21,28,21,30],[20,31,20,33],[16,31,16,33],[20,28,20,30],[19,31,19,33],[19,28,19,30],[21,31,21,33],[4,0,27,0],[28,0,47,0],[26,4,26,6],[26,7,26,9],[26,10,26,12],[26,13,26,15],[26,16,26,18],[26,19,26,21],[26,22,26,24],[24,4,24,6],[24,7,24,9],[24,10,24,12],[24,13,24,15],[24,16,24,18],[24,19,24,21],[24,22,24,24],[29,7,29,9],[12,4,12,6],[22,22,22,24],[27,19,27,21],[21,4,21,6],[11,13,11,15],[11,16,11,18],[10,4,10,6],[9,10,9,12],[10,13,10,15],[11,10,11,12],[12,10,12,12],[12,13,12,15],[25,4,25,6],[19,4,19,6],[14,4,14,6],[17,4,17,6],[18,4,18,6],[18,7,18,9],[11,4,11,6],[14,10,14,12],[14,13,14,15],[15,10,15,12],[15,13,15,15],[29,28,29,30],[14,28,14,30],[11,7,11,9],[13,7,13,9],[14,25,14,27],[16,28,16,30],[12,7,12,9],[15,7,15,9],[25,7,25,9],[15,22,15,24],[17,19,17,21],[17,22,17,24],[17,25,17,27],[18,25,18,27],[17,7,17,9],[17,10,17,12],[17,13,17,15],[17,16,17,18],[21,25,21,27],[14,16,14,18],[14,19,14,21],[14,22,14,24],[16,10,16,12],[16,13,16,15],[28,4,28,6],[12,25,12,27],[13,10,13,12],[13,13,13,15],[13,16,13,18],[16,16,16,18],[16,19,16,21],[16,4,16,6],[16,7,16,9],[13,25,13,27],[18,10,18,12],[18,13,18,15],[18,16,18,18],[18,19,18,21],[18,22,18,24],[19,19,19,21],[19,22,19,24],[19,25,19,27],[28,19,28,21],[15,4,15,6],[14,7,14,9],[27,4,27,6],[27,7,27,9],[27,10,27,12],[28,25,28,27],[19,7,19,9],[19,10,19,12],[19,13,19,15],[13,22,13,24],[12,16,12,18],[12,19,12,21],[12,22,12,24],[16,22,16,24],[27,13,27,15],[27,16,27,18]]}
[{"$f":"①初期設定!M1","v":"オホーツク陸上競技選手権大会"},null,null,null,null,null,null,"確認書",null,null,null,null,null,null,"団体名",null,null,null,{"$f":"入力表!L4","v":0},null,null,null,null,null,null,null,null,null,null,null,"１６人以上同一種目に参加した場合、１６人目からは氏名が出ませんので、別途確認して下さい。"]
[]
[]
[null,null,"数","種目",1,null,null,2,null,null,3,null,null,4,null,null,5,null,null,6,null,null,7,null,null,8,null,null,9,null,null,10,null,null,11,null,null,12,null,null,13,null,null,14,null,null,15,null,null,"実人数"]
["男子",1,{"$f":"IF(15-COUNTIF(E5:AW5,\"@\")=0,\"\",15-COUNTIF(E5:AW5,\"@\"))","v":""},{"$f":"IF(HLOOKUP(入力表!$E$4&\"男\",入力表!$DB$11:$DJ$50,B5+4,FALSE)=\"*\",\"\",HLOOKUP(入力表!$E$4&\"男\",入力表!$DB$11:$DJ$50,B5+4,FALSE))","v":{"$error":"#N/A"}},{"$f":"IF(ISERROR(VLOOKUP($D5&E$4,申込確認シート!$E$1:$F$120,2,FALSE)),\"@\",VLOOKUP($D5&E$4,申込確認シート!$E$1:$F$120,2,FALSE))","v":"@"},null,null,{"$f":"IF(ISERROR(VLOOKUP($D5&H$4,申込確認シート!$E$1:$F$120,2,FALSE)),\"@\",VLOOKUP($D5&H$4,申込確認シート!$E$1:$F$120,2,FALSE))","v":"@"},null,null,{"$f":"IF(ISERROR(VLOOKUP($D5&K$4,申込確認シート!$E$1:$F$120,2,FALSE)),\"@\",VLOOKUP($D5&K$4,申込確認シート!$E$1:$F$120,2,FALSE))","v":"@"},null,null,{"$f":"IF(ISERROR(VLOOKUP($D5&N$4,申込確認シート!$E$1:$F$120,2,FALSE)),\"@\",VLOOKUP($D5&N$4,申込確認シート!$E$1:$F$120,2,FALSE))","v":"@"},null,null,{"$f":"IF(ISERROR(VLOOKUP($D5&Q$4,申込確認シート!$E$1:$F$120,2,FALSE)),\"@\",VLOOKUP($D5&Q$4,申込確認シート!$E$1:$F$120,2,FALSE))","v":"@"},null,null,{"$f":"IF(ISERROR(VLOOKUP($D5&T$4,申込確認シート!$E$1:$F$120,2,FALSE)),\"@\",VLOOKUP($D5&T$4,申込確認シート!$E$1:$F$120,2,FALSE))","v":"@"},null,null,{"$f":"IF(ISERROR(VLOOKUP($D5&W$4,申込確認シート!$E$1:$F$120,2,FALSE)),\"@\",VLOOKUP($D5&W$4,申込確認シート!$E$1:$F$120,2,FALSE))","v":"@"},null,null,{"$f":"IF(ISERROR(VLOOKUP($D5&Z$4,申込確認シート!$E$1:$F$120,2,FALSE)),\"@\",VLOOKUP($D5&Z$4,申込確認シート!$E$1:$F$120,2,FALSE))","v":"@"},null,null,{"$f":"IF(ISERROR(VLOOKUP($D5&AC$4,申込確認シート!$E$1:$F$120,2,FALSE)),\"@\",VLOOKUP($D5&AC$4,申込確認シート!$E$1:$F$120,2,FALSE))","v":"@"},null,null,{"$f":"IF(ISERROR(VLOOKUP($D5&AF$4,申込確認シート!$E$1:$F$120,2,FALSE)),\"@\",VLOOKUP($D5&AF$4,申込確認シート!$E$1:$F$120,2,FALSE))","v":"@"},null,null,{"$f":"IF(ISERROR(VLOOKUP($D5&AI$4,申込確認シート!$E$1:$F$120,2,FALSE)),\"@\",VLOOKUP($D5&AI$4,申込確認シート!$E$1:$F$120,2,FALSE))","v":"@"},null,null,{"$f":"IF(ISERROR(VLOOKUP($D5&AL$4,申込確認シート!$E$1:$F$120,2,FALSE)),\"@\",VLOOKUP($D5&AL$4,申込確認シート!$E$1:$F$120,2,FALSE))","v":"@"},null,null,{"$f":"IF(ISERROR(VLOOKUP($D5&AO$4,申込確認シート!$E$1:$F$120,2,FALSE)),\"@\",VLOOKUP($D5&AO$4,申込確認シート!$E$1:$F$120,2,FALSE))","v":"@"},null,null,{"$f":"IF(ISERROR(VLOOKUP($D5&AR$4,申込確認シート!$E$1:$F$120,2,FALSE)),\"@\",VLOOKUP($D5&AR$4,申込確認シート!$E$1:$F$120,2,FALSE))","v":"@"},null,null,{"$f":"IF(ISERROR(VLOOKUP($D5&AU$4,申込確認シート!$E$1:$F$120,2,FALSE)),\"@\",VLOOKUP($D5&AU$4,申込確認シート!$E$1:$F$120,2,FALSE))","v":"@"},null,null,{"$f":"COUNTIF(申込確認シート!$C$1:$C$120,D5)","v":0}]
[null,2,{"$f":"IF(15-COUNTIF(E6:AW6,\"@\")=0,\"\",15-COUNTIF(E6:AW6,\"@\"))","v":""},{"$f":"IF(HLOOKUP(入力表!$E$4&\"男\",入力表!$DB$11:$DJ$50,B6+4,FALSE)=\"*\",\"\",HLOOKUP(入力表!$E$4&\"男\",入力表!$DB$11:$DJ$50,B6+4,FALSE))","v":{"$error":"#N/A"}},{"$f":"IF(ISERROR(VLOOKUP($D6&E$4,申込確認シート!$E$1:$F$120,2,FALSE)),\"@\",VLOOKUP($D6&E$4,申込確認シート!$E$1:$F$120,2,FALSE))","v":"@"},null,null,{"$f":"IF(ISERROR(VLOOKUP($D6&H$4,申込確認シート!$E$1:$F$120,2,FALSE)),\"@\",VLOOKUP($D6&H$4,申込確認シート!$E$1:$F$120,2,FALSE))","v":"@"},null,null,{"$f":"IF(ISERROR(VLOOKUP($D6&K$4,申込確認シート!$E$1:$F$120,2,FALSE)),\"@\",VLOOKUP($D6&K$4,申込確認シート!$E$1:$F$120,2,FALSE))","v":"@"},null,null,{"$f":"IF(ISERROR(VLOOKUP($D6&N$4,申込確認シート!$E$1:$F$120,2,FALSE)),\"@\",VLOOKUP($D6&N$4,申込確認シート!$E$1:$F$120,2,FALSE))","v":"@"},null,null,{"$f":"IF(ISERROR(VLOOKUP($D6&Q$4,申込確認シート!$E$1:$F$120,2,FALSE)),\"@\",VLOOKUP($D6&Q$4,申込確認シート!$E$1:$F$120,2,FALSE))","v":"@"},null,null,{"$f":"IF(ISERROR(VLOOKUP($D6&T$4,申込確認シート!$E$1:$F$120,2,FALSE)),\"@\",VLOOKUP($D6&T$4,申込確認シート!$E$1:$F$120,2,FALSE))","v":"@"},null,null,{"$f":"IF(ISERROR(VLOOKUP($D6&W$4,申込確認シート!$E$1:$F$120,2,FALSE)),\"@\",VLOOKUP($D6&W$4,申込確認シート!$E$1:$F$120,2,FALSE))","v":"@"},null,null,{"$f":"IF(ISERROR(VLOOKUP($D6&Z$4,申込確認シート!$E$1:$F$120,2,FALSE)),\"@\",VLOOKUP($D6&Z$4,申込確認シート!$E$1:$F$120,2,FALSE))","v":"@"},null,null,{"$f":"IF(ISERROR(VLOOKUP($D6&AC$4,申込確認シート!$E$1:$F$120,2,FALSE)),\"@\",VLOOKUP($D6&AC$4,申込確認シート!$E$1:$F$120,2,FALSE))","v":"@"},null,null,{"$f":"IF(ISERROR(VLOOKUP($D6&AF$4,申込確認シート!$E$1:$F$120,2,FALSE)),\"@\",VLOOKUP($D6&AF$4,申込確認シート!$E$1:$F$120,2,FALSE))","v":"@"},null,null,{"$f":"IF(ISERROR(VLOOKUP($D6&AI$4,申込確認シート!$E$1:$F$120,2,FALSE)),\"@\",VLOOKUP($D6&AI$4,申込確認シート!$E$1:$F$120,2,FALSE))","v":"@"},null,null,{"$f":"IF(ISERROR(VLOOKUP($D6&AL$4,申込確認シート!$E$1:$F$120,2,FALSE)),\"@\",VLOOKUP($D6&AL$4,申込確認シート!$E$1:$F$120,2,FALSE))","v":"@"},null,null,{"$f":"IF(ISERROR(VLOOKUP($D6&AO$4,申込確認シート!$E$1:$F$120,2,FALSE)),\"@\",VLOOKUP($D6&AO$4,申込確認シート!$E$1:$F$120,2,FALSE))","v":"@"},null,null,{"$f":"IF(ISERROR(VLOOKUP($D6&AR$4,申込確認シート!$E$1:$F$120,2,FALSE)),\"@\",VLOOKUP($D6&AR$4,申込確認シート!$E$1:$F$120,2,FALSE))","v":"@"},null,null,{"$f":"IF(ISERROR(VLOOKUP($D6&AU$4,申込確認シート!$E$1:$F$120,2,FALSE)),\"@\",VLOOKUP($D6&AU$4,申込確認シート!$E$1:$F$120,2,FALSE))","v":"@"},null,null,{"$f":"COUNTIF(申込確認シート!$C$1:$C$120,D6)","v":0}]
[null,3,"",{"$f":"IF(HLOOKUP(入力表!$E$4&\"男\",入力表!$DB$11:$DJ$50,B7+4,FALSE)=\"*\",\"\",HLOOKUP(入力表!$E$4&\"男\",入力表!$DB$11:$DJ$50,B7+4,FALSE))","v":{"$error":"#N/A"}},{"$f":"IF(ISERROR(VLOOKUP($D7&E$4,申込確認シート!$E$1:$F$120,2,FALSE)),\"@\",VLOOKUP($D7&E$4,申込確認シート!$E$1:$F$120,2,FALSE))","v":"@"},null,null,{"$f":"IF(ISERROR(VLOOKUP($D7&H$4,申込確認シート!$E$1:$F$120,2,FALSE)),\"@\",VLOOKUP($D7&H$4,申込確認シート!$E$1:$F$120,2,FALSE))","v":"@"},null,null,{"$f":"IF(ISERROR(VLOOKUP($D7&K$4,申込確認シート!$E$1:$F$120,2,FALSE)),\"@\",VLOOKUP($D7&K$4,申込確認シート!$E$1:$F$120,2,FALSE))","v":"@"},null,null,{"$f":"IF(ISERROR(VLOOKUP($D7&N$4,申込確認シート!$E$1:$F$120,2,FALSE)),\"@\",VLOOKUP($D7&N$4,申込確認シート!$E$1:$F$120,2,FALSE))","v":"@"},null,null,{"$f":"IF(ISERROR(VLOOKUP($D7&Q$4,申込確認シート!$E$1:$F$120,2,FALSE)),\"@\",VLOOKUP($D7&Q$4,申込確認シート!$E$1:$F$120,2,FALSE))","v":"@"},null,null,{"$f":"IF(ISERROR(VLOOKUP($D7&T$4,申込確認シート!$E$1:$F$120,2,FALSE)),\"@\",VLOOKUP($D7&T$4,申込確認シート!$E$1:$F$120,2,FALSE))","v":"@"},null,null,{"$f":"IF(ISERROR(VLOOKUP($D7&W$4,申込確認シート!$E$1:$F$120,2,FALSE)),\"@\",VLOOKUP($D7&W$4,申込確認シート!$E$1:$F$120,2,FALSE))","v":"@"},null,null,{"$f":"IF(ISERROR(VLOOKUP($D7&Z$4,申込確認シート!$E$1:$F$120,2,FALSE)),\"@\",VLOOKUP($D7&Z$4,申込確認シート!$E$1:$F$120,2,FALSE))","v":"@"},null,null,{"$f":"IF(ISERROR(VLOOKUP($D7&AC$4,申込確認シート!$E$1:$F$120,2,FALSE)),\"@\",VLOOKUP($D7&AC$4,申込確認シート!$E$1:$F$120,2,FALSE))","v":"@"},null,null,{"$f":"IF(ISERROR(VLOOKUP($D7&AF$4,申込確認シート!$E$1:$F$120,2,FALSE)),\"@\",VLOOKUP($D7&AF$4,申込確認シート!$E$1:$F$120,2,FALSE))","v":"@"},null,null,{"$f":"IF(ISERROR(VLOOKUP($D7&AI$4,申込確認シート!$E$1:$F$120,2,FALSE)),\"@\",VLOOKUP($D7&AI$4,申込確認シート!$E$1:$F$120,2,FALSE))","v":"@"},null,null,{"$f":"IF(ISERROR(VLOOKUP($D7&AL$4,申込確認シート!$E$1:$F$120,2,FALSE)),\"@\",VLOOKUP($D7&AL$4,申込確認シート!$E$1:$F$120,2,FALSE))","v":"@"},null,null,{"$f":"IF(ISERROR(VLOOKUP($D7&AO$4,申込確認シート!$E$1:$F$120,2,FALSE)),\"@\",VLOOKUP($D7&AO$4,申込確認シート!$E$1:$F$120,2,FALSE))","v":"@"},null,null,{"$f":"IF(ISERROR(VLOOKUP($D7&AR$4,申込確認シート!$E$1:$F$120,2,FALSE)),\"@\",VLOOKUP($D7&AR$4,申込確認シート!$E$1:$F$120,2,FALSE))","v":"@"},null,null,{"$f":"IF(ISERROR(VLOOKUP($D7&AU$4,申込確認シート!$E$1:$F$120,2,FALSE)),\"@\",VLOOKUP($D7&AU$4,申込確認シート!$E$1:$F$120,2,FALSE))","v":"@"},null,null,{"$f":"COUNTIF(申込確認シート!$C$1:$C$120,D7)","v":0}]
[null,4,"",{"$f":"IF(HLOOKUP(入力表!$E$4&\"男\",入力表!$DB$11:$DJ$50,B8+4,FALSE)=\"*\",\"\",HLOOKUP(入力表!$E$4&\"男\",入力表!$DB$11:$DJ$50,B8+4,FALSE))","v":{"$error":"#N/A"}},{"$f":"IF(ISERROR(VLOOKUP($D8&E$4,申込確認シート!$E$1:$F$120,2,FALSE)),\"@\",VLOOKUP($D8&E$4,申込確認シート!$E$1:$F$120,2,FALSE))","v":"@"},null,null,{"$f":"IF(ISERROR(VLOOKUP($D8&H$4,申込確認シート!$E$1:$F$120,2,FALSE)),\"@\",VLOOKUP($D8&H$4,申込確認シート!$E$1:$F$120,2,FALSE))","v":"@"},null,null,{"$f":"IF(ISERROR(VLOOKUP($D8&K$4,申込確認シート!$E$1:$F$120,2,FALSE)),\"@\",VLOOKUP($D8&K$4,申込確認シート!$E$1:$F$120,2,FALSE))","v":"@"},null,null,{"$f":"IF(ISERROR(VLOOKUP($D8&N$4,申込確認シート!$E$1:$F$120,2,FALSE)),\"@\",VLOOKUP($D8&N$4,申込確認シート!$E$1:$F$120,2,FALSE))","v":"@"},null,null,{"$f":"IF(ISERROR(VLOOKUP($D8&Q$4,申込確認シート!$E$1:$F$120,2,FALSE)),\"@\",VLOOKUP($D8&Q$4,申込確認シート!$E$1:$F$120,2,FALSE))","v":"@"},null,null,{"$f":"IF(ISERROR(VLOOKUP($D8&T$4,申込確認シート!$E$1:$F$120,2,FALSE)),\"@\",VLOOKUP($D8&T$4,申込確認シート!$E$1:$F$120,2,FALSE))","v":"@"},null,null,{"$f":"IF(ISERROR(VLOOKUP($D8&W$4,申込確認シート!$E$1:$F$120,2,FALSE)),\"@\",VLOOKUP($D8&W$4,申込確認シート!$E$1:$F$120,2,FALSE))","v":"@"},null,null,{"$f":"IF(ISERROR(VLOOKUP($D8&Z$4,申込確認シート!$E$1:$F$120,2,FALSE)),\"@\",VLOOKUP($D8&Z$4,申込確認シート!$E$1:$F$120,2,FALSE))","v":"@"},null,null,{"$f":"IF(ISERROR(VLOOKUP($D8&AC$4,申込確認シート!$E$1:$F$120,2,FALSE)),\"@\",VLOOKUP($D8&AC$4,申込確認シート!$E$1:$F$120,2,FALSE))","v":"@"},null,null,{"$f":"IF(ISERROR(VLOOKUP($D8&AF$4,申込確認シート!$E$1:$F$120,2,FALSE)),\"@\",VLOOKUP($D8&AF$4,申込確認シート!$E$1:$F$120,2,FALSE))","v":"@"},null,null,{"$f":"IF(ISERROR(VLOOKUP($D8&AI$4,申込確認シート!$E$1:$F$120,2,FALSE)),\"@\",VLOOKUP($D8&AI$4,申込確認シート!$E$1:$F$120,2,FALSE))","v":"@"},null,null,{"$f":"IF(ISERROR(VLOOKUP($D8&AL$4,申込確認シート!$E$1:$F$120,2,FALSE)),\"@\",VLOOKUP($D8&AL$4,申込確認シート!$E$1:$F$120,2,FALSE))","v":"@"},null,null,{"$f":"IF(ISERROR(VLOOKUP($D8&AO$4,申込確認シート!$E$1:$F$120,2,FALSE)),\"@\",VLOOKUP($D8&AO$4,申込確認シート!$E$1:$F$120,2,FALSE))","v":"@"},null,null,{"$f":"IF(ISERROR(VLOOKUP($D8&AR$4,申込確認シート!$E$1:$F$120,2,FALSE)),\"@\",VLOOKUP($D8&AR$4,申込確認シート!$E$1:$F$120,2,FALSE))","v":"@"},null,null,{"$f":"IF(ISERROR(VLOOKUP($D8&AU$4,申込確認シート!$E$1:$F$120,2,FALSE)),\"@\",VLOOKUP($D8&AU$4,申込確認シート!$E$1:$F$120,2,FALSE))","v":"@"},null,null,{"$f":"COUNTIF(申込確認シート!$C$1:$C$120,D8)","v":0}]
[null,5,"",{"$f":"IF(HLOOKUP(入力表!$E$4&\"男\",入力表!$DB$11:$DJ$50,B9+4,FALSE)=\"*\",\"\",HLOOKUP(入力表!$E$4&\"男\",入力表!$DB$11:$DJ$50,B9+4,FALSE))","v":{"$error":"#N/A"}},{"$f":"IF(ISERROR(VLOOKUP($D9&E$4,申込確認シート!$E$1:$F$120,2,FALSE)),\"@\",VLOOKUP($D9&E$4,申込確認シート!$E$1:$F$120,2,FALSE))","v":"@"},null,null,{"$f":"IF(ISERROR(VLOOKUP($D9&H$4,申込確認シート!$E$1:$F$120,2,FALSE)),\"@\",VLOOKUP($D9&H$4,申込確認シート!$E$1:$F$120,2,FALSE))","v":"@"},null,null,{"$f":"IF(ISERROR(VLOOKUP($D9&K$4,申込確認シート!$E$1:$F$120,2,FALSE)),\"@\",VLOOKUP($D9&K$4,申込確認シート!$E$1:$F$120,2,FALSE))","v":"@"},null,null,{"$f":"IF(ISERROR(VLOOKUP($D9&N$4,申込確認シート!$E$1:$F$120,2,FALSE)),\"@\",VLOOKUP($D9&N$4,申込確認シート!$E$1:$F$120,2,FALSE))","v":"@"},null,null,{"$f":"IF(ISERROR(VLOOKUP($D9&Q$4,申込確認シート!$E$1:$F$120,2,FALSE)),\"@\",VLOOKUP($D9&Q$4,申込確認シート!$E$1:$F$120,2,FALSE))","v":"@"},null,null,{"$f":"IF(ISERROR(VLOOKUP($D9&T$4,申込確認シート!$E$1:$F$120,2,FALSE)),\"@\",VLOOKUP($D9&T$4,申込確認シート!$E$1:$F$120,2,FALSE))","v":"@"},null,null,{"$f":"IF(ISERROR(VLOOKUP($D9&W$4,申込確認シート!$E$1:$F$120,2,FALSE)),\"@\",VLOOKUP($D9&W$4,申込確認シート!$E$1:$F$120,2,FALSE))","v":"@"},null,null,{"$f":"IF(ISERROR(VLOOKUP($D9&Z$4,申込確認シート!$E$1:$F$120,2,FALSE)),\"@\",VLOOKUP($D9&Z$4,申込確認シート!$E$1:$F$120,2,FALSE))","v":"@"},null,null,{"$f":"IF(ISERROR(VLOOKUP($D9&AC$4,申込確認シート!$E$1:$F$120,2,FALSE)),\"@\",VLOOKUP($D9&AC$4,申込確認シート!$E$1:$F$120,2,FALSE))","v":"@"},null,null,{"$f":"IF(ISERROR(VLOOKUP($D9&AF$4,申込確認シート!$E$1:$F$120,2,FALSE)),\"@\",VLOOKUP($D9&AF$4,申込確認シート!$E$1:$F$120,2,FALSE))","v":"@"},null,null,{"$f":"IF(ISERROR(VLOOKUP($D9&AI$4,申込確認シート!$E$1:$F$120,2,FALSE)),\"@\",VLOOKUP($D9&AI$4,申込確認シート!$E$1:$F$120,2,FALSE))","v":"@"},null,null,{"$f":"IF(ISERROR(VLOOKUP($D9&AL$4,申込確認シート!$E$1:$F$120,2,FALSE)),\"@\",VLOOKUP($D9&AL$4,申込確認シート!$E$1:$F$120,2,FALSE))","v":"@"},null,null,{"$f":"IF(ISERROR(VLOOKUP($D9&AO$4,申込確認シート!$E$1:$F$120,2,FALSE)),\"@\",VLOOKUP($D9&AO$4,申込確認シート!$E$1:$F$120,2,FALSE))","v":"@"},null,null,{"$f":"IF(ISERROR(VLOOKUP($D9&AR$4,申込確認シート!$E$1:$F$120,2,FALSE)),\"@\",VLOOKUP($D9&AR$4,申込確認シート!$E$1:$F$120,2,FALSE))","v":"@"},null,null,{"$f":"IF(ISERROR(VLOOKUP($D9&AU$4,申込確認シート!$E$1:$F$120,2,FALSE)),\"@\",VLOOKUP($D9&AU$4,申込確認シート!$E$1:$F$120,2,FALSE))","v":"@"},null,null,{"$f":"COUNTIF(申込確認シート!$C$1:$C$120,D9)","v":0}]
[null,6,"",{"$f":"IF(HLOOKUP(入力表!$E$4&\"男\",入力表!$DB$11:$DJ$50,B10+4,FALSE)=\"*\",\"\",HLOOKUP(入力表!$E$4&\"男\",入力表!$DB$11:$DJ$50,B10+4,FALSE))","v":{"$error":"#N/A"}},{"$f":"IF(ISERROR(VLOOKUP($D10&E$4,申込確認シート!$E$1:$F$120,2,FALSE)),\"@\",VLOOKUP($D10&E$4,申込確認シート!$E$1:$F$120,2,FALSE))","v":"@"},null,null,{"$f":"IF(ISERROR(VLOOKUP($D10&H$4,申込確認シート!$E$1:$F$120,2,FALSE)),\"@\",VLOOKUP($D10&H$4,申込確認シート!$E$1:$F$120,2,FALSE))","v":"@"},null,null,{"$f":"IF(ISERROR(VLOOKUP($D10&K$4,申込確認シート!$E$1:$F$120,2,FALSE)),\"@\",VLOOKUP($D10&K$4,申込確認シート!$E$1:$F$120,2,FALSE))","v":"@"},null,null,{"$f":"IF(ISERROR(VLOOKUP($D10&N$4,申込確認シート!$E$1:$F$120,2,FALSE)),\"@\",VLOOKUP($D10&N$4,申込確認シート!$E$1:$F$120,2,FALSE))","v":"@"},null,null,{"$f":"IF(ISERROR(VLOOKUP($D10&Q$4,申込確認シート!$E$1:$F$120,2,FALSE)),\"@\",VLOOKUP($D10&Q$4,申込確認シート!$E$1:$F$120,2,FALSE))","v":"@"},null,null,{"$f":"IF(ISERROR(VLOOKUP($D10&T$4,申込確認シート!$E$1:$F$120,2,FALSE)),\"@\",VLOOKUP($D10&T$4,申込確認シート!$E$1:$F$120,2,FALSE))","v":"@"},null,null,{"$f":"IF(ISERROR(VLOOKUP($D10&W$4,申込確認シート!$E$1:$F$120,2,FALSE)),\"@\",VLOOKUP($D10&W$4,申込確認シート!$E$1:$F$120,2,FALSE))","v":"@"},null,null,{"$f":"IF(ISERROR(VLOOKUP($D10&Z$4,申込確認シート!$E$1:$F$120,2,FALSE)),\"@\",VLOOKUP($D10&Z$4,申込確認シート!$E$1:$F$120,2,FALSE))","v":"@"},null,null,{"$f":"IF(ISERROR(VLOOKUP($D10&AC$4,申込確認シート!$E$1:$F$120,2,FALSE)),\"@\",VLOOKUP($D10&AC$4,申込確認シート!$E$1:$F$120,2,FALSE))","v":"@"},null,null,{"$f":"IF(ISERROR(VLOOKUP($D10&AF$4,申込確認シート!$E$1:$F$120,2,FALSE)),\"@\",VLOOKUP($D10&AF$4,申込確認シート!$E$1:$F$120,2,FALSE))","v":"@"},null,null,{"$f":"IF(ISERROR(VLOOKUP($D10&AI$4,申込確認シート!$E$1:$F$120,2,FALSE)),\"@\",VLOOKUP($D10&AI$4,申込確認シート!$E$1:$F$120,2,FALSE))","v":"@"},null,null,{"$f":"IF(ISERROR(VLOOKUP($D10&AL$4,申込確認シート!$E$1:$F$120,2,FALSE)),\"@\",VLOOKUP($D10&AL$4,申込確認シート!$E$1:$F$120,2,FALSE))","v":"@"},null,null,{"$f":"IF(ISERROR(VLOOKUP($D10&AO$4,申込確認シート!$E$1:$F$120,2,FALSE)),\"@\",VLOOKUP($D10&AO$4,申込確認シート!$E$1:$F$120,2,FALSE))","v":"@"},null,null,{"$f":"IF(ISERROR(VLOOKUP($D10&AR$4,申込確認シート!$E$1:$F$120,2,FALSE)),\"@\",VLOOKUP($D10&AR$4,申込確認シート!$E$1:$F$120,2,FALSE))","v":"@"},null,null,{"$f":"IF(ISERROR(VLOOKUP($D10&AU$4,申込確認シート!$E$1:$F$120,2,FALSE)),\"@\",VLOOKUP($D10&AU$4,申込確認シート!$E$1:$F$120,2,FALSE))","v":"@"},null,null,{"$f":"COUNTIF(申込確認シート!$C$1:$C$120,D10)","v":0}]
[null,7,"",{"$f":"IF(HLOOKUP(入力表!$E$4&\"男\",入力表!$DB$11:$DJ$50,B11+4,FALSE)=\"*\",\"\",HLOOKUP(入力表!$E$4&\"男\",入力表!$DB$11:$DJ$50,B11+4,FALSE))","v":{"$error":"#N/A"}},{"$f":"IF(ISERROR(VLOOKUP($D11&E$4,申込確認シート!$E$1:$F$120,2,FALSE)),\"@\",VLOOKUP($D11&E$4,申込確認シート!$E$1:$F$120,2,FALSE))","v":"@"},null,null,{"$f":"IF(ISERROR(VLOOKUP($D11&H$4,申込確認シート!$E$1:$F$120,2,FALSE)),\"@\",VLOOKUP($D11&H$4,申込確認シート!$E$1:$F$120,2,FALSE))","v":"@"},null,null,{"$f":"IF(ISERROR(VLOOKUP($D11&K$4,申込確認シート!$E$1:$F$120,2,FALSE)),\"@\",VLOOKUP($D11&K$4,申込確認シート!$E$1:$F$120,2,FALSE))","v":"@"},null,null,{"$f":"IF(ISERROR(VLOOKUP($D11&N$4,申込確認シート!$E$1:$F$120,2,FALSE)),\"@\",VLOOKUP($D11&N$4,申込確認シート!$E$1:$F$120,2,FALSE))","v":"@"},null,null,{"$f":"IF(ISERROR(VLOOKUP($D11&Q$4,申込確認シート!$E$1:$F$120,2,FALSE)),\"@\",VLOOKUP($D11&Q$4,申込確認シート!$E$1:$F$120,2,FALSE))","v":"@"},null,null,{"$f":"IF(ISERROR(VLOOKUP($D11&T$4,申込確認シート!$E$1:$F$120,2,FALSE)),\"@\",VLOOKUP($D11&T$4,申込確認シート!$E$1:$F$120,2,FALSE))","v":"@"},null,null,{"$f":"IF(ISERROR(VLOOKUP($D11&W$4,申込確認シート!$E$1:$F$120,2,FALSE)),\"@\",VLOOKUP($D11&W$4,申込確認シート!$E$1:$F$120,2,FALSE))","v":"@"},null,null,{"$f":"IF(ISERROR(VLOOKUP($D11&Z$4,申込確認シート!$E$1:$F$120,2,FALSE)),\"@\",VLOOKUP($D11&Z$4,申込確認シート!$E$1:$F$120,2,FALSE))","v":"@"},null,null,{"$f":"IF(ISERROR(VLOOKUP($D11&AC$4,申込確認シート!$E$1:$F$120,2,FALSE)),\"@\",VLOOKUP($D11&AC$4,申込確認シート!$E$1:$F$120,2,FALSE))","v":"@"},null,null,{"$f":"IF(ISERROR(VLOOKUP($D11&AF$4,申込確認シート!$E$1:$F$120,2,FALSE)),\"@\",VLOOKUP($D11&AF$4,申込確認シート!$E$1:$F$120,2,FALSE))","v":"@"},null,null,{"$f":"IF(ISERROR(VLOOKUP($D11&AI$4,申込確認シート!$E$1:$F$120,2,FALSE)),\"@\",VLOOKUP($D11&AI$4,申込確認シート!$E$1:$F$120,2,FALSE))","v":"@"},null,null,{"$f":"IF(ISERROR(VLOOKUP($D11&AL$4,申込確認シート!$E$1:$F$120,2,FALSE)),\"@\",VLOOKUP($D11&AL$4,申込確認シート!$E$1:$F$120,2,FALSE))","v":"@"},null,null,{"$f":"IF(ISERROR(VLOOKUP($D11&AO$4,申込確認シート!$E$1:$F$120,2,FALSE)),\"@\",VLOOKUP($D11&AO$4,申込確認シート!$E$1:$F$120,2,FALSE))","v":"@"},null,null,{"$f":"IF(ISERROR(VLOOKUP($D11&AR$4,申込確認シート!$E$1:$F$120,2,FALSE)),\"@\",VLOOKUP($D11&AR$4,申込確認シート!$E$1:$F$120,2,FALSE))","v":"@"},null,null,{"$f":"IF(ISERROR(VLOOKUP($D11&AU$4,申込確認シート!$E$1:$F$120,2,FALSE)),\"@\",VLOOKUP($D11&AU$4,申込確認シート!$E$1:$F$120,2,FALSE))","v":"@"},null,null,{"$f":"COUNTIF(申込確認シート!$C$1:$C$120,D11)","v":0}]
[null,8,"",{"$f":"IF(HLOOKUP(入力表!$E$4&\"男\",入力表!$DB$11:$DJ$50,B12+4,FALSE)=\"*\",\"\",HLOOKUP(入力表!$E$4&\"男\",入力表!$DB$11:$DJ$50,B12+4,FALSE))","v":{"$error":"#N/A"}},{"$f":"IF(ISERROR(VLOOKUP($D12&E$4,申込確認シート!$E$1:$F$120,2,FALSE)),\"@\",VLOOKUP($D12&E$4,申込確認シート!$E$1:$F$120,2,FALSE))","v":"@"},null,null,{"$f":"IF(ISERROR(VLOOKUP($D12&H$4,申込確認シート!$E$1:$F$120,2,FALSE)),\"@\",VLOOKUP($D12&H$4,申込確認シート!$E$1:$F$120,2,FALSE))","v":"@"},null,null,{"$f":"IF(ISERROR(VLOOKUP($D12&K$4,申込確認シート!$E$1:$F$120,2,FALSE)),\"@\",VLOOKUP($D12&K$4,申込確認シート!$E$1:$F$120,2,FALSE))","v":"@"},null,null,{"$f":"IF(ISERROR(VLOOKUP($D12&N$4,申込確認シート!$E$1:$F$120,2,FALSE)),\"@\",VLOOKUP($D12&N$4,申込確認シート!$E$1:$F$120,2,FALSE))","v":"@"},null,null,{"$f":"IF(ISERROR(VLOOKUP($D12&Q$4,申込確認シート!$E$1:$F$120,2,FALSE)),\"@\",VLOOKUP($D12&Q$4,申込確認シート!$E$1:$F$120,2,FALSE))","v":"@"},null,null,{"$f":"IF(ISERROR(VLOOKUP($D12&T$4,申込確認シート!$E$1:$F$120,2,FALSE)),\"@\",VLOOKUP($D12&T$4,申込確認シート!$E$1:$F$120,2,FALSE))","v":"@"},null,null,{"$f":"IF(ISERROR(VLOOKUP($D12&W$4,申込確認シート!$E$1:$F$120,2,FALSE)),\"@\",VLOOKUP($D12&W$4,申込確認シート!$E$1:$F$120,2,FALSE))","v":"@"},null,null,{"$f":"IF(ISERROR(VLOOKUP($D12&Z$4,申込確認シート!$E$1:$F$120,2,FALSE)),\"@\",VLOOKUP($D12&Z$4,申込確認シート!$E$1:$F$120,2,FALSE))","v":"@"},null,null,{"$f":"IF(ISERROR(VLOOKUP($D12&AC$4,申込確認シート!$E$1:$F$120,2,FALSE)),\"@\",VLOOKUP($D12&AC$4,申込確認シート!$E$1:$F$120,2,FALSE))","v":"@"},null,null,{"$f":"IF(ISERROR(VLOOKUP($D12&AF$4,申込確認シート!$E$1:$F$120,2,FALSE)),\"@\",VLOOKUP($D12&AF$4,申込確認シート!$E$1:$F$120,2,FALSE))","v":"@"},null,null,{"$f":"IF(ISERROR(VLOOKUP($D12&AI$4,申込確認シート!$E$1:$F$120,2,FALSE)),\"@\",VLOOKUP($D12&AI$4,申込確認シート!$E$1:$F$120,2,FALSE))","v":"@"},null,null,{"$f":"IF(ISERROR(VLOOKUP($D12&AL$4,申込確認シート!$E$1:$F$120,2,FALSE)),\"@\",VLOOKUP($D12&AL$4,申込確認シート!$E$1:$F$120,2,FALSE))","v":"@"},null,null,{"$f":"IF(ISERROR(VLOOKUP($D12&AO$4,申込確認シート!$E$1:$F$120,2,FALSE)),\"@\",VLOOKUP($D12&AO$4,申込確認シート!$E$1:$F$120,2,FALSE))","v":"@"},null,null,{"$f":"IF(ISERROR(VLOOKUP($D12&AR$4,申込確認シート!$E$1:$F$120,2,FALSE)),\"@\",VLOOKUP($D12&AR$4,申込確認シート!$E$1:$F$120,2,FALSE))","v":"@"},null,null,{"$f":"IF(ISERROR(VLOOKUP($D12&AU$4,申込確認シート!$E$1:$F$120,2,FALSE)),\"@\",VLOOKUP($D12&AU$4,申込確認シート!$E$1:$F$120,2,FALSE))","v":"@"},null,null,{"$f":"COUNTIF(申込確認シート!$C$1:$C$120,D12)","v":0}]
[null,9,"",{"$f":"IF(HLOOKUP(入力表!$E$4&\"男\",入力表!$DB$11:$DJ$50,B13+4,FALSE)=\"*\",\"\",HLOOKUP(入力表!$E$4&\"男\",入力表!$DB$11:$DJ$50,B13+4,FALSE))","v":{"$error":"#N/A"}},{"$f":"IF(ISERROR(VLOOKUP($D13&E$4,申込確認シート!$E$1:$F$120,2,FALSE)),\"@\",VLOOKUP($D13&E$4,申込確認シート!$E$1:$F$120,2,FALSE))","v":"@"},null,null,{"$f":"IF(ISERROR(VLOOKUP($D13&H$4,申込確認シート!$E$1:$F$120,2,FALSE)),\"@\",VLOOKUP($D13&H$4,申込確認シート!$E$1:$F$120,2,FALSE))","v":"@"},null,null,{"$f":"IF(ISERROR(VLOOKUP($D13&K$4,申込確認シート!$E$1:$F$120,2,FALSE)),\"@\",VLOOKUP($D13&K$4,申込確認シート!$E$1:$F$120,2,FALSE))","v":"@"},null,null,{"$f":"IF(ISERROR(VLOOKUP($D13&N$4,申込確認シート!$E$1:$F$120,2,FALSE)),\"@\",VLOOKUP($D13&N$4,申込確認シート!$E$1:$F$120,2,FALSE))","v":"@"},null,null,{"$f":"IF(ISERROR(VLOOKUP($D13&Q$4,申込確認シート!$E$1:$F$120,2,FALSE)),\"@\",VLOOKUP($D13&Q$4,申込確認シート!$E$1:$F$120,2,FALSE))","v":"@"},null,null,{"$f":"IF(ISERROR(VLOOKUP($D13&T$4,申込確認シート!$E$1:$F$120,2,FALSE)),\"@\",VLOOKUP($D13&T$4,申込確認シート!$E$1:$F$120,2,FALSE))","v":"@"},null,null,{"$f":"IF(ISERROR(VLOOKUP($D13&W$4,申込確認シート!$E$1:$F$120,2,FALSE)),\"@\",VLOOKUP($D13&W$4,申込確認シート!$E$1:$F$120,2,FALSE))","v":"@"},null,null,{"$f":"IF(ISERROR(VLOOKUP($D13&Z$4,申込確認シート!$E$1:$F$120,2,FALSE)),\"@\",VLOOKUP($D13&Z$4,申込確認シート!$E$1:$F$120,2,FALSE))","v":"@"},null,null,{"$f":"IF(ISERROR(VLOOKUP($D13&AC$4,申込確認シート!$E$1:$F$120,2,FALSE)),\"@\",VLOOKUP($D13&AC$4,申込確認シート!$E$1:$F$120,2,FALSE))","v":"@"},null,null,{"$f":"IF(ISERROR(VLOOKUP($D13&AF$4,申込確認シート!$E$1:$F$120,2,FALSE)),\"@\",VLOOKUP($D13&AF$4,申込確認シート!$E$1:$F$120,2,FALSE))","v":"@"},null,null,{"$f":"IF(ISERROR(VLOOKUP($D13&AI$4,申込確認シート!$E$1:$F$120,2,FALSE)),\"@\",VLOOKUP($D13&AI$4,申込確認シート!$E$1:$F$120,2,FALSE))","v":"@"},null,null,{"$f":"IF(ISERROR(VLOOKUP($D13&AL$4,申込確認シート!$E$1:$F$120,2,FALSE)),\"@\",VLOOKUP($D13&AL$4,申込確認シート!$E$1:$F$120,2,FALSE))","v":"@"},null,null,{"$f":"IF(ISERROR(VLOOKUP($D13&AO$4,申込確認シート!$E$1:$F$120,2,FALSE)),\"@\",VLOOKUP($D13&AO$4,申込確認シート!$E$1:$F$120,2,FALSE))","v":"@"},null,null,{"$f":"IF(ISERROR(VLOOKUP($D13&AR$4,申込確認シート!$E$1:$F$120,2,FALSE)),\"@\",VLOOKUP($D13&AR$4,申込確認シート!$E$1:$F$120,2,FALSE))","v":"@"},null,null,{"$f":"IF(ISERROR(VLOOKUP($D13&AU$4,申込確認シート!$E$1:$F$120,2,FALSE)),\"@\",VLOOKUP($D13&AU$4,申込確認シート!$E$1:$F$120,2,FALSE))","v":"@"},null,null,{"$f":"COUNTIF(申込確認シート!$C$1:$C$120,D13)","v":0}]
[null,10,"",{"$f":"IF(HLOOKUP(入力表!$E$4&\"男\",入力表!$DB$11:$DJ$50,B14+4,FALSE)=\"*\",\"\",HLOOKUP(入力表!$E$4&\"男\",入力表!$DB$11:$DJ$50,B14+4,FALSE))","v":{"$error":"#N/A"}},{"$f":"IF(ISERROR(VLOOKUP($D14&E$4,申込確認シート!$E$1:$F$120,2,FALSE)),\"@\",VLOOKUP($D14&E$4,申込確認シート!$E$1:$F$120,2,FALSE))","v":"@"},null,null,{"$f":"IF(ISERROR(VLOOKUP($D14&H$4,申込確認シート!$E$1:$F$120,2,FALSE)),\"@\",VLOOKUP($D14&H$4,申込確認シート!$E$1:$F$120,2,FALSE))","v":"@"},null,null,{"$f":"IF(ISERROR(VLOOKUP($D14&K$4,申込確認シート!$E$1:$F$120,2,FALSE)),\"@\",VLOOKUP($D14&K$4,申込確認シート!$E$1:$F$120,2,FALSE))","v":"@"},null,null,{"$f":"IF(ISERROR(VLOOKUP($D14&N$4,申込確認シート!$E$1:$F$120,2,FALSE)),\"@\",VLOOKUP($D14&N$4,申込確認シート!$E$1:$F$120,2,FALSE))","v":"@"},null,null,{"$f":"IF(ISERROR(VLOOKUP($D14&Q$4,申込確認シート!$E$1:$F$120,2,FALSE)),\"@\",VLOOKUP($D14&Q$4,申込確認シート!$E$1:$F$120,2,FALSE))","v":"@"},null,null,{"$f":"IF(ISERROR(VLOOKUP($D14&T$4,申込確認シート!$E$1:$F$120,2,FALSE)),\"@\",VLOOKUP($D14&T$4,申込確認シート!$E$1:$F$120,2,FALSE))","v":"@"},null,null,{"$f":"IF(ISERROR(VLOOKUP($D14&W$4,申込確認シート!$E$1:$F$120,2,FALSE)),\"@\",VLOOKUP($D14&W$4,申込確認シート!$E$1:$F$120,2,FALSE))","v":"@"},null,null,{"$f":"IF(ISERROR(VLOOKUP($D14&Z$4,申込確認シート!$E$1:$F$120,2,FALSE)),\"@\",VLOOKUP($D14&Z$4,申込確認シート!$E$1:$F$120,2,FALSE))","v":"@"},null,null,{"$f":"IF(ISERROR(VLOOKUP($D14&AC$4,申込確認シート!$E$1:$F$120,2,FALSE)),\"@\",VLOOKUP($D14&AC$4,申込確認シート!$E$1:$F$120,2,FALSE))","v":"@"},null,null,{"$f":"IF(ISERROR(VLOOKUP($D14&AF$4,申込確認シート!$E$1:$F$120,2,FALSE)),\"@\",VLOOKUP($D14&AF$4,申込確認シート!$E$1:$F$120,2,FALSE))","v":"@"},null,null,{"$f":"IF(ISERROR(VLOOKUP($D14&AI$4,申込確認シート!$E$1:$F$120,2,FALSE)),\"@\",VLOOKUP($D14&AI$4,申込確認シート!$E$1:$F$120,2,FALSE))","v":"@"},null,null,{"$f":"IF(ISERROR(VLOOKUP($D14&AL$4,申込確認シート!$E$1:$F$120,2,FALSE)),\"@\",VLOOKUP($D14&AL$4,申込確認シート!$E$1:$F$120,2,FALSE))","v":"@"},null,null,{"$f":"IF(ISERROR(VLOOKUP($D14&AO$4,申込確認シート!$E$1:$F$120,2,FALSE)),\"@\",VLOOKUP($D14&AO$4,申込確認シート!$E$1:$F$120,2,FALSE))","v":"@"},null,null,{"$f":"IF(ISERROR(VLOOKUP($D14&AR$4,申込確認シート!$E$1:$F$120,2,FALSE)),\"@\",VLOOKUP($D14&AR$4,申込確認シート!$E$1:$F$120,2,FALSE))","v":"@"},null,null,{"$f":"IF(ISERROR(VLOOKUP($D14&AU$4,申込確認シート!$E$1:$F$120,2,FALSE)),\"@\",VLOOKUP($D14&AU$4,申込確認シート!$E$1:$F$120,2,FALSE))","v":"@"},null,null,{"$f":"COUNTIF(申込確認シート!$C$1:$C$120,D14)","v":0}]
[null,11,"",{"$f":"IF(HLOOKUP(入力表!$E$4&\"男\",入力表!$DB$11:$DJ$50,B15+4,FALSE)=\"*\",\"\",HLOOKUP(入力表!$E$4&\"男\",入力表!$DB$11:$DJ$50,B15+4,FALSE))","v":{"$error":"#N/A"}},{"$f":"IF(ISERROR(VLOOKUP($D15&E$4,申込確認シート!$E$1:$F$120,2,FALSE)),\"@\",VLOOKUP($D15&E$4,申込確認シート!$E$1:$F$120,2,FALSE))","v":"@"},null,null,{"$f":"IF(ISERROR(VLOOKUP($D15&H$4,申込確認シート!$E$1:$F$120,2,FALSE)),\"@\",VLOOKUP($D15&H$4,申込確認シート!$E$1:$F$120,2,FALSE))","v":"@"},null,null,{"$f":"IF(ISERROR(VLOOKUP($D15&K$4,申込確認シート!$E$1:$F$120,2,FALSE)),\"@\",VLOOKUP($D15&K$4,申込確認シート!$E$1:$F$120,2,FALSE))","v":"@"},null,null,{"$f":"IF(ISERROR(VLOOKUP($D15&N$4,申込確認シート!$E$1:$F$120,2,FALSE)),\"@\",VLOOKUP($D15&N$4,申込確認シート!$E$1:$F$120,2,FALSE))","v":"@"},null,null,{"$f":"IF(ISERROR(VLOOKUP($D15&Q$4,申込確認シート!$E$1:$F$120,2,FALSE)),\"@\",VLOOKUP($D15&Q$4,申込確認シート!$E$1:$F$120,2,FALSE))","v":"@"},null,null,{"$f":"IF(ISERROR(VLOOKUP($D15&T$4,申込確認シート!$E$1:$F$120,2,FALSE)),\"@\",VLOOKUP($D15&T$4,申込確認シート!$E$1:$F$120,2,FALSE))","v":"@"},null,null,{"$f":"IF(ISERROR(VLOOKUP($D15&W$4,申込確認シート!$E$1:$F$120,2,FALSE)),\"@\",VLOOKUP($D15&W$4,申込確認シート!$E$1:$F$120,2,FALSE))","v":"@"},null,null,{"$f":"IF(ISERROR(VLOOKUP($D15&Z$4,申込確認シート!$E$1:$F$120,2,FALSE)),\"@\",VLOOKUP($D15&Z$4,申込確認シート!$E$1:$F$120,2,FALSE))","v":"@"},null,null,{"$f":"IF(ISERROR(VLOOKUP($D15&AC$4,申込確認シート!$E$1:$F$120,2,FALSE)),\"@\",VLOOKUP($D15&AC$4,申込確認シート!$E$1:$F$120,2,FALSE))","v":"@"},null,null,{"$f":"IF(ISERROR(VLOOKUP($D15&AF$4,申込確認シート!$E$1:$F$120,2,FALSE)),\"@\",VLOOKUP($D15&AF$4,申込確認シート!$E$1:$F$120,2,FALSE))","v":"@"},null,null,{"$f":"IF(ISERROR(VLOOKUP($D15&AI$4,申込確認シート!$E$1:$F$120,2,FALSE)),\"@\",VLOOKUP($D15&AI$4,申込確認シート!$E$1:$F$120,2,FALSE))","v":"@"},null,null,{"$f":"IF(ISERROR(VLOOKUP($D15&AL$4,申込確認シート!$E$1:$F$120,2,FALSE)),\"@\",VLOOKUP($D15&AL$4,申込確認シート!$E$1:$F$120,2,FALSE))","v":"@"},null,null,{"$f":"IF(ISERROR(VLOOKUP($D15&AO$4,申込確認シート!$E$1:$F$120,2,FALSE)),\"@\",VLOOKUP($D15&AO$4,申込確認シート!$E$1:$F$120,2,FALSE))","v":"@"},null,null,{"$f":"IF(ISERROR(VLOOKUP($D15&AR$4,申込確認シート!$E$1:$F$120,2,FALSE)),\"@\",VLOOKUP($D15&AR$4,申込確認シート!$E$1:$F$120,2,FALSE))","v":"@"},null,null,{"$f":"IF(ISERROR(VLOOKUP($D15&AU$4,申込確認シート!$E$1:$F$120,2,FALSE)),\"@\",VLOOKUP($D15&AU$4,申込確認シート!$E$1:$F$120,2,FALSE))","v":"@"},null,null,{"$f":"COUNTIF(申込確認シート!$C$1:$C$120,D15)","v":0}]
[null,12,"",{"$f":"IF(HLOOKUP(入力表!$E$4&\"男\",入力表!$DB$11:$DJ$50,B16+4,FALSE)=\"*\",\"\",HLOOKUP(入力表!$E$4&\"男\",入力表!$DB$11:$DJ$50,B16+4,FALSE))","v":{"$error":"#N/A"}},{"$f":"IF(ISERROR(VLOOKUP($D16&E$4,申込確認シート!$E$1:$F$120,2,FALSE)),\"@\",VLOOKUP($D16&E$4,申込確認シート!$E$1:$F$120,2,FALSE))","v":"@"},null,null,{"$f":"IF(ISERROR(VLOOKUP($D16&H$4,申込確認シート!$E$1:$F$120,2,FALSE)),\"@\",VLOOKUP($D16&H$4,申込確認シート!$E$1:$F$120,2,FALSE))","v":"@"},null,null,{"$f":"IF(ISERROR(VLOOKUP($D16&K$4,申込確認シート!$E$1:$F$120,2,FALSE)),\"@\",VLOOKUP($D16&K$4,申込確認シート!$E$1:$F$120,2,FALSE))","v":"@"},null,null,{"$f":"IF(ISERROR(VLOOKUP($D16&N$4,申込確認シート!$E$1:$F$120,2,FALSE)),\"@\",VLOOKUP($D16&N$4,申込確認シート!$E$1:$F$120,2,FALSE))","v":"@"},null,null,{"$f":"IF(ISERROR(VLOOKUP($D16&Q$4,申込確認シート!$E$1:$F$120,2,FALSE)),\"@\",VLOOKUP($D16&Q$4,申込確認シート!$E$1:$F$120,2,FALSE))","v":"@"},null,null,{"$f":"IF(ISERROR(VLOOKUP($D16&T$4,申込確認シート!$E$1:$F$120,2,FALSE)),\"@\",VLOOKUP($D16&T$4,申込確認シート!$E$1:$F$120,2,FALSE))","v":"@"},null,null,{"$f":"IF(ISERROR(VLOOKUP($D16&W$4,申込確認シート!$E$1:$F$120,2,FALSE)),\"@\",VLOOKUP($D16&W$4,申込確認シート!$E$1:$F$120,2,FALSE))","v":"@"},null,null,{"$f":"IF(ISERROR(VLOOKUP($D16&Z$4,申込確認シート!$E$1:$F$120,2,FALSE)),\"@\",VLOOKUP($D16&Z$4,申込確認シート!$E$1:$F$120,2,FALSE))","v":"@"},null,null,{"$f":"IF(ISERROR(VLOOKUP($D16&AC$4,申込確認シート!$E$1:$F$120,2,FALSE)),\"@\",VLOOKUP($D16&AC$4,申込確認シート!$E$1:$F$120,2,FALSE))","v":"@"},null,null,{"$f":"IF(ISERROR(VLOOKUP($D16&AF$4,申込確認シート!$E$1:$F$120,2,FALSE)),\"@\",VLOOKUP($D16&AF$4,申込確認シート!$E$1:$F$120,2,FALSE))","v":"@"},null,null,{"$f":"IF(ISERROR(VLOOKUP($D16&AI$4,申込確認シート!$E$1:$F$120,2,FALSE)),\"@\",VLOOKUP($D16&AI$4,申込確認シート!$E$1:$F$120,2,FALSE))","v":"@"},null,null,{"$f":"IF(ISERROR(VLOOKUP($D16&AL$4,申込確認シート!$E$1:$F$120,2,FALSE)),\"@\",VLOOKUP($D16&AL$4,申込確認シート!$E$1:$F$120,2,FALSE))","v":"@"},null,null,{"$f":"IF(ISERROR(VLOOKUP($D16&AO$4,申込確認シート!$E$1:$F$120,2,FALSE)),\"@\",VLOOKUP($D16&AO$4,申込確認シート!$E$1:$F$120,2,FALSE))","v":"@"},null,null,{"$f":"IF(ISERROR(VLOOKUP($D16&AR$4,申込確認シート!$E$1:$F$120,2,FALSE)),\"@\",VLOOKUP($D16&AR$4,申込確認シート!$E$1:$F$120,2,FALSE))","v":"@"},null,null,{"$f":"IF(ISERROR(VLOOKUP($D16&AU$4,申込確認シート!$E$1:$F$120,2,FALSE)),\"@\",VLOOKUP($D16&AU$4,申込確認シート!$E$1:$F$120,2,FALSE))","v":"@"},null,null,{"$f":"COUNTIF(申込確認シート!$C$1:$C$120,D16)","v":0}]
[null,13,"",{"$f":"IF(HLOOKUP(入力表!$E$4&\"男\",入力表!$DB$11:$DJ$50,B17+4,FALSE)=\"*\",\"\",HLOOKUP(入力表!$E$4&\"男\",入力表!$DB$11:$DJ$50,B17+4,FALSE))","v":{"$error":"#N/A"}},{"$f":"IF(ISERROR(VLOOKUP($D17&E$4,申込確認シート!$E$1:$F$120,2,FALSE)),\"@\",VLOOKUP($D17&E$4,申込確認シート!$E$1:$F$120,2,FALSE))","v":"@"},null,null,{"$f":"IF(ISERROR(VLOOKUP($D17&H$4,申込確認シート!$E$1:$F$120,2,FALSE)),\"@\",VLOOKUP($D17&H$4,申込確認シート!$E$1:$F$120,2,FALSE))","v":"@"},null,null,{"$f":"IF(ISERROR(VLOOKUP($D17&K$4,申込確認シート!$E$1:$F$120,2,FALSE)),\"@\",VLOOKUP($D17&K$4,申込確認シート!$E$1:$F$120,2,FALSE))","v":"@"},null,null,{"$f":"IF(ISERROR(VLOOKUP($D17&N$4,申込確認シート!$E$1:$F$120,2,FALSE)),\"@\",VLOOKUP($D17&N$4,申込確認シート!$E$1:$F$120,2,FALSE))","v":"@"},null,null,{"$f":"IF(ISERROR(VLOOKUP($D17&Q$4,申込確認シート!$E$1:$F$120,2,FALSE)),\"@\",VLOOKUP($D17&Q$4,申込確認シート!$E$1:$F$120,2,FALSE))","v":"@"},null,null,{"$f":"IF(ISERROR(VLOOKUP($D17&T$4,申込確認シート!$E$1:$F$120,2,FALSE)),\"@\",VLOOKUP($D17&T$4,申込確認シート!$E$1:$F$120,2,FALSE))","v":"@"},null,null,{"$f":"IF(ISERROR(VLOOKUP($D17&W$4,申込確認シート!$E$1:$F$120,2,FALSE)),\"@\",VLOOKUP($D17&W$4,申込確認シート!$E$1:$F$120,2,FALSE))","v":"@"},null,null,{"$f":"IF(ISERROR(VLOOKUP($D17&Z$4,申込確認シート!$E$1:$F$120,2,FALSE)),\"@\",VLOOKUP($D17&Z$4,申込確認シート!$E$1:$F$120,2,FALSE))","v":"@"},null,null,{"$f":"IF(ISERROR(VLOOKUP($D17&AC$4,申込確認シート!$E$1:$F$120,2,FALSE)),\"@\",VLOOKUP($D17&AC$4,申込確認シート!$E$1:$F$120,2,FALSE))","v":"@"},null,null,{"$f":"IF(ISERROR(VLOOKUP($D17&AF$4,申込確認シート!$E$1:$F$120,2,FALSE)),\"@\",VLOOKUP($D17&AF$4,申込確認シート!$E$1:$F$120,2,FALSE))","v":"@"},null,null,{"$f":"IF(ISERROR(VLOOKUP($D17&AI$4,申込確認シート!$E$1:$F$120,2,FALSE)),\"@\",VLOOKUP($D17&AI$4,申込確認シート!$E$1:$F$120,2,FALSE))","v":"@"},null,null,{"$f":"IF(ISERROR(VLOOKUP($D17&AL$4,申込確認シート!$E$1:$F$120,2,FALSE)),\"@\",VLOOKUP($D17&AL$4,申込確認シート!$E$1:$F$120,2,FALSE))","v":"@"},null,null,{"$f":"IF(ISERROR(VLOOKUP($D17&AO$4,申込確認シート!$E$1:$F$120,2,FALSE)),\"@\",VLOOKUP($D17&AO$4,申込確認シート!$E$1:$F$120,2,FALSE))","v":"@"},null,null,{"$f":"IF(ISERROR(VLOOKUP($D17&AR$4,申込確認シート!$E$1:$F$120,2,FALSE)),\"@\",VLOOKUP($D17&AR$4,申込確認シート!$E$1:$F$120,2,FALSE))","v":"@"},null,null,{"$f":"IF(ISERROR(VLOOKUP($D17&AU$4,申込確認シート!$E$1:$F$120,2,FALSE)),\"@\",VLOOKUP($D17&AU$4,申込確認シート!$E$1:$F$120,2,FALSE))","v":"@"},null,null,{"$f":"COUNTIF(申込確認シート!$C$1:$C$120,D17)","v":0}]
[null,14,"",{"$f":"IF(HLOOKUP(入力表!$E$4&\"男\",入力表!$DB$11:$DJ$50,B18+4,FALSE)=\"*\",\"\",HLOOKUP(入力表!$E$4&\"男\",入力表!$DB$11:$DJ$50,B18+4,FALSE))","v":{"$error":"#N/A"}},{"$f":"IF(ISERROR(VLOOKUP($D18&E$4,申込確認シート!$E$1:$F$120,2,FALSE)),\"@\",VLOOKUP($D18&E$4,申込確認シート!$E$1:$F$120,2,FALSE))","v":"@"},null,null,{"$f":"IF(ISERROR(VLOOKUP($D18&H$4,申込確認シート!$E$1:$F$120,2,FALSE)),\"@\",VLOOKUP($D18&H$4,申込確認シート!$E$1:$F$120,2,FALSE))","v":"@"},null,null,{"$f":"IF(ISERROR(VLOOKUP($D18&K$4,申込確認シート!$E$1:$F$120,2,FALSE)),\"@\",VLOOKUP($D18&K$4,申込確認シート!$E$1:$F$120,2,FALSE))","v":"@"},null,null,{"$f":"IF(ISERROR(VLOOKUP($D18&N$4,申込確認シート!$E$1:$F$120,2,FALSE)),\"@\",VLOOKUP($D18&N$4,申込確認シート!$E$1:$F$120,2,FALSE))","v":"@"},null,null,{"$f":"IF(ISERROR(VLOOKUP($D18&Q$4,申込確認シート!$E$1:$F$120,2,FALSE)),\"@\",VLOOKUP($D18&Q$4,申込確認シート!$E$1:$F$120,2,FALSE))","v":"@"},null,null,{"$f":"IF(ISERROR(VLOOKUP($D18&T$4,申込確認シート!$E$1:$F$120,2,FALSE)),\"@\",VLOOKUP($D18&T$4,申込確認シート!$E$1:$F$120,2,FALSE))","v":"@"},null,null,{"$f":"IF(ISERROR(VLOOKUP($D18&W$4,申込確認シート!$E$1:$F$120,2,FALSE)),\"@\",VLOOKUP($D18&W$4,申込確認シート!$E$1:$F$120,2,FALSE))","v":"@"},null,null,{"$f":"IF(ISERROR(VLOOKUP($D18&Z$4,申込確認シート!$E$1:$F$120,2,FALSE)),\"@\",VLOOKUP($D18&Z$4,申込確認シート!$E$1:$F$120,2,FALSE))","v":"@"},null,null,{"$f":"IF(ISERROR(VLOOKUP($D18&AC$4,申込確認シート!$E$1:$F$120,2,FALSE)),\"@\",VLOOKUP($D18&AC$4,申込確認シート!$E$1:$F$120,2,FALSE))","v":"@"},null,null,{"$f":"IF(ISERROR(VLOOKUP($D18&AF$4,申込確認シート!$E$1:$F$120,2,FALSE)),\"@\",VLOOKUP($D18&AF$4,申込確認シート!$E$1:$F$120,2,FALSE))","v":"@"},null,null,{"$f":"IF(ISERROR(VLOOKUP($D18&AI$4,申込確認シート!$E$1:$F$120,2,FALSE)),\"@\",VLOOKUP($D18&AI$4,申込確認シート!$E$1:$F$120,2,FALSE))","v":"@"},null,null,{"$f":"IF(ISERROR(VLOOKUP($D18&AL$4,申込確認シート!$E$1:$F$120,2,FALSE)),\"@\",VLOOKUP($D18&AL$4,申込確認シート!$E$1:$F$120,2,FALSE))","v":"@"},null,null,{"$f":"IF(ISERROR(VLOOKUP($D18&AO$4,申込確認シート!$E$1:$F$120,2,FALSE)),\"@\",VLOOKUP($D18&AO$4,申込確認シート!$E$1:$F$120,2,FALSE))","v":"@"},null,null,{"$f":"IF(ISERROR(VLOOKUP($D18&AR$4,申込確認シート!$E$1:$F$120,2,FALSE)),\"@\",VLOOKUP($D18&AR$4,申込確認シート!$E$1:$F$120,2,FALSE))","v":"@"},null,null,{"$f":"IF(ISERROR(VLOOKUP($D18&AU$4,申込確認シート!$E$1:$F$120,2,FALSE)),\"@\",VLOOKUP($D18&AU$4,申込確認シート!$E$1:$F$120,2,FALSE))","v":"@"},null,null,{"$f":"COUNTIF(申込確認シート!$C$1:$C$120,D18)","v":0}]
[null,15,"",{"$f":"IF(HLOOKUP(入力表!$E$4&\"男\",入力表!$DB$11:$DJ$50,B19+4,FALSE)=\"*\",\"\",HLOOKUP(入力表!$E$4&\"男\",入力表!$DB$11:$DJ$50,B19+4,FALSE))","v":{"$error":"#N/A"}},{"$f":"IF(ISERROR(VLOOKUP($D19&E$4,申込確認シート!$E$1:$F$120,2,FALSE)),\"@\",VLOOKUP($D19&E$4,申込確認シート!$E$1:$F$120,2,FALSE))","v":"@"},null,null,{"$f":"IF(ISERROR(VLOOKUP($D19&H$4,申込確認シート!$E$1:$F$120,2,FALSE)),\"@\",VLOOKUP($D19&H$4,申込確認シート!$E$1:$F$120,2,FALSE))","v":"@"},null,null,{"$f":"IF(ISERROR(VLOOKUP($D19&K$4,申込確認シート!$E$1:$F$120,2,FALSE)),\"@\",VLOOKUP($D19&K$4,申込確認シート!$E$1:$F$120,2,FALSE))","v":"@"},null,null,{"$f":"IF(ISERROR(VLOOKUP($D19&N$4,申込確認シート!$E$1:$F$120,2,FALSE)),\"@\",VLOOKUP($D19&N$4,申込確認シート!$E$1:$F$120,2,FALSE))","v":"@"},null,null,{"$f":"IF(ISERROR(VLOOKUP($D19&Q$4,申込確認シート!$E$1:$F$120,2,FALSE)),\"@\",VLOOKUP($D19&Q$4,申込確認シート!$E$1:$F$120,2,FALSE))","v":"@"},null,null,{"$f":"IF(ISERROR(VLOOKUP($D19&T$4,申込確認シート!$E$1:$F$120,2,FALSE)),\"@\",VLOOKUP($D19&T$4,申込確認シート!$E$1:$F$120,2,FALSE))","v":"@"},null,null,{"$f":"IF(ISERROR(VLOOKUP($D19&W$4,申込確認シート!$E$1:$F$120,2,FALSE)),\"@\",VLOOKUP($D19&W$4,申込確認シート!$E$1:$F$120,2,FALSE))","v":"@"},null,null,{"$f":"IF(ISERROR(VLOOKUP($D19&Z$4,申込確認シート!$E$1:$F$120,2,FALSE)),\"@\",VLOOKUP($D19&Z$4,申込確認シート!$E$1:$F$120,2,FALSE))","v":"@"},null,null,{"$f":"IF(ISERROR(VLOOKUP($D19&AC$4,申込確認シート!$E$1:$F$120,2,FALSE)),\"@\",VLOOKUP($D19&AC$4,申込確認シート!$E$1:$F$120,2,FALSE))","v":"@"},null,null,{"$f":"IF(ISERROR(VLOOKUP($D19&AF$4,申込確認シート!$E$1:$F$120,2,FALSE)),\"@\",VLOOKUP($D19&AF$4,申込確認シート!$E$1:$F$120,2,FALSE))","v":"@"},null,null,{"$f":"IF(ISERROR(VLOOKUP($D19&AI$4,申込確認シート!$E$1:$F$120,2,FALSE)),\"@\",VLOOKUP($D19&AI$4,申込確認シート!$E$1:$F$120,2,FALSE))","v":"@"},null,null,{"$f":"IF(ISERROR(VLOOKUP($D19&AL$4,申込確認シート!$E$1:$F$120,2,FALSE)),\"@\",VLOOKUP($D19&AL$4,申込確認シート!$E$1:$F$120,2,FALSE))","v":"@"},null,null,{"$f":"IF(ISERROR(VLOOKUP($D19&AO$4,申込確認シート!$E$1:$F$120,2,FALSE)),\"@\",VLOOKUP($D19&AO$4,申込確認シート!$E$1:$F$120,2,FALSE))","v":"@"},null,null,{"$f":"IF(ISERROR(VLOOKUP($D19&AR$4,申込確認シート!$E$1:$F$120,2,FALSE)),\"@\",VLOOKUP($D19&AR$4,申込確認シート!$E$1:$F$120,2,FALSE))","v":"@"},null,null,{"$f":"IF(ISERROR(VLOOKUP($D19&AU$4,申込確認シート!$E$1:$F$120,2,FALSE)),\"@\",VLOOKUP($D19&AU$4,申込確認シート!$E$1:$F$120,2,FALSE))","v":"@"},null,null,{"$f":"COUNTIF(申込確認シート!$C$1:$C$120,D19)","v":0}]
[null,16,"",{"$f":"IF(HLOOKUP(入力表!$E$4&\"男\",入力表!$DB$11:$DJ$50,B20+4,FALSE)=\"*\",\"\",HLOOKUP(入力表!$E$4&\"男\",入力表!$DB$11:$DJ$50,B20+4,FALSE))","v":{"$error":"#N/A"}},{"$f":"IF(ISERROR(VLOOKUP($D20&E$4,申込確認シート!$E$1:$F$120,2,FALSE)),\"@\",VLOOKUP($D20&E$4,申込確認シート!$E$1:$F$120,2,FALSE))","v":"@"},null,null,{"$f":"IF(ISERROR(VLOOKUP($D20&H$4,申込確認シート!$E$1:$F$120,2,FALSE)),\"@\",VLOOKUP($D20&H$4,申込確認シート!$E$1:$F$120,2,FALSE))","v":"@"},null,null,{"$f":"IF(ISERROR(VLOOKUP($D20&K$4,申込確認シート!$E$1:$F$120,2,FALSE)),\"@\",VLOOKUP($D20&K$4,申込確認シート!$E$1:$F$120,2,FALSE))","v":"@"},null,null,{"$f":"IF(ISERROR(VLOOKUP($D20&N$4,申込確認シート!$E$1:$F$120,2,FALSE)),\"@\",VLOOKUP($D20&N$4,申込確認シート!$E$1:$F$120,2,FALSE))","v":"@"},null,null,{"$f":"IF(ISERROR(VLOOKUP($D20&Q$4,申込確認シート!$E$1:$F$120,2,FALSE)),\"@\",VLOOKUP($D20&Q$4,申込確認シート!$E$1:$F$120,2,FALSE))","v":"@"},null,null,{"$f":"IF(ISERROR(VLOOKUP($D20&T$4,申込確認シート!$E$1:$F$120,2,FALSE)),\"@\",VLOOKUP($D20&T$4,申込確認シート!$E$1:$F$120,2,FALSE))","v":"@"},null,null,{"$f":"IF(ISERROR(VLOOKUP($D20&W$4,申込確認シート!$E$1:$F$120,2,FALSE)),\"@\",VLOOKUP($D20&W$4,申込確認シート!$E$1:$F$120,2,FALSE))","v":"@"},null,null,{"$f":"IF(ISERROR(VLOOKUP($D20&Z$4,申込確認シート!$E$1:$F$120,2,FALSE)),\"@\",VLOOKUP($D20&Z$4,申込確認シート!$E$1:$F$120,2,FALSE))","v":"@"},null,null,{"$f":"IF(ISERROR(VLOOKUP($D20&AC$4,申込確認シート!$E$1:$F$120,2,FALSE)),\"@\",VLOOKUP($D20&AC$4,申込確認シート!$E$1:$F$120,2,FALSE))","v":"@"},null,null,{"$f":"IF(ISERROR(VLOOKUP($D20&AF$4,申込確認シート!$E$1:$F$120,2,FALSE)),\"@\",VLOOKUP($D20&AF$4,申込確認シート!$E$1:$F$120,2,FALSE))","v":"@"},null,null,{"$f":"IF(ISERROR(VLOOKUP($D20&AI$4,申込確認シート!$E$1:$F$120,2,FALSE)),\"@\",VLOOKUP($D20&AI$4,申込確認シート!$E$1:$F$120,2,FALSE))","v":"@"},null,null,{"$f":"IF(ISERROR(VLOOKUP($D20&AL$4,申込確認シート!$E$1:$F$120,2,FALSE)),\"@\",VLOOKUP($D20&AL$4,申込確認シート!$E$1:$F$120,2,FALSE))","v":"@"},null,null,{"$f":"IF(ISERROR(VLOOKUP($D20&AO$4,申込確認シート!$E$1:$F$120,2,FALSE)),\"@\",VLOOKUP($D20&AO$4,申込確認シート!$E$1:$F$120,2,FALSE))","v":"@"},null,null,{"$f":"IF(ISERROR(VLOOKUP($D20&AR$4,申込確認シート!$E$1:$F$120,2,FALSE)),\"@\",VLOOKUP($D20&AR$4,申込確認シート!$E$1:$F$120,2,FALSE))","v":"@"},null,null,{"$f":"IF(ISERROR(VLOOKUP($D20&AU$4,申込確認シート!$E$1:$F$120,2,FALSE)),\"@\",VLOOKUP($D20&AU$4,申込確認シート!$E$1:$F$120,2,FALSE))","v":"@"},null,null,{"$f":"COUNTIF(申込確認シート!$C$1:$C$120,D20)","v":0}]
[null,17,"",{"$f":"IF(HLOOKUP(入力表!$E$4&\"男\",入力表!$DB$11:$DJ$50,B21+4,FALSE)=\"*\",\"\",HLOOKUP(入力表!$E$4&\"男\",入力表!$DB$11:$DJ$50,B21+4,FALSE))","v":{"$error":"#N/A"}},{"$f":"IF(ISERROR(VLOOKUP($D21&E$4,申込確認シート!$E$1:$F$120,2,FALSE)),\"@\",VLOOKUP($D21&E$4,申込確認シート!$E$1:$F$120,2,FALSE))","v":"@"},null,null,{"$f":"IF(ISERROR(VLOOKUP($D21&H$4,申込確認シート!$E$1:$F$120,2,FALSE)),\"@\",VLOOKUP($D21&H$4,申込確認シート!$E$1:$F$120,2,FALSE))","v":"@"},null,null,{"$f":"IF(ISERROR(VLOOKUP($D21&K$4,申込確認シート!$E$1:$F$120,2,FALSE)),\"@\",VLOOKUP($D21&K$4,申込確認シート!$E$1:$F$120,2,FALSE))","v":"@"},null,null,{"$f":"IF(ISERROR(VLOOKUP($D21&N$4,申込確認シート!$E$1:$F$120,2,FALSE)),\"@\",VLOOKUP($D21&N$4,申込確認シート!$E$1:$F$120,2,FALSE))","v":"@"},null,null,{"$f":"IF(ISERROR(VLOOKUP($D21&Q$4,申込確認シート!$E$1:$F$120,2,FALSE)),\"@\",VLOOKUP($D21&Q$4,申込確認シート!$E$1:$F$120,2,FALSE))","v":"@"},null,null,{"$f":"IF(ISERROR(VLOOKUP($D21&T$4,申込確認シート!$E$1:$F$120,2,FALSE)),\"@\",VLOOKUP($D21&T$4,申込確認シート!$E$1:$F$120,2,FALSE))","v":"@"},null,null,{"$f":"IF(ISERROR(VLOOKUP($D21&W$4,申込確認シート!$E$1:$F$120,2,FALSE)),\"@\",VLOOKUP($D21&W$4,申込確認シート!$E$1:$F$120,2,FALSE))","v":"@"},null,null,{"$f":"IF(ISERROR(VLOOKUP($D21&Z$4,申込確認シート!$E$1:$F$120,2,FALSE)),\"@\",VLOOKUP($D21&Z$4,申込確認シート!$E$1:$F$120,2,FALSE))","v":"@"},null,null,{"$f":"IF(ISERROR(VLOOKUP($D21&AC$4,申込確認シート!$E$1:$F$120,2,FALSE)),\"@\",VLOOKUP($D21&AC$4,申込確認シート!$E$1:$F$120,2,FALSE))","v":"@"},null,null,{"$f":"IF(ISERROR(VLOOKUP($D21&AF$4,申込確認シート!$E$1:$F$120,2,FALSE)),\"@\",VLOOKUP($D21&AF$4,申込確認シート!$E$1:$F$120,2,FALSE))","v":"@"},null,null,{"$f":"IF(ISERROR(VLOOKUP($D21&AI$4,申込確認シート!$E$1:$F$120,2,FALSE)),\"@\",VLOOKUP($D21&AI$4,申込確認シート!$E$1:$F$120,2,FALSE))","v":"@"},null,null,{"$f":"IF(ISERROR(VLOOKUP($D21&AL$4,申込確認シート!$E$1:$F$120,2,FALSE)),\"@\",VLOOKUP($D21&AL$4,申込確認シート!$E$1:$F$120,2,FALSE))","v":"@"},null,null,{"$f":"IF(ISERROR(VLOOKUP($D21&AO$4,申込確認シート!$E$1:$F$120,2,FALSE)),\"@\",VLOOKUP($D21&AO$4,申込確認シート!$E$1:$F$120,2,FALSE))","v":"@"},null,null,{"$f":"IF(ISERROR(VLOOKUP($D21&AR$4,申込確認シート!$E$1:$F$120,2,FALSE)),\"@\",VLOOKUP($D21&AR$4,申込確認シート!$E$1:$F$120,2,FALSE))","v":"@"},null,null,{"$f":"IF(ISERROR(VLOOKUP($D21&AU$4,申込確認シート!$E$1:$F$120,2,FALSE)),\"@\",VLOOKUP($D21&AU$4,申込確認シート!$E$1:$F$120,2,FALSE))","v":"@"},null,null,{"$f":"COUNTIF(申込確認シート!$C$1:$C$120,D21)","v":0}]
[null,18,"",{"$f":"IF(HLOOKUP(入力表!$E$4&\"男\",入力表!$DB$11:$DJ$50,B22+4,FALSE)=\"*\",\"\",HLOOKUP(入力表!$E$4&\"男\",入力表!$DB$11:$DJ$50,B22+4,FALSE))","v":{"$error":"#N/A"}},{"$f":"IF(ISERROR(VLOOKUP($D22&E$4,申込確認シート!$E$1:$F$120,2,FALSE)),\"@\",VLOOKUP($D22&E$4,申込確認シート!$E$1:$F$120,2,FALSE))","v":"@"},null,null,{"$f":"IF(ISERROR(VLOOKUP($D22&H$4,申込確認シート!$E$1:$F$120,2,FALSE)),\"@\",VLOOKUP($D22&H$4,申込確認シート!$E$1:$F$120,2,FALSE))","v":"@"},null,null,{"$f":"IF(ISERROR(VLOOKUP($D22&K$4,申込確認シート!$E$1:$F$120,2,FALSE)),\"@\",VLOOKUP($D22&K$4,申込確認シート!$E$1:$F$120,2,FALSE))","v":"@"},null,null,{"$f":"IF(ISERROR(VLOOKUP($D22&N$4,申込確認シート!$E$1:$F$120,2,FALSE)),\"@\",VLOOKUP($D22&N$4,申込確認シート!$E$1:$F$120,2,FALSE))","v":"@"},null,null,{"$f":"IF(ISERROR(VLOOKUP($D22&Q$4,申込確認シート!$E$1:$F$120,2,FALSE)),\"@\",VLOOKUP($D22&Q$4,申込確認シート!$E$1:$F$120,2,FALSE))","v":"@"},null,null,{"$f":"IF(ISERROR(VLOOKUP($D22&T$4,申込確認シート!$E$1:$F$120,2,FALSE)),\"@\",VLOOKUP($D22&T$4,申込確認シート!$E$1:$F$120,2,FALSE))","v":"@"},null,null,{"$f":"IF(ISERROR(VLOOKUP($D22&W$4,申込確認シート!$E$1:$F$120,2,FALSE)),\"@\",VLOOKUP($D22&W$4,申込確認シート!$E$1:$F$120,2,FALSE))","v":"@"},null,null,{"$f":"IF(ISERROR(VLOOKUP($D22&Z$4,申込確認シート!$E$1:$F$120,2,FALSE)),\"@\",VLOOKUP($D22&Z$4,申込確認シート!$E$1:$F$120,2,FALSE))","v":"@"},null,null,{"$f":"IF(ISERROR(VLOOKUP($D22&AC$4,申込確認シート!$E$1:$F$120,2,FALSE)),\"@\",VLOOKUP($D22&AC$4,申込確認シート!$E$1:$F$120,2,FALSE))","v":"@"},null,null,{"$f":"IF(ISERROR(VLOOKUP($D22&AF$4,申込確認シート!$E$1:$F$120,2,FALSE)),\"@\",VLOOKUP($D22&AF$4,申込確認シート!$E$1:$F$120,2,FALSE))","v":"@"},null,null,{"$f":"IF(ISERROR(VLOOKUP($D22&AI$4,申込確認シート!$E$1:$F$120,2,FALSE)),\"@\",VLOOKUP($D22&AI$4,申込確認シート!$E$1:$F$120,2,FALSE))","v":"@"},null,null,{"$f":"IF(ISERROR(VLOOKUP($D22&AL$4,申込確認シート!$E$1:$F$120,2,FALSE)),\"@\",VLOOKUP($D22&AL$4,申込確認シート!$E$1:$F$120,2,FALSE))","v":"@"},null,null,{"$f":"IF(ISERROR(VLOOKUP($D22&AO$4,申込確認シート!$E$1:$F$120,2,FALSE)),\"@\",VLOOKUP($D22&AO$4,申込確認シート!$E$1:$F$120,2,FALSE))","v":"@"},null,null,{"$f":"IF(ISERROR(VLOOKUP($D22&AR$4,申込確認シート!$E$1:$F$120,2,FALSE)),\"@\",VLOOKUP($D22&AR$4,申込確認シート!$E$1:$F$120,2,FALSE))","v":"@"},null,null,{"$f":"IF(ISERROR(VLOOKUP($D22&AU$4,申込確認シート!$E$1:$F$120,2,FALSE)),\"@\",VLOOKUP($D22&AU$4,申込確認シート!$E$1:$F$120,2,FALSE))","v":"@"},null,null,{"$f":"COUNTIF(申込確認シート!$C$1:$C$120,D22)","v":0}]
[null,19,"",{"$f":"IF(HLOOKUP(入力表!$E$4&\"男\",入力表!$DB$11:$DJ$50,B23+4,FALSE)=\"*\",\"\",HLOOKUP(入力表!$E$4&\"男\",入力表!$DB$11:$DJ$50,B23+4,FALSE))","v":{"$error":"#N/A"}},{"$f":"IF(ISERROR(VLOOKUP($D23&E$4,申込確認シート!$E$1:$F$120,2,FALSE)),\"@\",VLOOKUP($D23&E$4,申込確認シート!$E$1:$F$120,2,FALSE))","v":"@"},null,null,{"$f":"IF(ISERROR(VLOOKUP($D23&H$4,申込確認シート!$E$1:$F$120,2,FALSE)),\"@\",VLOOKUP($D23&H$4,申込確認シート!$E$1:$F$120,2,FALSE))","v":"@"},null,null,{"$f":"IF(ISERROR(VLOOKUP($D23&K$4,申込確認シート!$E$1:$F$120,2,FALSE)),\"@\",VLOOKUP($D23&K$4,申込確認シート!$E$1:$F$120,2,FALSE))","v":"@"},null,null,{"$f":"IF(ISERROR(VLOOKUP($D23&N$4,申込確認シート!$E$1:$F$120,2,FALSE)),\"@\",VLOOKUP($D23&N$4,申込確認シート!$E$1:$F$120,2,FALSE))","v":"@"},null,null,{"$f":"IF(ISERROR(VLOOKUP($D23&Q$4,申込確認シート!$E$1:$F$120,2,FALSE)),\"@\",VLOOKUP($D23&Q$4,申込確認シート!$E$1:$F$120,2,FALSE))","v":"@"},null,null,{"$f":"IF(ISERROR(VLOOKUP($D23&T$4,申込確認シート!$E$1:$F$120,2,FALSE)),\"@\",VLOOKUP($D23&T$4,申込確認シート!$E$1:$F$120,2,FALSE))","v":"@"},null,null,{"$f":"IF(ISERROR(VLOOKUP($D23&W$4,申込確認シート!$E$1:$F$120,2,FALSE)),\"@\",VLOOKUP($D23&W$4,申込確認シート!$E$1:$F$120,2,FALSE))","v":"@"},null,null,{"$f":"IF(ISERROR(VLOOKUP($D23&Z$4,申込確認シート!$E$1:$F$120,2,FALSE)),\"@\",VLOOKUP($D23&Z$4,申込確認シート!$E$1:$F$120,2,FALSE))","v":"@"},null,null,{"$f":"IF(ISERROR(VLOOKUP($D23&AC$4,申込確認シート!$E$1:$F$120,2,FALSE)),\"@\",VLOOKUP($D23&AC$4,申込確認シート!$E$1:$F$120,2,FALSE))","v":"@"},null,null,{"$f":"IF(ISERROR(VLOOKUP($D23&AF$4,申込確認シート!$E$1:$F$120,2,FALSE)),\"@\",VLOOKUP($D23&AF$4,申込確認シート!$E$1:$F$120,2,FALSE))","v":"@"},null,null,{"$f":"IF(ISERROR(VLOOKUP($D23&AI$4,申込確認シート!$E$1:$F$120,2,FALSE)),\"@\",VLOOKUP($D23&AI$4,申込確認シート!$E$1:$F$120,2,FALSE))","v":"@"},null,null,{"$f":"IF(ISERROR(VLOOKUP($D23&AL$4,申込確認シート!$E$1:$F$120,2,FALSE)),\"@\",VLOOKUP($D23&AL$4,申込確認シート!$E$1:$F$120,2,FALSE))","v":"@"},null,null,{"$f":"IF(ISERROR(VLOOKUP($D23&AO$4,申込確認シート!$E$1:$F$120,2,FALSE)),\"@\",VLOOKUP($D23&AO$4,申込確認シート!$E$1:$F$120,2,FALSE))","v":"@"},null,null,{"$f":"IF(ISERROR(VLOOKUP($D23&AR$4,申込確認シート!$E$1:$F$120,2,FALSE)),\"@\",VLOOKUP($D23&AR$4,申込確認シート!$E$1:$F$120,2,FALSE))","v":"@"},null,null,{"$f":"IF(ISERROR(VLOOKUP($D23&AU$4,申込確認シート!$E$1:$F$120,2,FALSE)),\"@\",VLOOKUP($D23&AU$4,申込確認シート!$E$1:$F$120,2,FALSE))","v":"@"},null,null,{"$f":"COUNTIF(申込確認シート!$C$1:$C$120,D23)","v":0}]
[null,20,"",{"$f":"IF(HLOOKUP(入力表!$E$4&\"男\",入力表!$DB$11:$DJ$50,B24+4,FALSE)=\"*\",\"\",HLOOKUP(入力表!$E$4&\"男\",入力表!$DB$11:$DJ$50,B24+4,FALSE))","v":{"$error":"#N/A"}},{"$f":"IF(ISERROR(VLOOKUP($D24&E$4,申込確認シート!$E$1:$F$120,2,FALSE)),\"@\",VLOOKUP($D24&E$4,申込確認シート!$E$1:$F$120,2,FALSE))","v":"@"},null,null,{"$f":"IF(ISERROR(VLOOKUP($D24&H$4,申込確認シート!$E$1:$F$120,2,FALSE)),\"@\",VLOOKUP($D24&H$4,申込確認シート!$E$1:$F$120,2,FALSE))","v":"@"},null,null,{"$f":"IF(ISERROR(VLOOKUP($D24&K$4,申込確認シート!$E$1:$F$120,2,FALSE)),\"@\",VLOOKUP($D24&K$4,申込確認シート!$E$1:$F$120,2,FALSE))","v":"@"},null,null,{"$f":"IF(ISERROR(VLOOKUP($D24&N$4,申込確認シート!$E$1:$F$120,2,FALSE)),\"@\",VLOOKUP($D24&N$4,申込確認シート!$E$1:$F$120,2,FALSE))","v":"@"},null,null,{"$f":"IF(ISERROR(VLOOKUP($D24&Q$4,申込確認シート!$E$1:$F$120,2,FALSE)),\"@\",VLOOKUP($D24&Q$4,申込確認シート!$E$1:$F$120,2,FALSE))","v":"@"},null,null,{"$f":"IF(ISERROR(VLOOKUP($D24&T$4,申込確認シート!$E$1:$F$120,2,FALSE)),\"@\",VLOOKUP($D24&T$4,申込確認シート!$E$1:$F$120,2,FALSE))","v":"@"},null,null,{"$f":"IF(ISERROR(VLOOKUP($D24&W$4,申込確認シート!$E$1:$F$120,2,FALSE)),\"@\",VLOOKUP($D24&W$4,申込確認シート!$E$1:$F$120,2,FALSE))","v":"@"},null,null,{"$f":"IF(ISERROR(VLOOKUP($D24&Z$4,申込確認シート!$E$1:$F$120,2,FALSE)),\"@\",VLOOKUP($D24&Z$4,申込確認シート!$E$1:$F$120,2,FALSE))","v":"@"},null,null,{"$f":"IF(ISERROR(VLOOKUP($D24&AC$4,申込確認シート!$E$1:$F$120,2,FALSE)),\"@\",VLOOKUP($D24&AC$4,申込確認シート!$E$1:$F$120,2,FALSE))","v":"@"},null,null,{"$f":"IF(ISERROR(VLOOKUP($D24&AF$4,申込確認シート!$E$1:$F$120,2,FALSE)),\"@\",VLOOKUP($D24&AF$4,申込確認シート!$E$1:$F$120,2,FALSE))","v":"@"},null,null,{"$f":"IF(ISERROR(VLOOKUP($D24&AI$4,申込確認シート!$E$1:$F$120,2,FALSE)),\"@\",VLOOKUP($D24&AI$4,申込確認シート!$E$1:$F$120,2,FALSE))","v":"@"},null,null,{"$f":"IF(ISERROR(VLOOKUP($D24&AL$4,申込確認シート!$E$1:$F$120,2,FALSE)),\"@\",VLOOKUP($D24&AL$4,申込確認シート!$E$1:$F$120,2,FALSE))","v":"@"},null,null,{"$f":"IF(ISERROR(VLOOKUP($D24&AO$4,申込確認シート!$E$1:$F$120,2,FALSE)),\"@\",VLOOKUP($D24&AO$4,申込確認シート!$E$1:$F$120,2,FALSE))","v":"@"},null,null,{"$f":"IF(ISERROR(VLOOKUP($D24&AR$4,申込確認シート!$E$1:$F$120,2,FALSE)),\"@\",VLOOKUP($D24&AR$4,申込確認シート!$E$1:$F$120,2,FALSE))","v":"@"},null,null,{"$f":"IF(ISERROR(VLOOKUP($D24&AU$4,申込確認シート!$E$1:$F$120,2,FALSE)),\"@\",VLOOKUP($D24&AU$4,申込確認シート!$E$1:$F$120,2,FALSE))","v":"@"},null,null,{"$f":"COUNTIF(申込確認シート!$C$1:$C$120,D24)","v":0}]
[null,21,"",{"$f":"IF(HLOOKUP(入力表!$E$4&\"男\",入力表!$DB$11:$DJ$50,B25+4,FALSE)=\"*\",\"\",HLOOKUP(入力表!$E$4&\"男\",入力表!$DB$11:$DJ$50,B25+4,FALSE))","v":{"$error":"#N/A"}},{"$f":"IF(ISERROR(VLOOKUP($D25&E$4,申込確認シート!$E$1:$F$120,2,FALSE)),\"@\",VLOOKUP($D25&E$4,申込確認シート!$E$1:$F$120,2,FALSE))","v":"@"},null,null,{"$f":"IF(ISERROR(VLOOKUP($D25&H$4,申込確認シート!$E$1:$F$120,2,FALSE)),\"@\",VLOOKUP($D25&H$4,申込確認シート!$E$1:$F$120,2,FALSE))","v":"@"},null,null,{"$f":"IF(ISERROR(VLOOKUP($D25&K$4,申込確認シート!$E$1:$F$120,2,FALSE)),\"@\",VLOOKUP($D25&K$4,申込確認シート!$E$1:$F$120,2,FALSE))","v":"@"},null,null,{"$f":"IF(ISERROR(VLOOKUP($D25&N$4,申込確認シート!$E$1:$F$120,2,FALSE)),\"@\",VLOOKUP($D25&N$4,申込確認シート!$E$1:$F$120,2,FALSE))","v":"@"},null,null,{"$f":"IF(ISERROR(VLOOKUP($D25&Q$4,申込確認シート!$E$1:$F$120,2,FALSE)),\"@\",VLOOKUP($D25&Q$4,申込確認シート!$E$1:$F$120,2,FALSE))","v":"@"},null,null,{"$f":"IF(ISERROR(VLOOKUP($D25&T$4,申込確認シート!$E$1:$F$120,2,FALSE)),\"@\",VLOOKUP($D25&T$4,申込確認シート!$E$1:$F$120,2,FALSE))","v":"@"},null,null,{"$f":"IF(ISERROR(VLOOKUP($D25&W$4,申込確認シート!$E$1:$F$120,2,FALSE)),\"@\",VLOOKUP($D25&W$4,申込確認シート!$E$1:$F$120,2,FALSE))","v":"@"},null,null,{"$f":"IF(ISERROR(VLOOKUP($D25&Z$4,申込確認シート!$E$1:$F$120,2,FALSE)),\"@\",VLOOKUP($D25&Z$4,申込確認シート!$E$1:$F$120,2,FALSE))","v":"@"},null,null,{"$f":"IF(ISERROR(VLOOKUP($D25&AC$4,申込確認シート!$E$1:$F$120,2,FALSE)),\"@\",VLOOKUP($D25&AC$4,申込確認シート!$E$1:$F$120,2,FALSE))","v":"@"},null,null,{"$f":"IF(ISERROR(VLOOKUP($D25&AF$4,申込確認シート!$E$1:$F$120,2,FALSE)),\"@\",VLOOKUP($D25&AF$4,申込確認シート!$E$1:$F$120,2,FALSE))","v":"@"},null,null,{"$f":"IF(ISERROR(VLOOKUP($D25&AI$4,申込確認シート!$E$1:$F$120,2,FALSE)),\"@\",VLOOKUP($D25&AI$4,申込確認シート!$E$1:$F$120,2,FALSE))","v":"@"},null,null,{"$f":"IF(ISERROR(VLOOKUP($D25&AL$4,申込確認シート!$E$1:$F$120,2,FALSE)),\"@\",VLOOKUP($D25&AL$4,申込確認シート!$E$1:$F$120,2,FALSE))","v":"@"},null,null,{"$f":"IF(ISERROR(VLOOKUP($D25&AO$4,申込確認シート!$E$1:$F$120,2,FALSE)),\"@\",VLOOKUP($D25&AO$4,申込確認シート!$E$1:$F$120,2,FALSE))","v":"@"},null,null,{"$f":"IF(ISERROR(VLOOKUP($D25&AR$4,申込確認シート!$E$1:$F$120,2,FALSE)),\"@\",VLOOKUP($D25&AR$4,申込確認シート!$E$1:$F$120,2,FALSE))","v":"@"},null,null,{"$f":"IF(ISERROR(VLOOKUP($D25&AU$4,申込確認シート!$E$1:$F$120,2,FALSE)),\"@\",VLOOKUP($D25&AU$4,申込確認シート!$E$1:$F$120,2,FALSE))","v":"@"},null,null,{"$f":"COUNTIF(申込確認シート!$C$1:$C$120,D25)","v":0}]
[null,22,"",{"$f":"IF(HLOOKUP(入力表!$E$4&\"男\",入力表!$DB$11:$DJ$50,B26+4,FALSE)=\"*\",\"\",HLOOKUP(入力表!$E$4&\"男\",入力表!$DB$11:$DJ$50,B26+4,FALSE))","v":{"$error":"#N/A"}},{"$f":"IF(ISERROR(VLOOKUP($D26&E$4,申込確認シート!$E$1:$F$120,2,FALSE)),\"@\",VLOOKUP($D26&E$4,申込確認シート!$E$1:$F$120,2,FALSE))","v":"@"},null,null,{"$f":"IF(ISERROR(VLOOKUP($D26&H$4,申込確認シート!$E$1:$F$120,2,FALSE)),\"@\",VLOOKUP($D26&H$4,申込確認シート!$E$1:$F$120,2,FALSE))","v":"@"},null,null,{"$f":"IF(ISERROR(VLOOKUP($D26&K$4,申込確認シート!$E$1:$F$120,2,FALSE)),\"@\",VLOOKUP($D26&K$4,申込確認シート!$E$1:$F$120,2,FALSE))","v":"@"},null,null,{"$f":"IF(ISERROR(VLOOKUP($D26&N$4,申込確認シート!$E$1:$F$120,2,FALSE)),\"@\",VLOOKUP($D26&N$4,申込確認シート!$E$1:$F$120,2,FALSE))","v":"@"},null,null,{"$f":"IF(ISERROR(VLOOKUP($D26&Q$4,申込確認シート!$E$1:$F$120,2,FALSE)),\"@\",VLOOKUP($D26&Q$4,申込確認シート!$E$1:$F$120,2,FALSE))","v":"@"},null,null,{"$f":"IF(ISERROR(VLOOKUP($D26&T$4,申込確認シート!$E$1:$F$120,2,FALSE)),\"@\",VLOOKUP($D26&T$4,申込確認シート!$E$1:$F$120,2,FALSE))","v":"@"},null,null,{"$f":"IF(ISERROR(VLOOKUP($D26&W$4,申込確認シート!$E$1:$F$120,2,FALSE)),\"@\",VLOOKUP($D26&W$4,申込確認シート!$E$1:$F$120,2,FALSE))","v":"@"},null,null,{"$f":"IF(ISERROR(VLOOKUP($D26&Z$4,申込確認シート!$E$1:$F$120,2,FALSE)),\"@\",VLOOKUP($D26&Z$4,申込確認シート!$E$1:$F$120,2,FALSE))","v":"@"},null,null,{"$f":"IF(ISERROR(VLOOKUP($D26&AC$4,申込確認シート!$E$1:$F$120,2,FALSE)),\"@\",VLOOKUP($D26&AC$4,申込確認シート!$E$1:$F$120,2,FALSE))","v":"@"},null,null,{"$f":"IF(ISERROR(VLOOKUP($D26&AF$4,申込確認シート!$E$1:$F$120,2,FALSE)),\"@\",VLOOKUP($D26&AF$4,申込確認シート!$E$1:$F$120,2,FALSE))","v":"@"},null,null,{"$f":"IF(ISERROR(VLOOKUP($D26&AI$4,申込確認シート!$E$1:$F$120,2,FALSE)),\"@\",VLOOKUP($D26&AI$4,申込確認シート!$E$1:$F$120,2,FALSE))","v":"@"},null,null,{"$f":"IF(ISERROR(VLOOKUP($D26&AL$4,申込確認シート!$E$1:$F$120,2,FALSE)),\"@\",VLOOKUP($D26&AL$4,申込確認シート!$E$1:$F$120,2,FALSE))","v":"@"},null,null,{"$f":"IF(ISERROR(VLOOKUP($D26&AO$4,申込確認シート!$E$1:$F$120,2,FALSE)),\"@\",VLOOKUP($D26&AO$4,申込確認シート!$E$1:$F$120,2,FALSE))","v":"@"},null,null,{"$f":"IF(ISERROR(VLOOKUP($D26&AR$4,申込確認シート!$E$1:$F$120,2,FALSE)),\"@\",VLOOKUP($D26&AR$4,申込確認シート!$E$1:$F$120,2,FALSE))","v":"@"},null,null,{"$f":"IF(ISERROR(VLOOKUP($D26&AU$4,申込確認シート!$E$1:$F$120,2,FALSE)),\"@\",VLOOKUP($D26&AU$4,申込確認シート!$E$1:$F$120,2,FALSE))","v":"@"},null,null,{"$f":"COUNTIF(申込確認シート!$C$1:$C$120,D26)","v":0}]
[null,23,"",{"$f":"IF(HLOOKUP(入力表!$E$4&\"男\",入力表!$DB$11:$DJ$50,B27+4,FALSE)=\"*\",\"\",HLOOKUP(入力表!$E$4&\"男\",入力表!$DB$11:$DJ$50,B27+4,FALSE))","v":{"$error":"#N/A"}},{"$f":"IF(ISERROR(VLOOKUP($D27&E$4,申込確認シート!$E$1:$F$120,2,FALSE)),\"@\",VLOOKUP($D27&E$4,申込確認シート!$E$1:$F$120,2,FALSE))","v":"@"},null,null,{"$f":"IF(ISERROR(VLOOKUP($D27&H$4,申込確認シート!$E$1:$F$120,2,FALSE)),\"@\",VLOOKUP($D27&H$4,申込確認シート!$E$1:$F$120,2,FALSE))","v":"@"},null,null,{"$f":"IF(ISERROR(VLOOKUP($D27&K$4,申込確認シート!$E$1:$F$120,2,FALSE)),\"@\",VLOOKUP($D27&K$4,申込確認シート!$E$1:$F$120,2,FALSE))","v":"@"},null,null,{"$f":"IF(ISERROR(VLOOKUP($D27&N$4,申込確認シート!$E$1:$F$120,2,FALSE)),\"@\",VLOOKUP($D27&N$4,申込確認シート!$E$1:$F$120,2,FALSE))","v":"@"},null,null,{"$f":"IF(ISERROR(VLOOKUP($D27&Q$4,申込確認シート!$E$1:$F$120,2,FALSE)),\"@\",VLOOKUP($D27&Q$4,申込確認シート!$E$1:$F$120,2,FALSE))","v":"@"},null,null,{"$f":"IF(ISERROR(VLOOKUP($D27&T$4,申込確認シート!$E$1:$F$120,2,FALSE)),\"@\",VLOOKUP($D27&T$4,申込確認シート!$E$1:$F$120,2,FALSE))","v":"@"},null,null,{"$f":"IF(ISERROR(VLOOKUP($D27&W$4,申込確認シート!$E$1:$F$120,2,FALSE)),\"@\",VLOOKUP($D27&W$4,申込確認シート!$E$1:$F$120,2,FALSE))","v":"@"},null,null,{"$f":"IF(ISERROR(VLOOKUP($D27&Z$4,申込確認シート!$E$1:$F$120,2,FALSE)),\"@\",VLOOKUP($D27&Z$4,申込確認シート!$E$1:$F$120,2,FALSE))","v":"@"},null,null,{"$f":"IF(ISERROR(VLOOKUP($D27&AC$4,申込確認シート!$E$1:$F$120,2,FALSE)),\"@\",VLOOKUP($D27&AC$4,申込確認シート!$E$1:$F$120,2,FALSE))","v":"@"},null,null,{"$f":"IF(ISERROR(VLOOKUP($D27&AF$4,申込確認シート!$E$1:$F$120,2,FALSE)),\"@\",VLOOKUP($D27&AF$4,申込確認シート!$E$1:$F$120,2,FALSE))","v":"@"},null,null,{"$f":"IF(ISERROR(VLOOKUP($D27&AI$4,申込確認シート!$E$1:$F$120,2,FALSE)),\"@\",VLOOKUP($D27&AI$4,申込確認シート!$E$1:$F$120,2,FALSE))","v":"@"},null,null,{"$f":"IF(ISERROR(VLOOKUP($D27&AL$4,申込確認シート!$E$1:$F$120,2,FALSE)),\"@\",VLOOKUP($D27&AL$4,申込確認シート!$E$1:$F$120,2,FALSE))","v":"@"},null,null,{"$f":"IF(ISERROR(VLOOKUP($D27&AO$4,申込確認シート!$E$1:$F$120,2,FALSE)),\"@\",VLOOKUP($D27&AO$4,申込確認シート!$E$1:$F$120,2,FALSE))","v":"@"},null,null,{"$f":"IF(ISERROR(VLOOKUP($D27&AR$4,申込確認シート!$E$1:$F$120,2,FALSE)),\"@\",VLOOKUP($D27&AR$4,申込確認シート!$E$1:$F$120,2,FALSE))","v":"@"},null,null,{"$f":"IF(ISERROR(VLOOKUP($D27&AU$4,申込確認シート!$E$1:$F$120,2,FALSE)),\"@\",VLOOKUP($D27&AU$4,申込確認シート!$E$1:$F$120,2,FALSE))","v":"@"},null,null,{"$f":"COUNTIF(申込確認シート!$C$1:$C$120,D27)","v":0}]
[null,24,"",{"$f":"IF(HLOOKUP(入力表!$E$4&\"男\",入力表!$DB$11:$DJ$50,B28+4,FALSE)=\"*\",\"\",HLOOKUP(入力表!$E$4&\"男\",入力表!$DB$11:$DJ$50,B28+4,FALSE))","v":{"$error":"#N/A"}},{"$f":"IF(ISERROR(VLOOKUP($D28&E$4,申込確認シート!$E$1:$F$120,2,FALSE)),\"@\",VLOOKUP($D28&E$4,申込確認シート!$E$1:$F$120,2,FALSE))","v":"@"},null,null,{"$f":"IF(ISERROR(VLOOKUP($D28&H$4,申込確認シート!$E$1:$F$120,2,FALSE)),\"@\",VLOOKUP($D28&H$4,申込確認シート!$E$1:$F$120,2,FALSE))","v":"@"},null,null,{"$f":"IF(ISERROR(VLOOKUP($D28&K$4,申込確認シート!$E$1:$F$120,2,FALSE)),\"@\",VLOOKUP($D28&K$4,申込確認シート!$E$1:$F$120,2,FALSE))","v":"@"},null,null,{"$f":"IF(ISERROR(VLOOKUP($D28&N$4,申込確認シート!$E$1:$F$120,2,FALSE)),\"@\",VLOOKUP($D28&N$4,申込確認シート!$E$1:$F$120,2,FALSE))","v":"@"},null,null,{"$f":"IF(ISERROR(VLOOKUP($D28&Q$4,申込確認シート!$E$1:$F$120,2,FALSE)),\"@\",VLOOKUP($D28&Q$4,申込確認シート!$E$1:$F$120,2,FALSE))","v":"@"},null,null,{"$f":"IF(ISERROR(VLOOKUP($D28&T$4,申込確認シート!$E$1:$F$120,2,FALSE)),\"@\",VLOOKUP($D28&T$4,申込確認シート!$E$1:$F$120,2,FALSE))","v":"@"},null,null,{"$f":"IF(ISERROR(VLOOKUP($D28&W$4,申込確認シート!$E$1:$F$120,2,FALSE)),\"@\",VLOOKUP($D28&W$4,申込確認シート!$E$1:$F$120,2,FALSE))","v":"@"},null,null,{"$f":"IF(ISERROR(VLOOKUP($D28&Z$4,申込確認シート!$E$1:$F$120,2,FALSE)),\"@\",VLOOKUP($D28&Z$4,申込確認シート!$E$1:$F$120,2,FALSE))","v":"@"},null,null,{"$f":"IF(ISERROR(VLOOKUP($D28&AC$4,申込確認シート!$E$1:$F$120,2,FALSE)),\"@\",VLOOKUP($D28&AC$4,申込確認シート!$E$1:$F$120,2,FALSE))","v":"@"},null,null,{"$f":"IF(ISERROR(VLOOKUP($D28&AF$4,申込確認シート!$E$1:$F$120,2,FALSE)),\"@\",VLOOKUP($D28&AF$4,申込確認シート!$E$1:$F$120,2,FALSE))","v":"@"},null,null,{"$f":"IF(ISERROR(VLOOKUP($D28&AI$4,申込確認シート!$E$1:$F$120,2,FALSE)),\"@\",VLOOKUP($D28&AI$4,申込確認シート!$E$1:$F$120,2,FALSE))","v":"@"},null,null,{"$f":"IF(ISERROR(VLOOKUP($D28&AL$4,申込確認シート!$E$1:$F$120,2,FALSE)),\"@\",VLOOKUP($D28&AL$4,申込確認シート!$E$1:$F$120,2,FALSE))","v":"@"},null,null,{"$f":"IF(ISERROR(VLOOKUP($D28&AO$4,申込確認シート!$E$1:$F$120,2,FALSE)),\"@\",VLOOKUP($D28&AO$4,申込確認シート!$E$1:$F$120,2,FALSE))","v":"@"},null,null,{"$f":"IF(ISERROR(VLOOKUP($D28&AR$4,申込確認シート!$E$1:$F$120,2,FALSE)),\"@\",VLOOKUP($D28&AR$4,申込確認シート!$E$1:$F$120,2,FALSE))","v":"@"},null,null,{"$f":"IF(ISERROR(VLOOKUP($D28&AU$4,申込確認シート!$E$1:$F$120,2,FALSE)),\"@\",VLOOKUP($D28&AU$4,申込確認シート!$E$1:$F$120,2,FALSE))","v":"@"},null,null,{"$f":"COUNTIF(申込確認シート!$C$1:$C$120,D28)","v":0}]
["女子",1,"",{"$f":"IF(HLOOKUP(入力表!$E$4&\"女\",入力表!$DB$11:$DJ$50,B5+4,FALSE)=\"*\",\"\",HLOOKUP(入力表!$E$4&\"女\",入力表!$DB$11:$DJ$50,B5+4,FALSE))","v":{"$error":"#N/A"}},{"$f":"IF(ISERROR(VLOOKUP($D29&E$4,申込確認シート!$E$1:$F$120,2,FALSE)),\"@\",VLOOKUP($D29&E$4,申込確認シート!$E$1:$F$120,2,FALSE))","v":"@"},null,null,{"$f":"IF(ISERROR(VLOOKUP($D29&H$4,申込確認シート!$E$1:$F$120,2,FALSE)),\"@\",VLOOKUP($D29&H$4,申込確認シート!$E$1:$F$120,2,FALSE))","v":"@"},null,null,{"$f":"IF(ISERROR(VLOOKUP($D29&K$4,申込確認シート!$E$1:$F$120,2,FALSE)),\"@\",VLOOKUP($D29&K$4,申込確認シート!$E$1:$F$120,2,FALSE))","v":"@"},null,null,{"$f":"IF(ISERROR(VLOOKUP($D29&N$4,申込確認シート!$E$1:$F$120,2,FALSE)),\"@\",VLOOKUP($D29&N$4,申込確認シート!$E$1:$F$120,2,FALSE))","v":"@"},null,null,{"$f":"IF(ISERROR(VLOOKUP($D29&Q$4,申込確認シート!$E$1:$F$120,2,FALSE)),\"@\",VLOOKUP($D29&Q$4,申込確認シート!$E$1:$F$120,2,FALSE))","v":"@"},null,null,{"$f":"IF(ISERROR(VLOOKUP($D29&T$4,申込確認シート!$E$1:$F$120,2,FALSE)),\"@\",VLOOKUP($D29&T$4,申込確認シート!$E$1:$F$120,2,FALSE))","v":"@"},null,null,{"$f":"IF(ISERROR(VLOOKUP($D29&W$4,申込確認シート!$E$1:$F$120,2,FALSE)),\"@\",VLOOKUP($D29&W$4,申込確認シート!$E$1:$F$120,2,FALSE))","v":"@"},null,null,{"$f":"IF(ISERROR(VLOOKUP($D29&Z$4,申込確認シート!$E$1:$F$120,2,FALSE)),\"@\",VLOOKUP($D29&Z$4,申込確認シート!$E$1:$F$120,2,FALSE))","v":"@"},null,null,{"$f":"IF(ISERROR(VLOOKUP($D29&AC$4,申込確認シート!$E$1:$F$120,2,FALSE)),\"@\",VLOOKUP($D29&AC$4,申込確認シート!$E$1:$F$120,2,FALSE))","v":"@"},null,null,{"$f":"IF(ISERROR(VLOOKUP($D29&AF$4,申込確認シート!$E$1:$F$120,2,FALSE)),\"@\",VLOOKUP($D29&AF$4,申込確認シート!$E$1:$F$120,2,FALSE))","v":"@"},null,null,{"$f":"IF(ISERROR(VLOOKUP($D29&AI$4,申込確認シート!$E$1:$F$120,2,FALSE)),\"@\",VLOOKUP($D29&AI$4,申込確認シート!$E$1:$F$120,2,FALSE))","v":"@"},null,null,{"$f":"IF(ISERROR(VLOOKUP($D29&AL$4,申込確認シート!$E$1:$F$120,2,FALSE)),\"@\",VLOOKUP($D29&AL$4,申込確認シート!$E$1:$F$120,2,FALSE))","v":"@"},null,null,{"$f":"IF(ISERROR(VLOOKUP($D29&AO$4,申込確認シート!$E$1:$F$120,2,FALSE)),\"@\",VLOOKUP($D29&AO$4,申込確認シート!$E$1:$F$120,2,FALSE))","v":"@"},null,null,{"$f":"IF(ISERROR(VLOOKUP($D29&AR$4,申込確認シート!$E$1:$F$120,2,FALSE)),\"@\",VLOOKUP($D29&AR$4,申込確認シート!$E$1:$F$120,2,FALSE))","v":"@"},null,null,{"$f":"IF(ISERROR(VLOOKUP($D29&AU$4,申込確認シート!$E$1:$F$120,2,FALSE)),\"@\",VLOOKUP($D29&AU$4,申込確認シート!$E$1:$F$120,2,FALSE))","v":"@"},null,null,{"$f":"COUNTIF(申込確認シート!$C$1:$C$120,D29)","v":0}]
[null,2,"",{"$f":"IF(HLOOKUP(入力表!$E$4&\"女\",入力表!$DB$11:$DJ$50,B6+4,FALSE)=\"*\",\"\",HLOOKUP(入力表!$E$4&\"女\",入力表!$DB$11:$DJ$50,B6+4,FALSE))","v":{"$error":"#N/A"}},{"$f":"IF(ISERROR(VLOOKUP($D30&E$4,申込確認シート!$E$1:$F$120,2,FALSE)),\"@\",VLOOKUP($D30&E$4,申込確認シート!$E$1:$F$120,2,FALSE))","v":"@"},null,null,{"$f":"IF(ISERROR(VLOOKUP($D30&H$4,申込確認シート!$E$1:$F$120,2,FALSE)),\"@\",VLOOKUP($D30&H$4,申込確認シート!$E$1:$F$120,2,FALSE))","v":"@"},null,null,{"$f":"IF(ISERROR(VLOOKUP($D30&K$4,申込確認シート!$E$1:$F$120,2,FALSE)),\"@\",VLOOKUP($D30&K$4,申込確認シート!$E$1:$F$120,2,FALSE))","v":"@"},null,null,{"$f":"IF(ISERROR(VLOOKUP($D30&N$4,申込確認シート!$E$1:$F$120,2,FALSE)),\"@\",VLOOKUP($D30&N$4,申込確認シート!$E$1:$F$120,2,FALSE))","v":"@"},null,null,{"$f":"IF(ISERROR(VLOOKUP($D30&Q$4,申込確認シート!$E$1:$F$120,2,FALSE)),\"@\",VLOOKUP($D30&Q$4,申込確認シート!$E$1:$F$120,2,FALSE))","v":"@"},null,null,{"$f":"IF(ISERROR(VLOOKUP($D30&T$4,申込確認シート!$E$1:$F$120,2,FALSE)),\"@\",VLOOKUP($D30&T$4,申込確認シート!$E$1:$F$120,2,FALSE))","v":"@"},null,null,{"$f":"IF(ISERROR(VLOOKUP($D30&W$4,申込確認シート!$E$1:$F$120,2,FALSE)),\"@\",VLOOKUP($D30&W$4,申込確認シート!$E$1:$F$120,2,FALSE))","v":"@"},null,null,{"$f":"IF(ISERROR(VLOOKUP($D30&Z$4,申込確認シート!$E$1:$F$120,2,FALSE)),\"@\",VLOOKUP($D30&Z$4,申込確認シート!$E$1:$F$120,2,FALSE))","v":"@"},null,null,{"$f":"IF(ISERROR(VLOOKUP($D30&AC$4,申込確認シート!$E$1:$F$120,2,FALSE)),\"@\",VLOOKUP($D30&AC$4,申込確認シート!$E$1:$F$120,2,FALSE))","v":"@"},null,null,{"$f":"IF(ISERROR(VLOOKUP($D30&AF$4,申込確認シート!$E$1:$F$120,2,FALSE)),\"@\",VLOOKUP($D30&AF$4,申込確認シート!$E$1:$F$120,2,FALSE))","v":"@"},null,null,{"$f":"IF(ISERROR(VLOOKUP($D30&AI$4,申込確認シート!$E$1:$F$120,2,FALSE)),\"@\",VLOOKUP($D30&AI$4,申込確認シート!$E$1:$F$120,2,FALSE))","v":"@"},null,null,{"$f":"IF(ISERROR(VLOOKUP($D30&AL$4,申込確認シート!$E$1:$F$120,2,FALSE)),\"@\",VLOOKUP($D30&AL$4,申込確認シート!$E$1:$F$120,2,FALSE))","v":"@"},null,null,{"$f":"IF(ISERROR(VLOOKUP($D30&AO$4,申込確認シート!$E$1:$F$120,2,FALSE)),\"@\",VLOOKUP($D30&AO$4,申込確認シート!$E$1:$F$120,2,FALSE))","v":"@"},null,null,{"$f":"IF(ISERROR(VLOOKUP($D30&AR$4,申込確認シート!$E$1:$F$120,2,FALSE)),\"@\",VLOOKUP($D30&AR$4,申込確認シート!$E$1:$F$120,2,FALSE))","v":"@"},null,null,{"$f":"IF(ISERROR(VLOOKUP($D30&AU$4,申込確認シート!$E$1:$F$120,2,FALSE)),\"@\",VLOOKUP($D30&AU$4,申込確認シート!$E$1:$F$120,2,FALSE))","v":"@"},null,null,{"$f":"COUNTIF(申込確認シート!$C$1:$C$120,D30)","v":0}]
[null,3,"",{"$f":"IF(HLOOKUP(入力表!$E$4&\"女\",入力表!$DB$11:$DJ$50,B7+4,FALSE)=\"*\",\"\",HLOOKUP(入力表!$E$4&\"女\",入力表!$DB$11:$DJ$50,B7+4,FALSE))","v":{"$error":"#N/A"}},{"$f":"IF(ISERROR(VLOOKUP($D31&E$4,申込確認シート!$E$1:$F$120,2,FALSE)),\"@\",VLOOKUP($D31&E$4,申込確認シート!$E$1:$F$120,2,FALSE))","v":"@"},null,null,{"$f":"IF(ISERROR(VLOOKUP($D31&H$4,申込確認シート!$E$1:$F$120,2,FALSE)),\"@\",VLOOKUP($D31&H$4,申込確認シート!$E$1:$F$120,2,FALSE))","v":"@"},null,null,{"$f":"IF(ISERROR(VLOOKUP($D31&K$4,申込確認シート!$E$1:$F$120,2,FALSE)),\"@\",VLOOKUP($D31&K$4,申込確認シート!$E$1:$F$120,2,FALSE))","v":"@"},null,null,{"$f":"IF(ISERROR(VLOOKUP($D31&N$4,申込確認シート!$E$1:$F$120,2,FALSE)),\"@\",VLOOKUP($D31&N$4,申込確認シート!$E$1:$F$120,2,FALSE))","v":"@"},null,null,{"$f":"IF(ISERROR(VLOOKUP($D31&Q$4,申込確認シート!$E$1:$F$120,2,FALSE)),\"@\",VLOOKUP($D31&Q$4,申込確認シート!$E$1:$F$120,2,FALSE))","v":"@"},null,null,{"$f":"IF(ISERROR(VLOOKUP($D31&T$4,申込確認シート!$E$1:$F$120,2,FALSE)),\"@\",VLOOKUP($D31&T$4,申込確認シート!$E$1:$F$120,2,FALSE))","v":"@"},null,null,{"$f":"IF(ISERROR(VLOOKUP($D31&W$4,申込確認シート!$E$1:$F$120,2,FALSE)),\"@\",VLOOKUP($D31&W$4,申込確認シート!$E$1:$F$120,2,FALSE))","v":"@"},null,null,{"$f":"IF(ISERROR(VLOOKUP($D31&Z$4,申込確認シート!$E$1:$F$120,2,FALSE)),\"@\",VLOOKUP($D31&Z$4,申込確認シート!$E$1:$F$120,2,FALSE))","v":"@"},null,null,{"$f":"IF(ISERROR(VLOOKUP($D31&AC$4,申込確認シート!$E$1:$F$120,2,FALSE)),\"@\",VLOOKUP($D31&AC$4,申込確認シート!$E$1:$F$120,2,FALSE))","v":"@"},null,null,{"$f":"IF(ISERROR(VLOOKUP($D31&AF$4,申込確認シート!$E$1:$F$120,2,FALSE)),\"@\",VLOOKUP($D31&AF$4,申込確認シート!$E$1:$F$120,2,FALSE))","v":"@"},null,null,{"$f":"IF(ISERROR(VLOOKUP($D31&AI$4,申込確認シート!$E$1:$F$120,2,FALSE)),\"@\",VLOOKUP($D31&AI$4,申込確認シート!$E$1:$F$120,2,FALSE))","v":"@"},null,null,{"$f":"IF(ISERROR(VLOOKUP($D31&AL$4,申込確認シート!$E$1:$F$120,2,FALSE)),\"@\",VLOOKUP($D31&AL$4,申込確認シート!$E$1:$F$120,2,FALSE))","v":"@"},null,null,{"$f":"IF(ISERROR(VLOOKUP($D31&AO$4,申込確認シート!$E$1:$F$120,2,FALSE)),\"@\",VLOOKUP($D31&AO$4,申込確認シート!$E$1:$F$120,2,FALSE))","v":"@"},null,null,{"$f":"IF(ISERROR(VLOOKUP($D31&AR$4,申込確認シート!$E$1:$F$120,2,FALSE)),\"@\",VLOOKUP($D31&AR$4,申込確認シート!$E$1:$F$120,2,FALSE))","v":"@"},null,null,{"$f":"IF(ISERROR(VLOOKUP($D31&AU$4,申込確認シート!$E$1:$F$120,2,FALSE)),\"@\",VLOOKUP($D31&AU$4,申込確認シート!$E$1:$F$120,2,FALSE))","v":"@"},null,null,{"$f":"COUNTIF(申込確認シート!$C$1:$C$120,D31)","v":0}]
[null,4,"",{"$f":"IF(HLOOKUP(入力表!$E$4&\"女\",入力表!$DB$11:$DJ$50,B8+4,FALSE)=\"*\",\"\",HLOOKUP(入力表!$E$4&\"女\",入力表!$DB$11:$DJ$50,B8+4,FALSE))","v":{"$error":"#N/A"}},{"$f":"IF(ISERROR(VLOOKUP($D32&E$4,申込確認シート!$E$1:$F$120,2,FALSE)),\"@\",VLOOKUP($D32&E$4,申込確認シート!$E$1:$F$120,2,FALSE))","v":"@"},null,null,{"$f":"IF(ISERROR(VLOOKUP($D32&H$4,申込確認シート!$E$1:$F$120,2,FALSE)),\"@\",VLOOKUP($D32&H$4,申込確認シート!$E$1:$F$120,2,FALSE))","v":"@"},null,null,{"$f":"IF(ISERROR(VLOOKUP($D32&K$4,申込確認シート!$E$1:$F$120,2,FALSE)),\"@\",VLOOKUP($D32&K$4,申込確認シート!$E$1:$F$120,2,FALSE))","v":"@"},null,null,{"$f":"IF(ISERROR(VLOOKUP($D32&N$4,申込確認シート!$E$1:$F$120,2,FALSE)),\"@\",VLOOKUP($D32&N$4,申込確認シート!$E$1:$F$120,2,FALSE))","v":"@"},null,null,{"$f":"IF(ISERROR(VLOOKUP($D32&Q$4,申込確認シート!$E$1:$F$120,2,FALSE)),\"@\",VLOOKUP($D32&Q$4,申込確認シート!$E$1:$F$120,2,FALSE))","v":"@"},null,null,{"$f":"IF(ISERROR(VLOOKUP($D32&T$4,申込確認シート!$E$1:$F$120,2,FALSE)),\"@\",VLOOKUP($D32&T$4,申込確認シート!$E$1:$F$120,2,FALSE))","v":"@"},null,null,{"$f":"IF(ISERROR(VLOOKUP($D32&W$4,申込確認シート!$E$1:$F$120,2,FALSE)),\"@\",VLOOKUP($D32&W$4,申込確認シート!$E$1:$F$120,2,FALSE))","v":"@"},null,null,{"$f":"IF(ISERROR(VLOOKUP($D32&Z$4,申込確認シート!$E$1:$F$120,2,FALSE)),\"@\",VLOOKUP($D32&Z$4,申込確認シート!$E$1:$F$120,2,FALSE))","v":"@"},null,null,{"$f":"IF(ISERROR(VLOOKUP($D32&AC$4,申込確認シート!$E$1:$F$120,2,FALSE)),\"@\",VLOOKUP($D32&AC$4,申込確認シート!$E$1:$F$120,2,FALSE))","v":"@"},null,null,{"$f":"IF(ISERROR(VLOOKUP($D32&AF$4,申込確認シート!$E$1:$F$120,2,FALSE)),\"@\",VLOOKUP($D32&AF$4,申込確認シート!$E$1:$F$120,2,FALSE))","v":"@"},null,null,{"$f":"IF(ISERROR(VLOOKUP($D32&AI$4,申込確認シート!$E$1:$F$120,2,FALSE)),\"@\",VLOOKUP($D32&AI$4,申込確認シート!$E$1:$F$120,2,FALSE))","v":"@"},null,null,{"$f":"IF(ISERROR(VLOOKUP($D32&AL$4,申込確認シート!$E$1:$F$120,2,FALSE)),\"@\",VLOOKUP($D32&AL$4,申込確認シート!$E$1:$F$120,2,FALSE))","v":"@"},null,null,{"$f":"IF(ISERROR(VLOOKUP($D32&AO$4,申込確認シート!$E$1:$F$120,2,FALSE)),\"@\",VLOOKUP($D32&AO$4,申込確認シート!$E$1:$F$120,2,FALSE))","v":"@"},null,null,{"$f":"IF(ISERROR(VLOOKUP($D32&AR$4,申込確認シート!$E$1:$F$120,2,FALSE)),\"@\",VLOOKUP($D32&AR$4,申込確認シート!$E$1:$F$120,2,FALSE))","v":"@"},null,null,{"$f":"IF(ISERROR(VLOOKUP($D32&AU$4,申込確認シート!$E$1:$F$120,2,FALSE)),\"@\",VLOOKUP($D32&AU$4,申込確認シート!$E$1:$F$120,2,FALSE))","v":"@"},null,null,{"$f":"COUNTIF(申込確認シート!$C$1:$C$120,D32)","v":0}]
[null,5,"",{"$f":"IF(HLOOKUP(入力表!$E$4&\"女\",入力表!$DB$11:$DJ$50,B9+4,FALSE)=\"*\",\"\",HLOOKUP(入力表!$E$4&\"女\",入力表!$DB$11:$DJ$50,B9+4,FALSE))","v":{"$error":"#N/A"}},{"$f":"IF(ISERROR(VLOOKUP($D33&E$4,申込確認シート!$E$1:$F$120,2,FALSE)),\"@\",VLOOKUP($D33&E$4,申込確認シート!$E$1:$F$120,2,FALSE))","v":"@"},null,null,{"$f":"IF(ISERROR(VLOOKUP($D33&H$4,申込確認シート!$E$1:$F$120,2,FALSE)),\"@\",VLOOKUP($D33&H$4,申込確認シート!$E$1:$F$120,2,FALSE))","v":"@"},null,null,{"$f":"IF(ISERROR(VLOOKUP($D33&K$4,申込確認シート!$E$1:$F$120,2,FALSE)),\"@\",VLOOKUP($D33&K$4,申込確認シート!$E$1:$F$120,2,FALSE))","v":"@"},null,null,{"$f":"IF(ISERROR(VLOOKUP($D33&N$4,申込確認シート!$E$1:$F$120,2,FALSE)),\"@\",VLOOKUP($D33&N$4,申込確認シート!$E$1:$F$120,2,FALSE))","v":"@"},null,null,{"$f":"IF(ISERROR(VLOOKUP($D33&Q$4,申込確認シート!$E$1:$F$120,2,FALSE)),\"@\",VLOOKUP($D33&Q$4,申込確認シート!$E$1:$F$120,2,FALSE))","v":"@"},null,null,{"$f":"IF(ISERROR(VLOOKUP($D33&T$4,申込確認シート!$E$1:$F$120,2,FALSE)),\"@\",VLOOKUP($D33&T$4,申込確認シート!$E$1:$F$120,2,FALSE))","v":"@"},null,null,{"$f":"IF(ISERROR(VLOOKUP($D33&W$4,申込確認シート!$E$1:$F$120,2,FALSE)),\"@\",VLOOKUP($D33&W$4,申込確認シート!$E$1:$F$120,2,FALSE))","v":"@"},null,null,{"$f":"IF(ISERROR(VLOOKUP($D33&Z$4,申込確認シート!$E$1:$F$120,2,FALSE)),\"@\",VLOOKUP($D33&Z$4,申込確認シート!$E$1:$F$120,2,FALSE))","v":"@"},null,null,{"$f":"IF(ISERROR(VLOOKUP($D33&AC$4,申込確認シート!$E$1:$F$120,2,FALSE)),\"@\",VLOOKUP($D33&AC$4,申込確認シート!$E$1:$F$120,2,FALSE))","v":"@"},null,null,{"$f":"IF(ISERROR(VLOOKUP($D33&AF$4,申込確認シート!$E$1:$F$120,2,FALSE)),\"@\",VLOOKUP($D33&AF$4,申込確認シート!$E$1:$F$120,2,FALSE))","v":"@"},null,null,{"$f":"IF(ISERROR(VLOOKUP($D33&AI$4,申込確認シート!$E$1:$F$120,2,FALSE)),\"@\",VLOOKUP($D33&AI$4,申込確認シート!$E$1:$F$120,2,FALSE))","v":"@"},null,null,{"$f":"IF(ISERROR(VLOOKUP($D33&AL$4,申込確認シート!$E$1:$F$120,2,FALSE)),\"@\",VLOOKUP($D33&AL$4,申込確認シート!$E$1:$F$120,2,FALSE))","v":"@"},null,null,{"$f":"IF(ISERROR(VLOOKUP($D33&AO$4,申込確認シート!$E$1:$F$120,2,FALSE)),\"@\",VLOOKUP($D33&AO$4,申込確認シート!$E$1:$F$120,2,FALSE))","v":"@"},null,null,{"$f":"IF(ISERROR(VLOOKUP($D33&AR$4,申込確認シート!$E$1:$F$120,2,FALSE)),\"@\",VLOOKUP($D33&AR$4,申込確認シート!$E$1:$F$120,2,FALSE))","v":"@"},null,null,{"$f":"IF(ISERROR(VLOOKUP($D33&AU$4,申込確認シート!$E$1:$F$120,2,FALSE)),\"@\",VLOOKUP($D33&AU$4,申込確認シート!$E$1:$F$120,2,FALSE))","v":"@"},null,null,{"$f":"COUNTIF(申込確認シート!$C$1:$C$120,D33)","v":0}]
[null,6,"",{"$f":"IF(HLOOKUP(入力表!$E$4&\"女\",入力表!$DB$11:$DJ$50,B10+4,FALSE)=\"*\",\"\",HLOOKUP(入力表!$E$4&\"女\",入力表!$DB$11:$DJ$50,B10+4,FALSE))","v":{"$error":"#N/A"}},{"$f":"IF(ISERROR(VLOOKUP($D34&E$4,申込確認シート!$E$1:$F$120,2,FALSE)),\"@\",VLOOKUP($D34&E$4,申込確認シート!$E$1:$F$120,2,FALSE))","v":"@"},null,null,{"$f":"IF(ISERROR(VLOOKUP($D34&H$4,申込確認シート!$E$1:$F$120,2,FALSE)),\"@\",VLOOKUP($D34&H$4,申込確認シート!$E$1:$F$120,2,FALSE))","v":"@"},null,null,{"$f":"IF(ISERROR(VLOOKUP($D34&K$4,申込確認シート!$E$1:$F$120,2,FALSE)),\"@\",VLOOKUP($D34&K$4,申込確認シート!$E$1:$F$120,2,FALSE))","v":"@"},null,null,{"$f":"IF(ISERROR(VLOOKUP($D34&N$4,申込確認シート!$E$1:$F$120,2,FALSE)),\"@\",VLOOKUP($D34&N$4,申込確認シート!$E$1:$F$120,2,FALSE))","v":"@"},null,null,{"$f":"IF(ISERROR(VLOOKUP($D34&Q$4,申込確認シート!$E$1:$F$120,2,FALSE)),\"@\",VLOOKUP($D34&Q$4,申込確認シート!$E$1:$F$120,2,FALSE))","v":"@"},null,null,{"$f":"IF(ISERROR(VLOOKUP($D34&T$4,申込確認シート!$E$1:$F$120,2,FALSE)),\"@\",VLOOKUP($D34&T$4,申込確認シート!$E$1:$F$120,2,FALSE))","v":"@"},null,null,{"$f":"IF(ISERROR(VLOOKUP($D34&W$4,申込確認シート!$E$1:$F$120,2,FALSE)),\"@\",VLOOKUP($D34&W$4,申込確認シート!$E$1:$F$120,2,FALSE))","v":"@"},null,null,{"$f":"IF(ISERROR(VLOOKUP($D34&Z$4,申込確認シート!$E$1:$F$120,2,FALSE)),\"@\",VLOOKUP($D34&Z$4,申込確認シート!$E$1:$F$120,2,FALSE))","v":"@"},null,null,{"$f":"IF(ISERROR(VLOOKUP($D34&AC$4,申込確認シート!$E$1:$F$120,2,FALSE)),\"@\",VLOOKUP($D34&AC$4,申込確認シート!$E$1:$F$120,2,FALSE))","v":"@"},null,null,{"$f":"IF(ISERROR(VLOOKUP($D34&AF$4,申込確認シート!$E$1:$F$120,2,FALSE)),\"@\",VLOOKUP($D34&AF$4,申込確認シート!$E$1:$F$120,2,FALSE))","v":"@"},null,null,{"$f":"IF(ISERROR(VLOOKUP($D34&AI$4,申込確認シート!$E$1:$F$120,2,FALSE)),\"@\",VLOOKUP($D34&AI$4,申込確認シート!$E$1:$F$120,2,FALSE))","v":"@"},null,null,{"$f":"IF(ISERROR(VLOOKUP($D34&AL$4,申込確認シート!$E$1:$F$120,2,FALSE)),\"@\",VLOOKUP($D34&AL$4,申込確認シート!$E$1:$F$120,2,FALSE))","v":"@"},null,null,{"$f":"IF(ISERROR(VLOOKUP($D34&AO$4,申込確認シート!$E$1:$F$120,2,FALSE)),\"@\",VLOOKUP($D34&AO$4,申込確認シート!$E$1:$F$120,2,FALSE))","v":"@"},null,null,{"$f":"IF(ISERROR(VLOOKUP($D34&AR$4,申込確認シート!$E$1:$F$120,2,FALSE)),\"@\",VLOOKUP($D34&AR$4,申込確認シート!$E$1:$F$120,2,FALSE))","v":"@"},null,null,{"$f":"IF(ISERROR(VLOOKUP($D34&AU$4,申込確認シート!$E$1:$F$120,2,FALSE)),\"@\",VLOOKUP($D34&AU$4,申込確認シート!$E$1:$F$120,2,FALSE))","v":"@"},null,null,{"$f":"COUNTIF(申込確認シート!$C$1:$C$120,D34)","v":0}]
[null,7,"",{"$f":"IF(HLOOKUP(入力表!$E$4&\"女\",入力表!$DB$11:$DJ$50,B11+4,FALSE)=\"*\",\"\",HLOOKUP(入力表!$E$4&\"女\",入力表!$DB$11:$DJ$50,B11+4,FALSE))","v":{"$error":"#N/A"}},{"$f":"IF(ISERROR(VLOOKUP($D35&E$4,申込確認シート!$E$1:$F$120,2,FALSE)),\"@\",VLOOKUP($D35&E$4,申込確認シート!$E$1:$F$120,2,FALSE))","v":"@"},null,null,{"$f":"IF(ISERROR(VLOOKUP($D35&H$4,申込確認シート!$E$1:$F$120,2,FALSE)),\"@\",VLOOKUP($D35&H$4,申込確認シート!$E$1:$F$120,2,FALSE))","v":"@"},null,null,{"$f":"IF(ISERROR(VLOOKUP($D35&K$4,申込確認シート!$E$1:$F$120,2,FALSE)),\"@\",VLOOKUP($D35&K$4,申込確認シート!$E$1:$F$120,2,FALSE))","v":"@"},null,null,{"$f":"IF(ISERROR(VLOOKUP($D35&N$4,申込確認シート!$E$1:$F$120,2,FALSE)),\"@\",VLOOKUP($D35&N$4,申込確認シート!$E$1:$F$120,2,FALSE))","v":"@"},null,null,{"$f":"IF(ISERROR(VLOOKUP($D35&Q$4,申込確認シート!$E$1:$F$120,2,FALSE)),\"@\",VLOOKUP($D35&Q$4,申込確認シート!$E$1:$F$120,2,FALSE))","v":"@"},null,null,{"$f":"IF(ISERROR(VLOOKUP($D35&T$4,申込確認シート!$E$1:$F$120,2,FALSE)),\"@\",VLOOKUP($D35&T$4,申込確認シート!$E$1:$F$120,2,FALSE))","v":"@"},null,null,{"$f":"IF(ISERROR(VLOOKUP($D35&W$4,申込確認シート!$E$1:$F$120,2,FALSE)),\"@\",VLOOKUP($D35&W$4,申込確認シート!$E$1:$F$120,2,FALSE))","v":"@"},null,null,{"$f":"IF(ISERROR(VLOOKUP($D35&Z$4,申込確認シート!$E$1:$F$120,2,FALSE)),\"@\",VLOOKUP($D35&Z$4,申込確認シート!$E$1:$F$120,2,FALSE))","v":"@"},null,null,{"$f":"IF(ISERROR(VLOOKUP($D35&AC$4,申込確認シート!$E$1:$F$120,2,FALSE)),\"@\",VLOOKUP($D35&AC$4,申込確認シート!$E$1:$F$120,2,FALSE))","v":"@"},null,null,{"$f":"IF(ISERROR(VLOOKUP($D35&AF$4,申込確認シート!$E$1:$F$120,2,FALSE)),\"@\",VLOOKUP($D35&AF$4,申込確認シート!$E$1:$F$120,2,FALSE))","v":"@"},null,null,{"$f":"IF(ISERROR(VLOOKUP($D35&AI$4,申込確認シート!$E$1:$F$120,2,FALSE)),\"@\",VLOOKUP($D35&AI$4,申込確認シート!$E$1:$F$120,2,FALSE))","v":"@"},null,null,{"$f":"IF(ISERROR(VLOOKUP($D35&AL$4,申込確認シート!$E$1:$F$120,2,FALSE)),\"@\",VLOOKUP($D35&AL$4,申込確認シート!$E$1:$F$120,2,FALSE))","v":"@"},null,null,{"$f":"IF(ISERROR(VLOOKUP($D35&AO$4,申込確認シート!$E$1:$F$120,2,FALSE)),\"@\",VLOOKUP($D35&AO$4,申込確認シート!$E$1:$F$120,2,FALSE))","v":"@"},null,null,{"$f":"IF(ISERROR(VLOOKUP($D35&AR$4,申込確認シート!$E$1:$F$120,2,FALSE)),\"@\",VLOOKUP($D35&AR$4,申込確認シート!$E$1:$F$120,2,FALSE))","v":"@"},null,null,{"$f":"IF(ISERROR(VLOOKUP($D35&AU$4,申込確認シート!$E$1:$F$120,2,FALSE)),\"@\",VLOOKUP($D35&AU$4,申込確認シート!$E$1:$F$120,2,FALSE))","v":"@"},null,null,{"$f":"COUNTIF(申込確認シート!$C$1:$C$120,D35)","v":0}]
[null,8,"",{"$f":"IF(HLOOKUP(入力表!$E$4&\"女\",入力表!$DB$11:$DJ$50,B12+4,FALSE)=\"*\",\"\",HLOOKUP(入力表!$E$4&\"女\",入力表!$DB$11:$DJ$50,B12+4,FALSE))","v":{"$error":"#N/A"}},{"$f":"IF(ISERROR(VLOOKUP($D36&E$4,申込確認シート!$E$1:$F$120,2,FALSE)),\"@\",VLOOKUP($D36&E$4,申込確認シート!$E$1:$F$120,2,FALSE))","v":"@"},null,null,{"$f":"IF(ISERROR(VLOOKUP($D36&H$4,申込確認シート!$E$1:$F$120,2,FALSE)),\"@\",VLOOKUP($D36&H$4,申込確認シート!$E$1:$F$120,2,FALSE))","v":"@"},null,null,{"$f":"IF(ISERROR(VLOOKUP($D36&K$4,申込確認シート!$E$1:$F$120,2,FALSE)),\"@\",VLOOKUP($D36&K$4,申込確認シート!$E$1:$F$120,2,FALSE))","v":"@"},null,null,{"$f":"IF(ISERROR(VLOOKUP($D36&N$4,申込確認シート!$E$1:$F$120,2,FALSE)),\"@\",VLOOKUP($D36&N$4,申込確認シート!$E$1:$F$120,2,FALSE))","v":"@"},null,null,{"$f":"IF(ISERROR(VLOOKUP($D36&Q$4,申込確認シート!$E$1:$F$120,2,FALSE)),\"@\",VLOOKUP($D36&Q$4,申込確認シート!$E$1:$F$120,2,FALSE))","v":"@"},null,null,{"$f":"IF(ISERROR(VLOOKUP($D36&T$4,申込確認シート!$E$1:$F$120,2,FALSE)),\"@\",VLOOKUP($D36&T$4,申込確認シート!$E$1:$F$120,2,FALSE))","v":"@"},null,null,{"$f":"IF(ISERROR(VLOOKUP($D36&W$4,申込確認シート!$E$1:$F$120,2,FALSE)),\"@\",VLOOKUP($D36&W$4,申込確認シート!$E$1:$F$120,2,FALSE))","v":"@"},null,null,{"$f":"IF(ISERROR(VLOOKUP($D36&Z$4,申込確認シート!$E$1:$F$120,2,FALSE)),\"@\",VLOOKUP($D36&Z$4,申込確認シート!$E$1:$F$120,2,FALSE))","v":"@"},null,null,{"$f":"IF(ISERROR(VLOOKUP($D36&AC$4,申込確認シート!$E$1:$F$120,2,FALSE)),\"@\",VLOOKUP($D36&AC$4,申込確認シート!$E$1:$F$120,2,FALSE))","v":"@"},null,null,{"$f":"IF(ISERROR(VLOOKUP($D36&AF$4,申込確認シート!$E$1:$F$120,2,FALSE)),\"@\",VLOOKUP($D36&AF$4,申込確認シート!$E$1:$F$120,2,FALSE))","v":"@"},null,null,{"$f":"IF(ISERROR(VLOOKUP($D36&AI$4,申込確認シート!$E$1:$F$120,2,FALSE)),\"@\",VLOOKUP($D36&AI$4,申込確認シート!$E$1:$F$120,2,FALSE))","v":"@"},null,null,{"$f":"IF(ISERROR(VLOOKUP($D36&AL$4,申込確認シート!$E$1:$F$120,2,FALSE)),\"@\",VLOOKUP($D36&AL$4,申込確認シート!$E$1:$F$120,2,FALSE))","v":"@"},null,null,{"$f":"IF(ISERROR(VLOOKUP($D36&AO$4,申込確認シート!$E$1:$F$120,2,FALSE)),\"@\",VLOOKUP($D36&AO$4,申込確認シート!$E$1:$F$120,2,FALSE))","v":"@"},null,null,{"$f":"IF(ISERROR(VLOOKUP($D36&AR$4,申込確認シート!$E$1:$F$120,2,FALSE)),\"@\",VLOOKUP($D36&AR$4,申込確認シート!$E$1:$F$120,2,FALSE))","v":"@"},null,null,{"$f":"IF(ISERROR(VLOOKUP($D36&AU$4,申込確認シート!$E$1:$F$120,2,FALSE)),\"@\",VLOOKUP($D36&AU$4,申込確認シート!$E$1:$F$120,2,FALSE))","v":"@"},null,null,{"$f":"COUNTIF(申込確認シート!$C$1:$C$120,D36)","v":0}]
[null,9,"",{"$f":"IF(HLOOKUP(入力表!$E$4&\"女\",入力表!$DB$11:$DJ$50,B13+4,FALSE)=\"*\",\"\",HLOOKUP(入力表!$E$4&\"女\",入力表!$DB$11:$DJ$50,B13+4,FALSE))","v":{"$error":"#N/A"}},{"$f":"IF(ISERROR(VLOOKUP($D37&E$4,申込確認シート!$E$1:$F$120,2,FALSE)),\"@\",VLOOKUP($D37&E$4,申込確認シート!$E$1:$F$120,2,FALSE))","v":"@"},null,null,{"$f":"IF(ISERROR(VLOOKUP($D37&H$4,申込確認シート!$E$1:$F$120,2,FALSE)),\"@\",VLOOKUP($D37&H$4,申込確認シート!$E$1:$F$120,2,FALSE))","v":"@"},null,null,{"$f":"IF(ISERROR(VLOOKUP($D37&K$4,申込確認シート!$E$1:$F$120,2,FALSE)),\"@\",VLOOKUP($D37&K$4,申込確認シート!$E$1:$F$120,2,FALSE))","v":"@"},null,null,{"$f":"IF(ISERROR(VLOOKUP($D37&N$4,申込確認シート!$E$1:$F$120,2,FALSE)),\"@\",VLOOKUP($D37&N$4,申込確認シート!$E$1:$F$120,2,FALSE))","v":"@"},null,null,{"$f":"IF(ISERROR(VLOOKUP($D37&Q$4,申込確認シート!$E$1:$F$120,2,FALSE)),\"@\",VLOOKUP($D37&Q$4,申込確認シート!$E$1:$F$120,2,FALSE))","v":"@"},null,null,{"$f":"IF(ISERROR(VLOOKUP($D37&T$4,申込確認シート!$E$1:$F$120,2,FALSE)),\"@\",VLOOKUP($D37&T$4,申込確認シート!$E$1:$F$120,2,FALSE))","v":"@"},null,null,{"$f":"IF(ISERROR(VLOOKUP($D37&W$4,申込確認シート!$E$1:$F$120,2,FALSE)),\"@\",VLOOKUP($D37&W$4,申込確認シート!$E$1:$F$120,2,FALSE))","v":"@"},null,null,{"$f":"IF(ISERROR(VLOOKUP($D37&Z$4,申込確認シート!$E$1:$F$120,2,FALSE)),\"@\",VLOOKUP($D37&Z$4,申込確認シート!$E$1:$F$120,2,FALSE))","v":"@"},null,null,{"$f":"IF(ISERROR(VLOOKUP($D37&AC$4,申込確認シート!$E$1:$F$120,2,FALSE)),\"@\",VLOOKUP($D37&AC$4,申込確認シート!$E$1:$F$120,2,FALSE))","v":"@"},null,null,{"$f":"IF(ISERROR(VLOOKUP($D37&AF$4,申込確認シート!$E$1:$F$120,2,FALSE)),\"@\",VLOOKUP($D37&AF$4,申込確認シート!$E$1:$F$120,2,FALSE))","v":"@"},null,null,{"$f":"IF(ISERROR(VLOOKUP($D37&AI$4,申込確認シート!$E$1:$F$120,2,FALSE)),\"@\",VLOOKUP($D37&AI$4,申込確認シート!$E$1:$F$120,2,FALSE))","v":"@"},null,null,{"$f":"IF(ISERROR(VLOOKUP($D37&AL$4,申込確認シート!$E$1:$F$120,2,FALSE)),\"@\",VLOOKUP($D37&AL$4,申込確認シート!$E$1:$F$120,2,FALSE))","v":"@"},null,null,{"$f":"IF(ISERROR(VLOOKUP($D37&AO$4,申込確認シート!$E$1:$F$120,2,FALSE)),\"@\",VLOOKUP($D37&AO$4,申込確認シート!$E$1:$F$120,2,FALSE))","v":"@"},null,null,{"$f":"IF(ISERROR(VLOOKUP($D37&AR$4,申込確認シート!$E$1:$F$120,2,FALSE)),\"@\",VLOOKUP($D37&AR$4,申込確認シート!$E$1:$F$120,2,FALSE))","v":"@"},null,null,{"$f":"IF(ISERROR(VLOOKUP($D37&AU$4,申込確認シート!$E$1:$F$120,2,FALSE)),\"@\",VLOOKUP($D37&AU$4,申込確認シート!$E$1:$F$120,2,FALSE))","v":"@"},null,null,{"$f":"COUNTIF(申込確認シート!$C$1:$C$120,D37)","v":0}]
[null,10,"",{"$f":"IF(HLOOKUP(入力表!$E$4&\"女\",入力表!$DB$11:$DJ$50,B14+4,FALSE)=\"*\",\"\",HLOOKUP(入力表!$E$4&\"女\",入力表!$DB$11:$DJ$50,B14+4,FALSE))","v":{"$error":"#N/A"}},{"$f":"IF(ISERROR(VLOOKUP($D38&E$4,申込確認シート!$E$1:$F$120,2,FALSE)),\"@\",VLOOKUP($D38&E$4,申込確認シート!$E$1:$F$120,2,FALSE))","v":"@"},null,null,{"$f":"IF(ISERROR(VLOOKUP($D38&H$4,申込確認シート!$E$1:$F$120,2,FALSE)),\"@\",VLOOKUP($D38&H$4,申込確認シート!$E$1:$F$120,2,FALSE))","v":"@"},null,null,{"$f":"IF(ISERROR(VLOOKUP($D38&K$4,申込確認シート!$E$1:$F$120,2,FALSE)),\"@\",VLOOKUP($D38&K$4,申込確認シート!$E$1:$F$120,2,FALSE))","v":"@"},null,null,{"$f":"IF(ISERROR(VLOOKUP($D38&N$4,申込確認シート!$E$1:$F$120,2,FALSE)),\"@\",VLOOKUP($D38&N$4,申込確認シート!$E$1:$F$120,2,FALSE))","v":"@"},null,null,{"$f":"IF(ISERROR(VLOOKUP($D38&Q$4,申込確認シート!$E$1:$F$120,2,FALSE)),\"@\",VLOOKUP($D38&Q$4,申込確認シート!$E$1:$F$120,2,FALSE))","v":"@"},null,null,{"$f":"IF(ISERROR(VLOOKUP($D38&T$4,申込確認シート!$E$1:$F$120,2,FALSE)),\"@\",VLOOKUP($D38&T$4,申込確認シート!$E$1:$F$120,2,FALSE))","v":"@"},null,null,{"$f":"IF(ISERROR(VLOOKUP($D38&W$4,申込確認シート!$E$1:$F$120,2,FALSE)),\"@\",VLOOKUP($D38&W$4,申込確認シート!$E$1:$F$120,2,FALSE))","v":"@"},null,null,{"$f":"IF(ISERROR(VLOOKUP($D38&Z$4,申込確認シート!$E$1:$F$120,2,FALSE)),\"@\",VLOOKUP($D38&Z$4,申込確認シート!$E$1:$F$120,2,FALSE))","v":"@"},null,null,{"$f":"IF(ISERROR(VLOOKUP($D38&AC$4,申込確認シート!$E$1:$F$120,2,FALSE)),\"@\",VLOOKUP($D38&AC$4,申込確認シート!$E$1:$F$120,2,FALSE))","v":"@"},null,null,{"$f":"IF(ISERROR(VLOOKUP($D38&AF$4,申込確認シート!$E$1:$F$120,2,FALSE)),\"@\",VLOOKUP($D38&AF$4,申込確認シート!$E$1:$F$120,2,FALSE))","v":"@"},null,null,{"$f":"IF(ISERROR(VLOOKUP($D38&AI$4,申込確認シート!$E$1:$F$120,2,FALSE)),\"@\",VLOOKUP($D38&AI$4,申込確認シート!$E$1:$F$120,2,FALSE))","v":"@"},null,null,{"$f":"IF(ISERROR(VLOOKUP($D38&AL$4,申込確認シート!$E$1:$F$120,2,FALSE)),\"@\",VLOOKUP($D38&AL$4,申込確認シート!$E$1:$F$120,2,FALSE))","v":"@"},null,null,{"$f":"IF(ISERROR(VLOOKUP($D38&AO$4,申込確認シート!$E$1:$F$120,2,FALSE)),\"@\",VLOOKUP($D38&AO$4,申込確認シート!$E$1:$F$120,2,FALSE))","v":"@"},null,null,{"$f":"IF(ISERROR(VLOOKUP($D38&AR$4,申込確認シート!$E$1:$F$120,2,FALSE)),\"@\",VLOOKUP($D38&AR$4,申込確認シート!$E$1:$F$120,2,FALSE))","v":"@"},null,null,{"$f":"IF(ISERROR(VLOOKUP($D38&AU$4,申込確認シート!$E$1:$F$120,2,FALSE)),\"@\",VLOOKUP($D38&AU$4,申込確認シート!$E$1:$F$120,2,FALSE))","v":"@"},null,null,{"$f":"COUNTIF(申込確認シート!$C$1:$C$120,D38)","v":0}]
[null,11,"",{"$f":"IF(HLOOKUP(入力表!$E$4&\"女\",入力表!$DB$11:$DJ$50,B15+4,FALSE)=\"*\",\"\",HLOOKUP(入力表!$E$4&\"女\",入力表!$DB$11:$DJ$50,B15+4,FALSE))","v":{"$error":"#N/A"}},{"$f":"IF(ISERROR(VLOOKUP($D39&E$4,申込確認シート!$E$1:$F$120,2,FALSE)),\"@\",VLOOKUP($D39&E$4,申込確認シート!$E$1:$F$120,2,FALSE))","v":"@"},null,null,{"$f":"IF(ISERROR(VLOOKUP($D39&H$4,申込確認シート!$E$1:$F$120,2,FALSE)),\"@\",VLOOKUP($D39&H$4,申込確認シート!$E$1:$F$120,2,FALSE))","v":"@"},null,null,{"$f":"IF(ISERROR(VLOOKUP($D39&K$4,申込確認シート!$E$1:$F$120,2,FALSE)),\"@\",VLOOKUP($D39&K$4,申込確認シート!$E$1:$F$120,2,FALSE))","v":"@"},null,null,{"$f":"IF(ISERROR(VLOOKUP($D39&N$4,申込確認シート!$E$1:$F$120,2,FALSE)),\"@\",VLOOKUP($D39&N$4,申込確認シート!$E$1:$F$120,2,FALSE))","v":"@"},null,null,{"$f":"IF(ISERROR(VLOOKUP($D39&Q$4,申込確認シート!$E$1:$F$120,2,FALSE)),\"@\",VLOOKUP($D39&Q$4,申込確認シート!$E$1:$F$120,2,FALSE))","v":"@"},null,null,{"$f":"IF(ISERROR(VLOOKUP($D39&T$4,申込確認シート!$E$1:$F$120,2,FALSE)),\"@\",VLOOKUP($D39&T$4,申込確認シート!$E$1:$F$120,2,FALSE))","v":"@"},null,null,{"$f":"IF(ISERROR(VLOOKUP($D39&W$4,申込確認シート!$E$1:$F$120,2,FALSE)),\"@\",VLOOKUP($D39&W$4,申込確認シート!$E$1:$F$120,2,FALSE))","v":"@"},null,null,{"$f":"IF(ISERROR(VLOOKUP($D39&Z$4,申込確認シート!$E$1:$F$120,2,FALSE)),\"@\",VLOOKUP($D39&Z$4,申込確認シート!$E$1:$F$120,2,FALSE))","v":"@"},null,null,{"$f":"IF(ISERROR(VLOOKUP($D39&AC$4,申込確認シート!$E$1:$F$120,2,FALSE)),\"@\",VLOOKUP($D39&AC$4,申込確認シート!$E$1:$F$120,2,FALSE))","v":"@"},null,null,{"$f":"IF(ISERROR(VLOOKUP($D39&AF$4,申込確認シート!$E$1:$F$120,2,FALSE)),\"@\",VLOOKUP($D39&AF$4,申込確認シート!$E$1:$F$120,2,FALSE))","v":"@"},null,null,{"$f":"IF(ISERROR(VLOOKUP($D39&AI$4,申込確認シート!$E$1:$F$120,2,FALSE)),\"@\",VLOOKUP($D39&AI$4,申込確認シート!$E$1:$F$120,2,FALSE))","v":"@"},null,null,{"$f":"IF(ISERROR(VLOOKUP($D39&AL$4,申込確認シート!$E$1:$F$120,2,FALSE)),\"@\",VLOOKUP($D39&AL$4,申込確認シート!$E$1:$F$120,2,FALSE))","v":"@"},null,null,{"$f":"IF(ISERROR(VLOOKUP($D39&AO$4,申込確認シート!$E$1:$F$120,2,FALSE)),\"@\",VLOOKUP($D39&AO$4,申込確認シート!$E$1:$F$120,2,FALSE))","v":"@"},null,null,{"$f":"IF(ISERROR(VLOOKUP($D39&AR$4,申込確認シート!$E$1:$F$120,2,FALSE)),\"@\",VLOOKUP($D39&AR$4,申込確認シート!$E$1:$F$120,2,FALSE))","v":"@"},null,null,{"$f":"IF(ISERROR(VLOOKUP($D39&AU$4,申込確認シート!$E$1:$F$120,2,FALSE)),\"@\",VLOOKUP($D39&AU$4,申込確認シート!$E$1:$F$120,2,FALSE))","v":"@"},null,null,{"$f":"COUNTIF(申込確認シート!$C$1:$C$120,D39)","v":0}]
[null,12,"",{"$f":"IF(HLOOKUP(入力表!$E$4&\"女\",入力表!$DB$11:$DJ$50,B16+4,FALSE)=\"*\",\"\",HLOOKUP(入力表!$E$4&\"女\",入力表!$DB$11:$DJ$50,B16+4,FALSE))","v":{"$error":"#N/A"}},{"$f":"IF(ISERROR(VLOOKUP($D40&E$4,申込確認シート!$E$1:$F$120,2,FALSE)),\"@\",VLOOKUP($D40&E$4,申込確認シート!$E$1:$F$120,2,FALSE))","v":"@"},null,null,{"$f":"IF(ISERROR(VLOOKUP($D40&H$4,申込確認シート!$E$1:$F$120,2,FALSE)),\"@\",VLOOKUP($D40&H$4,申込確認シート!$E$1:$F$120,2,FALSE))","v":"@"},null,null,{"$f":"IF(ISERROR(VLOOKUP($D40&K$4,申込確認シート!$E$1:$F$120,2,FALSE)),\"@\",VLOOKUP($D40&K$4,申込確認シート!$E$1:$F$120,2,FALSE))","v":"@"},null,null,{"$f":"IF(ISERROR(VLOOKUP($D40&N$4,申込確認シート!$E$1:$F$120,2,FALSE)),\"@\",VLOOKUP($D40&N$4,申込確認シート!$E$1:$F$120,2,FALSE))","v":"@"},null,null,{"$f":"IF(ISERROR(VLOOKUP($D40&Q$4,申込確認シート!$E$1:$F$120,2,FALSE)),\"@\",VLOOKUP($D40&Q$4,申込確認シート!$E$1:$F$120,2,FALSE))","v":"@"},null,null,{"$f":"IF(ISERROR(VLOOKUP($D40&T$4,申込確認シート!$E$1:$F$120,2,FALSE)),\"@\",VLOOKUP($D40&T$4,申込確認シート!$E$1:$F$120,2,FALSE))","v":"@"},null,null,{"$f":"IF(ISERROR(VLOOKUP($D40&W$4,申込確認シート!$E$1:$F$120,2,FALSE)),\"@\",VLOOKUP($D40&W$4,申込確認シート!$E$1:$F$120,2,FALSE))","v":"@"},null,null,{"$f":"IF(ISERROR(VLOOKUP($D40&Z$4,申込確認シート!$E$1:$F$120,2,FALSE)),\"@\",VLOOKUP($D40&Z$4,申込確認シート!$E$1:$F$120,2,FALSE))","v":"@"},null,null,{"$f":"IF(ISERROR(VLOOKUP($D40&AC$4,申込確認シート!$E$1:$F$120,2,FALSE)),\"@\",VLOOKUP($D40&AC$4,申込確認シート!$E$1:$F$120,2,FALSE))","v":"@"},null,null,{"$f":"IF(ISERROR(VLOOKUP($D40&AF$4,申込確認シート!$E$1:$F$120,2,FALSE)),\"@\",VLOOKUP($D40&AF$4,申込確認シート!$E$1:$F$120,2,FALSE))","v":"@"},null,null,{"$f":"IF(ISERROR(VLOOKUP($D40&AI$4,申込確認シート!$E$1:$F$120,2,FALSE)),\"@\",VLOOKUP($D40&AI$4,申込確認シート!$E$1:$F$120,2,FALSE))","v":"@"},null,null,{"$f":"IF(ISERROR(VLOOKUP($D40&AL$4,申込確認シート!$E$1:$F$120,2,FALSE)),\"@\",VLOOKUP($D40&AL$4,申込確認シート!$E$1:$F$120,2,FALSE))","v":"@"},null,null,{"$f":"IF(ISERROR(VLOOKUP($D40&AO$4,申込確認シート!$E$1:$F$120,2,FALSE)),\"@\",VLOOKUP($D40&AO$4,申込確認シート!$E$1:$F$120,2,FALSE))","v":"@"},null,null,{"$f":"IF(ISERROR(VLOOKUP($D40&AR$4,申込確認シート!$E$1:$F$120,2,FALSE)),\"@\",VLOOKUP($D40&AR$4,申込確認シート!$E$1:$F$120,2,FALSE))","v":"@"},null,null,{"$f":"IF(ISERROR(VLOOKUP($D40&AU$4,申込確認シート!$E$1:$F$120,2,FALSE)),\"@\",VLOOKUP($D40&AU$4,申込確認シート!$E$1:$F$120,2,FALSE))","v":"@"},null,null,{"$f":"COUNTIF(申込確認シート!$C$1:$C$120,D40)","v":0}]
[null,13,"",{"$f":"IF(HLOOKUP(入力表!$E$4&\"女\",入力表!$DB$11:$DJ$50,B17+4,FALSE)=\"*\",\"\",HLOOKUP(入力表!$E$4&\"女\",入力表!$DB$11:$DJ$50,B17+4,FALSE))","v":{"$error":"#N/A"}},{"$f":"IF(ISERROR(VLOOKUP($D41&E$4,申込確認シート!$E$1:$F$120,2,FALSE)),\"@\",VLOOKUP($D41&E$4,申込確認シート!$E$1:$F$120,2,FALSE))","v":"@"},null,null,{"$f":"IF(ISERROR(VLOOKUP($D41&H$4,申込確認シート!$E$1:$F$120,2,FALSE)),\"@\",VLOOKUP($D41&H$4,申込確認シート!$E$1:$F$120,2,FALSE))","v":"@"},null,null,{"$f":"IF(ISERROR(VLOOKUP($D41&K$4,申込確認シート!$E$1:$F$120,2,FALSE)),\"@\",VLOOKUP($D41&K$4,申込確認シート!$E$1:$F$120,2,FALSE))","v":"@"},null,null,{"$f":"IF(ISERROR(VLOOKUP($D41&N$4,申込確認シート!$E$1:$F$120,2,FALSE)),\"@\",VLOOKUP($D41&N$4,申込確認シート!$E$1:$F$120,2,FALSE))","v":"@"},null,null,{"$f":"IF(ISERROR(VLOOKUP($D41&Q$4,申込確認シート!$E$1:$F$120,2,FALSE)),\"@\",VLOOKUP($D41&Q$4,申込確認シート!$E$1:$F$120,2,FALSE))","v":"@"},null,null,{"$f":"IF(ISERROR(VLOOKUP($D41&T$4,申込確認シート!$E$1:$F$120,2,FALSE)),\"@\",VLOOKUP($D41&T$4,申込確認シート!$E$1:$F$120,2,FALSE))","v":"@"},null,null,{"$f":"IF(ISERROR(VLOOKUP($D41&W$4,申込確認シート!$E$1:$F$120,2,FALSE)),\"@\",VLOOKUP($D41&W$4,申込確認シート!$E$1:$F$120,2,FALSE))","v":"@"},null,null,{"$f":"IF(ISERROR(VLOOKUP($D41&Z$4,申込確認シート!$E$1:$F$120,2,FALSE)),\"@\",VLOOKUP($D41&Z$4,申込確認シート!$E$1:$F$120,2,FALSE))","v":"@"},null,null,{"$f":"IF(ISERROR(VLOOKUP($D41&AC$4,申込確認シート!$E$1:$F$120,2,FALSE)),\"@\",VLOOKUP($D41&AC$4,申込確認シート!$E$1:$F$120,2,FALSE))","v":"@"},null,null,{"$f":"IF(ISERROR(VLOOKUP($D41&AF$4,申込確認シート!$E$1:$F$120,2,FALSE)),\"@\",VLOOKUP($D41&AF$4,申込確認シート!$E$1:$F$120,2,FALSE))","v":"@"},null,null,{"$f":"IF(ISERROR(VLOOKUP($D41&AI$4,申込確認シート!$E$1:$F$120,2,FALSE)),\"@\",VLOOKUP($D41&AI$4,申込確認シート!$E$1:$F$120,2,FALSE))","v":"@"},null,null,{"$f":"IF(ISERROR(VLOOKUP($D41&AL$4,申込確認シート!$E$1:$F$120,2,FALSE)),\"@\",VLOOKUP($D41&AL$4,申込確認シート!$E$1:$F$120,2,FALSE))","v":"@"},null,null,{"$f":"IF(ISERROR(VLOOKUP($D41&AO$4,申込確認シート!$E$1:$F$120,2,FALSE)),\"@\",VLOOKUP($D41&AO$4,申込確認シート!$E$1:$F$120,2,FALSE))","v":"@"},null,null,{"$f":"IF(ISERROR(VLOOKUP($D41&AR$4,申込確認シート!$E$1:$F$120,2,FALSE)),\"@\",VLOOKUP($D41&AR$4,申込確認シート!$E$1:$F$120,2,FALSE))","v":"@"},null,null,{"$f":"IF(ISERROR(VLOOKUP($D41&AU$4,申込確認シート!$E$1:$F$120,2,FALSE)),\"@\",VLOOKUP($D41&AU$4,申込確認シート!$E$1:$F$120,2,FALSE))","v":"@"},null,null,{"$f":"COUNTIF(申込確認シート!$C$1:$C$120,D41)","v":0}]
[null,14,"",{"$f":"IF(HLOOKUP(入力表!$E$4&\"女\",入力表!$DB$11:$DJ$50,B18+4,FALSE)=\"*\",\"\",HLOOKUP(入力表!$E$4&\"女\",入力表!$DB$11:$DJ$50,B18+4,FALSE))","v":{"$error":"#N/A"}},{"$f":"IF(ISERROR(VLOOKUP($D42&E$4,申込確認シート!$E$1:$F$120,2,FALSE)),\"@\",VLOOKUP($D42&E$4,申込確認シート!$E$1:$F$120,2,FALSE))","v":"@"},null,null,{"$f":"IF(ISERROR(VLOOKUP($D42&H$4,申込確認シート!$E$1:$F$120,2,FALSE)),\"@\",VLOOKUP($D42&H$4,申込確認シート!$E$1:$F$120,2,FALSE))","v":"@"},null,null,{"$f":"IF(ISERROR(VLOOKUP($D42&K$4,申込確認シート!$E$1:$F$120,2,FALSE)),\"@\",VLOOKUP($D42&K$4,申込確認シート!$E$1:$F$120,2,FALSE))","v":"@"},null,null,{"$f":"IF(ISERROR(VLOOKUP($D42&N$4,申込確認シート!$E$1:$F$120,2,FALSE)),\"@\",VLOOKUP($D42&N$4,申込確認シート!$E$1:$F$120,2,FALSE))","v":"@"},null,null,{"$f":"IF(ISERROR(VLOOKUP($D42&Q$4,申込確認シート!$E$1:$F$120,2,FALSE)),\"@\",VLOOKUP($D42&Q$4,申込確認シート!$E$1:$F$120,2,FALSE))","v":"@"},null,null,{"$f":"IF(ISERROR(VLOOKUP($D42&T$4,申込確認シート!$E$1:$F$120,2,FALSE)),\"@\",VLOOKUP($D42&T$4,申込確認シート!$E$1:$F$120,2,FALSE))","v":"@"},null,null,{"$f":"IF(ISERROR(VLOOKUP($D42&W$4,申込確認シート!$E$1:$F$120,2,FALSE)),\"@\",VLOOKUP($D42&W$4,申込確認シート!$E$1:$F$120,2,FALSE))","v":"@"},null,null,{"$f":"IF(ISERROR(VLOOKUP($D42&Z$4,申込確認シート!$E$1:$F$120,2,FALSE)),\"@\",VLOOKUP($D42&Z$4,申込確認シート!$E$1:$F$120,2,FALSE))","v":"@"},null,null,{"$f":"IF(ISERROR(VLOOKUP($D42&AC$4,申込確認シート!$E$1:$F$120,2,FALSE)),\"@\",VLOOKUP($D42&AC$4,申込確認シート!$E$1:$F$120,2,FALSE))","v":"@"},null,null,{"$f":"IF(ISERROR(VLOOKUP($D42&AF$4,申込確認シート!$E$1:$F$120,2,FALSE)),\"@\",VLOOKUP($D42&AF$4,申込確認シート!$E$1:$F$120,2,FALSE))","v":"@"},null,null,{"$f":"IF(ISERROR(VLOOKUP($D42&AI$4,申込確認シート!$E$1:$F$120,2,FALSE)),\"@\",VLOOKUP($D42&AI$4,申込確認シート!$E$1:$F$120,2,FALSE))","v":"@"},null,null,{"$f":"IF(ISERROR(VLOOKUP($D42&AL$4,申込確認シート!$E$1:$F$120,2,FALSE)),\"@\",VLOOKUP($D42&AL$4,申込確認シート!$E$1:$F$120,2,FALSE))","v":"@"},null,null,{"$f":"IF(ISERROR(VLOOKUP($D42&AO$4,申込確認シート!$E$1:$F$120,2,FALSE)),\"@\",VLOOKUP($D42&AO$4,申込確認シート!$E$1:$F$120,2,FALSE))","v":"@"},null,null,{"$f":"IF(ISERROR(VLOOKUP($D42&AR$4,申込確認シート!$E$1:$F$120,2,FALSE)),\"@\",VLOOKUP($D42&AR$4,申込確認シート!$E$1:$F$120,2,FALSE))","v":"@"},null,null,{"$f":"IF(ISERROR(VLOOKUP($D42&AU$4,申込確認シート!$E$1:$F$120,2,FALSE)),\"@\",VLOOKUP($D42&AU$4,申込確認シート!$E$1:$F$120,2,FALSE))","v":"@"},null,null,{"$f":"COUNTIF(申込確認シート!$C$1:$C$120,D42)","v":0}]
[null,15,"",{"$f":"IF(HLOOKUP(入力表!$E$4&\"女\",入力表!$DB$11:$DJ$50,B19+4,FALSE)=\"*\",\"\",HLOOKUP(入力表!$E$4&\"女\",入力表!$DB$11:$DJ$50,B19+4,FALSE))","v":{"$error":"#N/A"}},{"$f":"IF(ISERROR(VLOOKUP($D43&E$4,申込確認シート!$E$1:$F$120,2,FALSE)),\"@\",VLOOKUP($D43&E$4,申込確認シート!$E$1:$F$120,2,FALSE))","v":"@"},null,null,{"$f":"IF(ISERROR(VLOOKUP($D43&H$4,申込確認シート!$E$1:$F$120,2,FALSE)),\"@\",VLOOKUP($D43&H$4,申込確認シート!$E$1:$F$120,2,FALSE))","v":"@"},null,null,{"$f":"IF(ISERROR(VLOOKUP($D43&K$4,申込確認シート!$E$1:$F$120,2,FALSE)),\"@\",VLOOKUP($D43&K$4,申込確認シート!$E$1:$F$120,2,FALSE))","v":"@"},null,null,{"$f":"IF(ISERROR(VLOOKUP($D43&N$4,申込確認シート!$E$1:$F$120,2,FALSE)),\"@\",VLOOKUP($D43&N$4,申込確認シート!$E$1:$F$120,2,FALSE))","v":"@"},null,null,{"$f":"IF(ISERROR(VLOOKUP($D43&Q$4,申込確認シート!$E$1:$F$120,2,FALSE)),\"@\",VLOOKUP($D43&Q$4,申込確認シート!$E$1:$F$120,2,FALSE))","v":"@"},null,null,{"$f":"IF(ISERROR(VLOOKUP($D43&T$4,申込確認シート!$E$1:$F$120,2,FALSE)),\"@\",VLOOKUP($D43&T$4,申込確認シート!$E$1:$F$120,2,FALSE))","v":"@"},null,null,{"$f":"IF(ISERROR(VLOOKUP($D43&W$4,申込確認シート!$E$1:$F$120,2,FALSE)),\"@\",VLOOKUP($D43&W$4,申込確認シート!$E$1:$F$120,2,FALSE))","v":"@"},null,null,{"$f":"IF(ISERROR(VLOOKUP($D43&Z$4,申込確認シート!$E$1:$F$120,2,FALSE)),\"@\",VLOOKUP($D43&Z$4,申込確認シート!$E$1:$F$120,2,FALSE))","v":"@"},null,null,{"$f":"IF(ISERROR(VLOOKUP($D43&AC$4,申込確認シート!$E$1:$F$120,2,FALSE)),\"@\",VLOOKUP($D43&AC$4,申込確認シート!$E$1:$F$120,2,FALSE))","v":"@"},null,null,{"$f":"IF(ISERROR(VLOOKUP($D43&AF$4,申込確認シート!$E$1:$F$120,2,FALSE)),\"@\",VLOOKUP($D43&AF$4,申込確認シート!$E$1:$F$120,2,FALSE))","v":"@"},null,null,{"$f":"IF(ISERROR(VLOOKUP($D43&AI$4,申込確認シート!$E$1:$F$120,2,FALSE)),\"@\",VLOOKUP($D43&AI$4,申込確認シート!$E$1:$F$120,2,FALSE))","v":"@"},null,null,{"$f":"IF(ISERROR(VLOOKUP($D43&AL$4,申込確認シート!$E$1:$F$120,2,FALSE)),\"@\",VLOOKUP($D43&AL$4,申込確認シート!$E$1:$F$120,2,FALSE))","v":"@"},null,null,{"$f":"IF(ISERROR(VLOOKUP($D43&AO$4,申込確認シート!$E$1:$F$120,2,FALSE)),\"@\",VLOOKUP($D43&AO$4,申込確認シート!$E$1:$F$120,2,FALSE))","v":"@"},null,null,{"$f":"IF(ISERROR(VLOOKUP($D43&AR$4,申込確認シート!$E$1:$F$120,2,FALSE)),\"@\",VLOOKUP($D43&AR$4,申込確認シート!$E$1:$F$120,2,FALSE))","v":"@"},null,null,{"$f":"IF(ISERROR(VLOOKUP($D43&AU$4,申込確認シート!$E$1:$F$120,2,FALSE)),\"@\",VLOOKUP($D43&AU$4,申込確認シート!$E$1:$F$120,2,FALSE))","v":"@"},null,null,{"$f":"COUNTIF(申込確認シート!$C$1:$C$120,D43)","v":0}]
[null,16,"",{"$f":"IF(HLOOKUP(入力表!$E$4&\"女\",入力表!$DB$11:$DJ$50,B20+4,FALSE)=\"*\",\"\",HLOOKUP(入力表!$E$4&\"女\",入力表!$DB$11:$DJ$50,B20+4,FALSE))","v":{"$error":"#N/A"}},{"$f":"IF(ISERROR(VLOOKUP($D44&E$4,申込確認シート!$E$1:$F$120,2,FALSE)),\"@\",VLOOKUP($D44&E$4,申込確認シート!$E$1:$F$120,2,FALSE))","v":"@"},null,null,{"$f":"IF(ISERROR(VLOOKUP($D44&H$4,申込確認シート!$E$1:$F$120,2,FALSE)),\"@\",VLOOKUP($D44&H$4,申込確認シート!$E$1:$F$120,2,FALSE))","v":"@"},null,null,{"$f":"IF(ISERROR(VLOOKUP($D44&K$4,申込確認シート!$E$1:$F$120,2,FALSE)),\"@\",VLOOKUP($D44&K$4,申込確認シート!$E$1:$F$120,2,FALSE))","v":"@"},null,null,{"$f":"IF(ISERROR(VLOOKUP($D44&N$4,申込確認シート!$E$1:$F$120,2,FALSE)),\"@\",VLOOKUP($D44&N$4,申込確認シート!$E$1:$F$120,2,FALSE))","v":"@"},null,null,{"$f":"IF(ISERROR(VLOOKUP($D44&Q$4,申込確認シート!$E$1:$F$120,2,FALSE)),\"@\",VLOOKUP($D44&Q$4,申込確認シート!$E$1:$F$120,2,FALSE))","v":"@"},null,null,{"$f":"IF(ISERROR(VLOOKUP($D44&T$4,申込確認シート!$E$1:$F$120,2,FALSE)),\"@\",VLOOKUP($D44&T$4,申込確認シート!$E$1:$F$120,2,FALSE))","v":"@"},null,null,{"$f":"IF(ISERROR(VLOOKUP($D44&W$4,申込確認シート!$E$1:$F$120,2,FALSE)),\"@\",VLOOKUP($D44&W$4,申込確認シート!$E$1:$F$120,2,FALSE))","v":"@"},null,null,{"$f":"IF(ISERROR(VLOOKUP($D44&Z$4,申込確認シート!$E$1:$F$120,2,FALSE)),\"@\",VLOOKUP($D44&Z$4,申込確認シート!$E$1:$F$120,2,FALSE))","v":"@"},null,null,{"$f":"IF(ISERROR(VLOOKUP($D44&AC$4,申込確認シート!$E$1:$F$120,2,FALSE)),\"@\",VLOOKUP($D44&AC$4,申込確認シート!$E$1:$F$120,2,FALSE))","v":"@"},null,null,{"$f":"IF(ISERROR(VLOOKUP($D44&AF$4,申込確認シート!$E$1:$F$120,2,FALSE)),\"@\",VLOOKUP($D44&AF$4,申込確認シート!$E$1:$F$120,2,FALSE))","v":"@"},null,null,{"$f":"IF(ISERROR(VLOOKUP($D44&AI$4,申込確認シート!$E$1:$F$120,2,FALSE)),\"@\",VLOOKUP($D44&AI$4,申込確認シート!$E$1:$F$120,2,FALSE))","v":"@"},null,null,{"$f":"IF(ISERROR(VLOOKUP($D44&AL$4,申込確認シート!$E$1:$F$120,2,FALSE)),\"@\",VLOOKUP($D44&AL$4,申込確認シート!$E$1:$F$120,2,FALSE))","v":"@"},null,null,{"$f":"IF(ISERROR(VLOOKUP($D44&AO$4,申込確認シート!$E$1:$F$120,2,FALSE)),\"@\",VLOOKUP($D44&AO$4,申込確認シート!$E$1:$F$120,2,FALSE))","v":"@"},null,null,{"$f":"IF(ISERROR(VLOOKUP($D44&AR$4,申込確認シート!$E$1:$F$120,2,FALSE)),\"@\",VLOOKUP($D44&AR$4,申込確認シート!$E$1:$F$120,2,FALSE))","v":"@"},null,null,{"$f":"IF(ISERROR(VLOOKUP($D44&AU$4,申込確認シート!$E$1:$F$120,2,FALSE)),\"@\",VLOOKUP($D44&AU$4,申込確認シート!$E$1:$F$120,2,FALSE))","v":"@"},null,null,{"$f":"COUNTIF(申込確認シート!$C$1:$C$120,D44)","v":0}]
[null,17,"",{"$f":"IF(HLOOKUP(入力表!$E$4&\"女\",入力表!$DB$11:$DJ$50,B21+4,FALSE)=\"*\",\"\",HLOOKUP(入力表!$E$4&\"女\",入力表!$DB$11:$DJ$50,B21+4,FALSE))","v":{"$error":"#N/A"}},{"$f":"IF(ISERROR(VLOOKUP($D45&E$4,申込確認シート!$E$1:$F$120,2,FALSE)),\"@\",VLOOKUP($D45&E$4,申込確認シート!$E$1:$F$120,2,FALSE))","v":"@"},null,null,{"$f":"IF(ISERROR(VLOOKUP($D45&H$4,申込確認シート!$E$1:$F$120,2,FALSE)),\"@\",VLOOKUP($D45&H$4,申込確認シート!$E$1:$F$120,2,FALSE))","v":"@"},null,null,{"$f":"IF(ISERROR(VLOOKUP($D45&K$4,申込確認シート!$E$1:$F$120,2,FALSE)),\"@\",VLOOKUP($D45&K$4,申込確認シート!$E$1:$F$120,2,FALSE))","v":"@"},null,null,{"$f":"IF(ISERROR(VLOOKUP($D45&N$4,申込確認シート!$E$1:$F$120,2,FALSE)),\"@\",VLOOKUP($D45&N$4,申込確認シート!$E$1:$F$120,2,FALSE))","v":"@"},null,null,{"$f":"IF(ISERROR(VLOOKUP($D45&Q$4,申込確認シート!$E$1:$F$120,2,FALSE)),\"@\",VLOOKUP($D45&Q$4,申込確認シート!$E$1:$F$120,2,FALSE))","v":"@"},null,null,{"$f":"IF(ISERROR(VLOOKUP($D45&T$4,申込確認シート!$E$1:$F$120,2,FALSE)),\"@\",VLOOKUP($D45&T$4,申込確認シート!$E$1:$F$120,2,FALSE))","v":"@"},null,null,{"$f":"IF(ISERROR(VLOOKUP($D45&W$4,申込確認シート!$E$1:$F$120,2,FALSE)),\"@\",VLOOKUP($D45&W$4,申込確認シート!$E$1:$F$120,2,FALSE))","v":"@"},null,null,{"$f":"IF(ISERROR(VLOOKUP($D45&Z$4,申込確認シート!$E$1:$F$120,2,FALSE)),\"@\",VLOOKUP($D45&Z$4,申込確認シート!$E$1:$F$120,2,FALSE))","v":"@"},null,null,{"$f":"IF(ISERROR(VLOOKUP($D45&AC$4,申込確認シート!$E$1:$F$120,2,FALSE)),\"@\",VLOOKUP($D45&AC$4,申込確認シート!$E$1:$F$120,2,FALSE))","v":"@"},null,null,{"$f":"IF(ISERROR(VLOOKUP($D45&AF$4,申込確認シート!$E$1:$F$120,2,FALSE)),\"@\",VLOOKUP($D45&AF$4,申込確認シート!$E$1:$F$120,2,FALSE))","v":"@"},null,null,{"$f":"IF(ISERROR(VLOOKUP($D45&AI$4,申込確認シート!$E$1:$F$120,2,FALSE)),\"@\",VLOOKUP($D45&AI$4,申込確認シート!$E$1:$F$120,2,FALSE))","v":"@"},null,null,{"$f":"IF(ISERROR(VLOOKUP($D45&AL$4,申込確認シート!$E$1:$F$120,2,FALSE)),\"@\",VLOOKUP($D45&AL$4,申込確認シート!$E$1:$F$120,2,FALSE))","v":"@"},null,null,{"$f":"IF(ISERROR(VLOOKUP($D45&AO$4,申込確認シート!$E$1:$F$120,2,FALSE)),\"@\",VLOOKUP($D45&AO$4,申込確認シート!$E$1:$F$120,2,FALSE))","v":"@"},null,null,{"$f":"IF(ISERROR(VLOOKUP($D45&AR$4,申込確認シート!$E$1:$F$120,2,FALSE)),\"@\",VLOOKUP($D45&AR$4,申込確認シート!$E$1:$F$120,2,FALSE))","v":"@"},null,null,{"$f":"IF(ISERROR(VLOOKUP($D45&AU$4,申込確認シート!$E$1:$F$120,2,FALSE)),\"@\",VLOOKUP($D45&AU$4,申込確認シート!$E$1:$F$120,2,FALSE))","v":"@"},null,null,{"$f":"COUNTIF(申込確認シート!$C$1:$C$120,D45)","v":0}]
[null,18,"",{"$f":"IF(HLOOKUP(入力表!$E$4&\"女\",入力表!$DB$11:$DJ$50,B22+4,FALSE)=\"*\",\"\",HLOOKUP(入力表!$E$4&\"女\",入力表!$DB$11:$DJ$50,B22+4,FALSE))","v":{"$error":"#N/A"}},{"$f":"IF(ISERROR(VLOOKUP($D46&E$4,申込確認シート!$E$1:$F$120,2,FALSE)),\"@\",VLOOKUP($D46&E$4,申込確認シート!$E$1:$F$120,2,FALSE))","v":"@"},null,null,{"$f":"IF(ISERROR(VLOOKUP($D46&H$4,申込確認シート!$E$1:$F$120,2,FALSE)),\"@\",VLOOKUP($D46&H$4,申込確認シート!$E$1:$F$120,2,FALSE))","v":"@"},null,null,{"$f":"IF(ISERROR(VLOOKUP($D46&K$4,申込確認シート!$E$1:$F$120,2,FALSE)),\"@\",VLOOKUP($D46&K$4,申込確認シート!$E$1:$F$120,2,FALSE))","v":"@"},null,null,{"$f":"IF(ISERROR(VLOOKUP($D46&N$4,申込確認シート!$E$1:$F$120,2,FALSE)),\"@\",VLOOKUP($D46&N$4,申込確認シート!$E$1:$F$120,2,FALSE))","v":"@"},null,null,{"$f":"IF(ISERROR(VLOOKUP($D46&Q$4,申込確認シート!$E$1:$F$120,2,FALSE)),\"@\",VLOOKUP($D46&Q$4,申込確認シート!$E$1:$F$120,2,FALSE))","v":"@"},null,null,{"$f":"IF(ISERROR(VLOOKUP($D46&T$4,申込確認シート!$E$1:$F$120,2,FALSE)),\"@\",VLOOKUP($D46&T$4,申込確認シート!$E$1:$F$120,2,FALSE))","v":"@"},null,null,{"$f":"IF(ISERROR(VLOOKUP($D46&W$4,申込確認シート!$E$1:$F$120,2,FALSE)),\"@\",VLOOKUP($D46&W$4,申込確認シート!$E$1:$F$120,2,FALSE))","v":"@"},null,null,{"$f":"IF(ISERROR(VLOOKUP($D46&Z$4,申込確認シート!$E$1:$F$120,2,FALSE)),\"@\",VLOOKUP($D46&Z$4,申込確認シート!$E$1:$F$120,2,FALSE))","v":"@"},null,null,{"$f":"IF(ISERROR(VLOOKUP($D46&AC$4,申込確認シート!$E$1:$F$120,2,FALSE)),\"@\",VLOOKUP($D46&AC$4,申込確認シート!$E$1:$F$120,2,FALSE))","v":"@"},null,null,{"$f":"IF(ISERROR(VLOOKUP($D46&AF$4,申込確認シート!$E$1:$F$120,2,FALSE)),\"@\",VLOOKUP($D46&AF$4,申込確認シート!$E$1:$F$120,2,FALSE))","v":"@"},null,null,{"$f":"IF(ISERROR(VLOOKUP($D46&AI$4,申込確認シート!$E$1:$F$120,2,FALSE)),\"@\",VLOOKUP($D46&AI$4,申込確認シート!$E$1:$F$120,2,FALSE))","v":"@"},null,null,{"$f":"IF(ISERROR(VLOOKUP($D46&AL$4,申込確認シート!$E$1:$F$120,2,FALSE)),\"@\",VLOOKUP($D46&AL$4,申込確認シート!$E$1:$F$120,2,FALSE))","v":"@"},null,null,{"$f":"IF(ISERROR(VLOOKUP($D46&AO$4,申込確認シート!$E$1:$F$120,2,FALSE)),\"@\",VLOOKUP($D46&AO$4,申込確認シート!$E$1:$F$120,2,FALSE))","v":"@"},null,null,{"$f":"IF(ISERROR(VLOOKUP($D46&AR$4,申込確認シート!$E$1:$F$120,2,FALSE)),\"@\",VLOOKUP($D46&AR$4,申込確認シート!$E$1:$F$120,2,FALSE))","v":"@"},null,null,{"$f":"IF(ISERROR(VLOOKUP($D46&AU$4,申込確認シート!$E$1:$F$120,2,FALSE)),\"@\",VLOOKUP($D46&AU$4,申込確認シート!$E$1:$F$120,2,FALSE))","v":"@"},null,null,{"$f":"COUNTIF(申込確認シート!$C$1:$C$120,D46)","v":0}]
[null,19,"",{"$f":"IF(HLOOKUP(入力表!$E$4&\"女\",入力表!$DB$11:$DJ$50,B23+4,FALSE)=\"*\",\"\",HLOOKUP(入力表!$E$4&\"女\",入力表!$DB$11:$DJ$50,B23+4,FALSE))","v":{"$error":"#N/A"}},{"$f":"IF(ISERROR(VLOOKUP($D47&E$4,申込確認シート!$E$1:$F$120,2,FALSE)),\"@\",VLOOKUP($D47&E$4,申込確認シート!$E$1:$F$120,2,FALSE))","v":"@"},null,null,{"$f":"IF(ISERROR(VLOOKUP($D47&H$4,申込確認シート!$E$1:$F$120,2,FALSE)),\"@\",VLOOKUP($D47&H$4,申込確認シート!$E$1:$F$120,2,FALSE))","v":"@"},null,null,{"$f":"IF(ISERROR(VLOOKUP($D47&K$4,申込確認シート!$E$1:$F$120,2,FALSE)),\"@\",VLOOKUP($D47&K$4,申込確認シート!$E$1:$F$120,2,FALSE))","v":"@"},null,null,{"$f":"IF(ISERROR(VLOOKUP($D47&N$4,申込確認シート!$E$1:$F$120,2,FALSE)),\"@\",VLOOKUP($D47&N$4,申込確認シート!$E$1:$F$120,2,FALSE))","v":"@"},null,null,{"$f":"IF(ISERROR(VLOOKUP($D47&Q$4,申込確認シート!$E$1:$F$120,2,FALSE)),\"@\",VLOOKUP($D47&Q$4,申込確認シート!$E$1:$F$120,2,FALSE))","v":"@"},null,null,{"$f":"IF(ISERROR(VLOOKUP($D47&T$4,申込確認シート!$E$1:$F$120,2,FALSE)),\"@\",VLOOKUP($D47&T$4,申込確認シート!$E$1:$F$120,2,FALSE))","v":"@"},null,null,{"$f":"IF(ISERROR(VLOOKUP($D47&W$4,申込確認シート!$E$1:$F$120,2,FALSE)),\"@\",VLOOKUP($D47&W$4,申込確認シート!$E$1:$F$120,2,FALSE))","v":"@"},null,null,{"$f":"IF(ISERROR(VLOOKUP($D47&Z$4,申込確認シート!$E$1:$F$120,2,FALSE)),\"@\",VLOOKUP($D47&Z$4,申込確認シート!$E$1:$F$120,2,FALSE))","v":"@"},null,null,{"$f":"IF(ISERROR(VLOOKUP($D47&AC$4,申込確認シート!$E$1:$F$120,2,FALSE)),\"@\",VLOOKUP($D47&AC$4,申込確認シート!$E$1:$F$120,2,FALSE))","v":"@"},null,null,{"$f":"IF(ISERROR(VLOOKUP($D47&AF$4,申込確認シート!$E$1:$F$120,2,FALSE)),\"@\",VLOOKUP($D47&AF$4,申込確認シート!$E$1:$F$120,2,FALSE))","v":"@"},null,null,{"$f":"IF(ISERROR(VLOOKUP($D47&AI$4,申込確認シート!$E$1:$F$120,2,FALSE)),\"@\",VLOOKUP($D47&AI$4,申込確認シート!$E$1:$F$120,2,FALSE))","v":"@"},null,null,{"$f":"IF(ISERROR(VLOOKUP($D47&AL$4,申込確認シート!$E$1:$F$120,2,FALSE)),\"@\",VLOOKUP($D47&AL$4,申込確認シート!$E$1:$F$120,2,FALSE))","v":"@"},null,null,{"$f":"IF(ISERROR(VLOOKUP($D47&AO$4,申込確認シート!$E$1:$F$120,2,FALSE)),\"@\",VLOOKUP($D47&AO$4,申込確認シート!$E$1:$F$120,2,FALSE))","v":"@"},null,null,{"$f":"IF(ISERROR(VLOOKUP($D47&AR$4,申込確認シート!$E$1:$F$120,2,FALSE)),\"@\",VLOOKUP($D47&AR$4,申込確認シート!$E$1:$F$120,2,FALSE))","v":"@"},null,null,{"$f":"IF(ISERROR(VLOOKUP($D47&AU$4,申込確認シート!$E$1:$F$120,2,FALSE)),\"@\",VLOOKUP($D47&AU$4,申込確認シート!$E$1:$F$120,2,FALSE))","v":"@"},null,null,{"$f":"COUNTIF(申込確認シート!$C$1:$C$120,D47)","v":0}]
[null,20,"",{"$f":"IF(HLOOKUP(入力表!$E$4&\"女\",入力表!$DB$11:$DJ$50,B24+4,FALSE)=\"*\",\"\",HLOOKUP(入力表!$E$4&\"女\",入力表!$DB$11:$DJ$50,B24+4,FALSE))","v":{"$error":"#N/A"}},{"$f":"IF(ISERROR(VLOOKUP($D48&E$4,申込確認シート!$E$1:$F$120,2,FALSE)),\"@\",VLOOKUP($D48&E$4,申込確認シート!$E$1:$F$120,2,FALSE))","v":"@"},null,null,{"$f":"IF(ISERROR(VLOOKUP($D48&H$4,申込確認シート!$E$1:$F$120,2,FALSE)),\"@\",VLOOKUP($D48&H$4,申込確認シート!$E$1:$F$120,2,FALSE))","v":"@"},null,null,{"$f":"IF(ISERROR(VLOOKUP($D48&K$4,申込確認シート!$E$1:$F$120,2,FALSE)),\"@\",VLOOKUP($D48&K$4,申込確認シート!$E$1:$F$120,2,FALSE))","v":"@"},null,null,{"$f":"IF(ISERROR(VLOOKUP($D48&N$4,申込確認シート!$E$1:$F$120,2,FALSE)),\"@\",VLOOKUP($D48&N$4,申込確認シート!$E$1:$F$120,2,FALSE))","v":"@"},null,null,{"$f":"IF(ISERROR(VLOOKUP($D48&Q$4,申込確認シート!$E$1:$F$120,2,FALSE)),\"@\",VLOOKUP($D48&Q$4,申込確認シート!$E$1:$F$120,2,FALSE))","v":"@"},null,null,{"$f":"IF(ISERROR(VLOOKUP($D48&T$4,申込確認シート!$E$1:$F$120,2,FALSE)),\"@\",VLOOKUP($D48&T$4,申込確認シート!$E$1:$F$120,2,FALSE))","v":"@"},null,null,{"$f":"IF(ISERROR(VLOOKUP($D48&W$4,申込確認シート!$E$1:$F$120,2,FALSE)),\"@\",VLOOKUP($D48&W$4,申込確認シート!$E$1:$F$120,2,FALSE))","v":"@"},null,null,{"$f":"IF(ISERROR(VLOOKUP($D48&Z$4,申込確認シート!$E$1:$F$120,2,FALSE)),\"@\",VLOOKUP($D48&Z$4,申込確認シート!$E$1:$F$120,2,FALSE))","v":"@"},null,null,{"$f":"IF(ISERROR(VLOOKUP($D48&AC$4,申込確認シート!$E$1:$F$120,2,FALSE)),\"@\",VLOOKUP($D48&AC$4,申込確認シート!$E$1:$F$120,2,FALSE))","v":"@"},null,null,{"$f":"IF(ISERROR(VLOOKUP($D48&AF$4,申込確認シート!$E$1:$F$120,2,FALSE)),\"@\",VLOOKUP($D48&AF$4,申込確認シート!$E$1:$F$120,2,FALSE))","v":"@"},null,null,{"$f":"IF(ISERROR(VLOOKUP($D48&AI$4,申込確認シート!$E$1:$F$120,2,FALSE)),\"@\",VLOOKUP($D48&AI$4,申込確認シート!$E$1:$F$120,2,FALSE))","v":"@"},null,null,{"$f":"IF(ISERROR(VLOOKUP($D48&AL$4,申込確認シート!$E$1:$F$120,2,FALSE)),\"@\",VLOOKUP($D48&AL$4,申込確認シート!$E$1:$F$120,2,FALSE))","v":"@"},null,null,{"$f":"IF(ISERROR(VLOOKUP($D48&AO$4,申込確認シート!$E$1:$F$120,2,FALSE)),\"@\",VLOOKUP($D48&AO$4,申込確認シート!$E$1:$F$120,2,FALSE))","v":"@"},null,null,{"$f":"IF(ISERROR(VLOOKUP($D48&AR$4,申込確認シート!$E$1:$F$120,2,FALSE)),\"@\",VLOOKUP($D48&AR$4,申込確認シート!$E$1:$F$120,2,FALSE))","v":"@"},null,null,{"$f":"IF(ISERROR(VLOOKUP($D48&AU$4,申込確認シート!$E$1:$F$120,2,FALSE)),\"@\",VLOOKUP($D48&AU$4,申込確認シート!$E$1:$F$120,2,FALSE))","v":"@"},null,null,{"$f":"COUNTIF(申込確認シート!$C$1:$C$120,D48)","v":0}]
[]
[null,null,null,null,"◆４００ｍR◆",null,null,null,null,1,null,null,2,null,null,3,null,null,4,null,null,5,null,null,6,null,null,null,"◆１６００ｍR◆",null,null,null,null,1,null,null,2,null,null,3,null,null,4,null,null,5,null,null,6]
["不明な点は・・・",null,null,null,"男子A",null,null,null,null,{"$f":"IF(ISERROR(VLOOKUP($E51&J$50,申込確認シート!$E$121:$F$160,2,FALSE)),\"@\",VLOOKUP($E51&J$50,申込確認シート!$E$121:$F$160,2,FALSE))","v":"@"},null,null,{"$f":"IF(ISERROR(VLOOKUP($E51&M$50,申込確認シート!$E$121:$F$160,2,FALSE)),\"@\",VLOOKUP($E51&M$50,申込確認シート!$E$121:$F$160,2,FALSE))","v":"@"},null,null,{"$f":"IF(ISERROR(VLOOKUP($E51&P$50,申込確認シート!$E$121:$F$160,2,FALSE)),\"@\",VLOOKUP($E51&P$50,申込確認シート!$E$121:$F$160,2,FALSE))","v":"@"},null,null,{"$f":"IF(ISERROR(VLOOKUP($E51&S$50,申込確認シート!$E$121:$F$160,2,FALSE)),\"@\",VLOOKUP($E51&S$50,申込確認シート!$E$121:$F$160,2,FALSE))","v":"@"},null,null,{"$f":"IF(ISERROR(VLOOKUP($E51&V$50,申込確認シート!$E$121:$F$160,2,FALSE)),\"@\",VLOOKUP($E51&V$50,申込確認シート!$E$121:$F$160,2,FALSE))","v":"@"},null,null,{"$f":"IF(ISERROR(VLOOKUP($E51&Y$50,申込確認シート!$E$121:$F$160,2,FALSE)),\"@\",VLOOKUP($E51&Y$50,申込確認シート!$E$121:$F$160,2,FALSE))","v":"@"},null,null,null,"男子A",null,null,null,null,{"$f":"IF(ISERROR(VLOOKUP($AC51&AH$50,申込確認シート!$E$161:$F$200,2,FALSE)),\"@\",VLOOKUP($AC51&AH$50,申込確認シート!$E$161:$F$200,2,FALSE))","v":"@"},null,null,{"$f":"IF(ISERROR(VLOOKUP($AC51&AK$50,申込確認シート!$E$161:$F$200,2,FALSE)),\"@\",VLOOKUP($AC51&AK$50,申込確認シート!$E$161:$F$200,2,FALSE))","v":"@"},null,null,{"$f":"IF(ISERROR(VLOOKUP($AC51&AN$50,申込確認シート!$E$161:$F$200,2,FALSE)),\"@\",VLOOKUP($AC51&AN$50,申込確認シート!$E$161:$F$200,2,FALSE))","v":"@"},null,null,{"$f":"IF(ISERROR(VLOOKUP($AC51&AQ$50,申込確認シート!$E$161:$F$200,2,FALSE)),\"@\",VLOOKUP($AC51&AQ$50,申込確認シート!$E$161:$F$200,2,FALSE))","v":"@"},null,null,{"$f":"IF(ISERROR(VLOOKUP($AC51&AT$50,申込確認シート!$E$161:$F$200,2,FALSE)),\"@\",VLOOKUP($AC51&AT$50,申込確認シート!$E$161:$F$200,2,FALSE))","v":"@"},null,null,{"$f":"IF(ISERROR(VLOOKUP($AC51&AW$50,申込確認シート!$E$161:$F$200,2,FALSE)),\"@\",VLOOKUP($AC51&AW$50,申込確認シート!$E$161:$F$200,2,FALSE))","v":"@"}]
["　オホーツク陸協",null,null,null,"男子B",null,null,null,null,{"$f":"IF(ISERROR(VLOOKUP($E52&J$50,申込確認シート!$E$121:$F$160,2,FALSE)),\"@\",VLOOKUP($E52&J$50,申込確認シート!$E$121:$F$160,2,FALSE))","v":"@"},null,null,{"$f":"IF(ISERROR(VLOOKUP($E52&M$50,申込確認シート!$E$121:$F$160,2,FALSE)),\"@\",VLOOKUP($E52&M$50,申込確認シート!$E$121:$F$160,2,FALSE))","v":"@"},null,null,{"$f":"IF(ISERROR(VLOOKUP($E52&P$50,申込確認シート!$E$121:$F$160,2,FALSE)),\"@\",VLOOKUP($E52&P$50,申込確認シート!$E$121:$F$160,2,FALSE))","v":"@"},null,null,{"$f":"IF(ISERROR(VLOOKUP($E52&S$50,申込確認シート!$E$121:$F$160,2,FALSE)),\"@\",VLOOKUP($E52&S$50,申込確認シート!$E$121:$F$160,2,FALSE))","v":"@"},null,null,{"$f":"IF(ISERROR(VLOOKUP($E52&V$50,申込確認シート!$E$121:$F$160,2,FALSE)),\"@\",VLOOKUP($E52&V$50,申込確認シート!$E$121:$F$160,2,FALSE))","v":"@"},null,null,{"$f":"IF(ISERROR(VLOOKUP($E52&Y$50,申込確認シート!$E$121:$F$160,2,FALSE)),\"@\",VLOOKUP($E52&Y$50,申込確認シート!$E$121:$F$160,2,FALSE))","v":"@"},null,null,null,"男子B",null,null,null,null,{"$f":"IF(ISERROR(VLOOKUP($AC52&AH$50,申込確認シート!$E$161:$F$200,2,FALSE)),\"@\",VLOOKUP($AC52&AH$50,申込確認シート!$E$161:$F$200,2,FALSE))","v":"@"},null,null,{"$f":"IF(ISERROR(VLOOKUP($AC52&AK$50,申込確認シート!$E$161:$F$200,2,FALSE)),\"@\",VLOOKUP($AC52&AK$50,申込確認シート!$E$161:$F$200,2,FALSE))","v":"@"},null,null,{"$f":"IF(ISERROR(VLOOKUP($AC52&AN$50,申込確認シート!$E$161:$F$200,2,FALSE)),\"@\",VLOOKUP($AC52&AN$50,申込確認シート!$E$161:$F$200,2,FALSE))","v":"@"},null,null,{"$f":"IF(ISERROR(VLOOKUP($AC52&AQ$50,申込確認シート!$E$161:$F$200,2,FALSE)),\"@\",VLOOKUP($AC52&AQ$50,申込確認シート!$E$161:$F$200,2,FALSE))","v":"@"},null,null,{"$f":"IF(ISERROR(VLOOKUP($AC52&AT$50,申込確認シート!$E$161:$F$200,2,FALSE)),\"@\",VLOOKUP($AC52&AT$50,申込確認シート!$E$161:$F$200,2,FALSE))","v":"@"},null,null,{"$f":"IF(ISERROR(VLOOKUP($AC52&AW$50,申込確認シート!$E$161:$F$200,2,FALSE)),\"@\",VLOOKUP($AC52&AW$50,申込確認シート!$E$161:$F$200,2,FALSE))","v":"@"}]
["　　記録委員長",null,null,null,"男子C",null,null,null,null,{"$f":"IF(ISERROR(VLOOKUP($E53&J$50,申込確認シート!$E$121:$F$160,2,FALSE)),\"@\",VLOOKUP($E53&J$50,申込確認シート!$E$121:$F$160,2,FALSE))","v":"@"},null,null,{"$f":"IF(ISERROR(VLOOKUP($E53&M$50,申込確認シート!$E$121:$F$160,2,FALSE)),\"@\",VLOOKUP($E53&M$50,申込確認シート!$E$121:$F$160,2,FALSE))","v":"@"},null,null,{"$f":"IF(ISERROR(VLOOKUP($E53&P$50,申込確認シート!$E$121:$F$160,2,FALSE)),\"@\",VLOOKUP($E53&P$50,申込確認シート!$E$121:$F$160,2,FALSE))","v":"@"},null,null,{"$f":"IF(ISERROR(VLOOKUP($E53&S$50,申込確認シート!$E$121:$F$160,2,FALSE)),\"@\",VLOOKUP($E53&S$50,申込確認シート!$E$121:$F$160,2,FALSE))","v":"@"},null,null,{"$f":"IF(ISERROR(VLOOKUP($E53&V$50,申込確認シート!$E$121:$F$160,2,FALSE)),\"@\",VLOOKUP($E53&V$50,申込確認シート!$E$121:$F$160,2,FALSE))","v":"@"},null,null,{"$f":"IF(ISERROR(VLOOKUP($E53&Y$50,申込確認シート!$E$121:$F$160,2,FALSE)),\"@\",VLOOKUP($E53&Y$50,申込確認シート!$E$121:$F$160,2,FALSE))","v":"@"},null,null,null,"男子C",null,null,null,null,{"$f":"IF(ISERROR(VLOOKUP($AC53&AH$50,申込確認シート!$E$161:$F$200,2,FALSE)),\"@\",VLOOKUP($AC53&AH$50,申込確認シート!$E$161:$F$200,2,FALSE))","v":"@"},null,null,{"$f":"IF(ISERROR(VLOOKUP($AC53&AK$50,申込確認シート!$E$161:$F$200,2,FALSE)),\"@\",VLOOKUP($AC53&AK$50,申込確認シート!$E$161:$F$200,2,FALSE))","v":"@"},null,null,{"$f":"IF(ISERROR(VLOOKUP($AC53&AN$50,申込確認シート!$E$161:$F$200,2,FALSE)),\"@\",VLOOKUP($AC53&AN$50,申込確認シート!$E$161:$F$200,2,FALSE))","v":"@"},null,null,{"$f":"IF(ISERROR(VLOOKUP($AC53&AQ$50,申込確認シート!$E$161:$F$200,2,FALSE)),\"@\",VLOOKUP($AC53&AQ$50,申込確認シート!$E$161:$F$200,2,FALSE))","v":"@"},null,null,{"$f":"IF(ISERROR(VLOOKUP($AC53&AT$50,申込確認シート!$E$161:$F$200,2,FALSE)),\"@\",VLOOKUP($AC53&AT$50,申込確認シート!$E$161:$F$200,2,FALSE))","v":"@"},null,null,{"$f":"IF(ISERROR(VLOOKUP($AC53&AW$50,申込確認シート!$E$161:$F$200,2,FALSE)),\"@\",VLOOKUP($AC53&AW$50,申込確認シート!$E$161:$F$200,2,FALSE))","v":"@"}]
["　　　豊原　隆之まで",null,null,null,"女子A",null,null,null,null,{"$f":"IF(ISERROR(VLOOKUP($E54&J$50,申込確認シート!$E$121:$F$160,2,FALSE)),\"@\",VLOOKUP($E54&J$50,申込確認シート!$E$121:$F$160,2,FALSE))","v":"@"},null,null,{"$f":"IF(ISERROR(VLOOKUP($E54&M$50,申込確認シート!$E$121:$F$160,2,FALSE)),\"@\",VLOOKUP($E54&M$50,申込確認シート!$E$121:$F$160,2,FALSE))","v":"@"},null,null,{"$f":"IF(ISERROR(VLOOKUP($E54&P$50,申込確認シート!$E$121:$F$160,2,FALSE)),\"@\",VLOOKUP($E54&P$50,申込確認シート!$E$121:$F$160,2,FALSE))","v":"@"},null,null,{"$f":"IF(ISERROR(VLOOKUP($E54&S$50,申込確認シート!$E$121:$F$160,2,FALSE)),\"@\",VLOOKUP($E54&S$50,申込確認シート!$E$121:$F$160,2,FALSE))","v":"@"},null,null,{"$f":"IF(ISERROR(VLOOKUP($E54&V$50,申込確認シート!$E$121:$F$160,2,FALSE)),\"@\",VLOOKUP($E54&V$50,申込確認シート!$E$121:$F$160,2,FALSE))","v":"@"},null,null,{"$f":"IF(ISERROR(VLOOKUP($E54&Y$50,申込確認シート!$E$121:$F$160,2,FALSE)),\"@\",VLOOKUP($E54&Y$50,申込確認シート!$E$121:$F$160,2,FALSE))","v":"@"},null,null,null,"女子A",null,null,null,null,{"$f":"IF(ISERROR(VLOOKUP($AC54&AH$50,申込確認シート!$E$161:$F$200,2,FALSE)),\"@\",VLOOKUP($AC54&AH$50,申込確認シート!$E$161:$F$200,2,FALSE))","v":"@"},null,null,{"$f":"IF(ISERROR(VLOOKUP($AC54&AK$50,申込確認シート!$E$161:$F$200,2,FALSE)),\"@\",VLOOKUP($AC54&AK$50,申込確認シート!$E$161:$F$200,2,FALSE))","v":"@"},null,null,{"$f":"IF(ISERROR(VLOOKUP($AC54&AN$50,申込確認シート!$E$161:$F$200,2,FALSE)),\"@\",VLOOKUP($AC54&AN$50,申込確認シート!$E$161:$F$200,2,FALSE))","v":"@"},null,null,{"$f":"IF(ISERROR(VLOOKUP($AC54&AQ$50,申込確認シート!$E$161:$F$200,2,FALSE)),\"@\",VLOOKUP($AC54&AQ$50,申込確認シート!$E$161:$F$200,2,FALSE))","v":"@"},null,null,{"$f":"IF(ISERROR(VLOOKUP($AC54&AT$50,申込確認シート!$E$161:$F$200,2,FALSE)),\"@\",VLOOKUP($AC54&AT$50,申込確認シート!$E$161:$F$200,2,FALSE))","v":"@"},null,null,{"$f":"IF(ISERROR(VLOOKUP($AC54&AW$50,申込確認シート!$E$161:$F$200,2,FALSE)),\"@\",VLOOKUP($AC54&AW$50,申込確認シート!$E$161:$F$200,2,FALSE))","v":"@"}]
["　　　　　連絡をください！",null,null,null,"女子B",null,null,null,null,{"$f":"IF(ISERROR(VLOOKUP($E55&J$50,申込確認シート!$E$121:$F$160,2,FALSE)),\"@\",VLOOKUP($E55&J$50,申込確認シート!$E$121:$F$160,2,FALSE))","v":"@"},null,null,{"$f":"IF(ISERROR(VLOOKUP($E55&M$50,申込確認シート!$E$121:$F$160,2,FALSE)),\"@\",VLOOKUP($E55&M$50,申込確認シート!$E$121:$F$160,2,FALSE))","v":"@"},null,null,{"$f":"IF(ISERROR(VLOOKUP($E55&P$50,申込確認シート!$E$121:$F$160,2,FALSE)),\"@\",VLOOKUP($E55&P$50,申込確認シート!$E$121:$F$160,2,FALSE))","v":"@"},null,null,{"$f":"IF(ISERROR(VLOOKUP($E55&S$50,申込確認シート!$E$121:$F$160,2,FALSE)),\"@\",VLOOKUP($E55&S$50,申込確認シート!$E$121:$F$160,2,FALSE))","v":"@"},null,null,{"$f":"IF(ISERROR(VLOOKUP($E55&V$50,申込確認シート!$E$121:$F$160,2,FALSE)),\"@\",VLOOKUP($E55&V$50,申込確認シート!$E$121:$F$160,2,FALSE))","v":"@"},null,null,{"$f":"IF(ISERROR(VLOOKUP($E55&Y$50,申込確認シート!$E$121:$F$160,2,FALSE)),\"@\",VLOOKUP($E55&Y$50,申込確認シート!$E$121:$F$160,2,FALSE))","v":"@"},null,null,null,"女子B",null,null,null,null,{"$f":"IF(ISERROR(VLOOKUP($AC55&AH$50,申込確認シート!$E$161:$F$200,2,FALSE)),\"@\",VLOOKUP($AC55&AH$50,申込確認シート!$E$161:$F$200,2,FALSE))","v":"@"},null,null,{"$f":"IF(ISERROR(VLOOKUP($AC55&AK$50,申込確認シート!$E$161:$F$200,2,FALSE)),\"@\",VLOOKUP($AC55&AK$50,申込確認シート!$E$161:$F$200,2,FALSE))","v":"@"},null,null,{"$f":"IF(ISERROR(VLOOKUP($AC55&AN$50,申込確認シート!$E$161:$F$200,2,FALSE)),\"@\",VLOOKUP($AC55&AN$50,申込確認シート!$E$161:$F$200,2,FALSE))","v":"@"},null,null,{"$f":"IF(ISERROR(VLOOKUP($AC55&AQ$50,申込確認シート!$E$161:$F$200,2,FALSE)),\"@\",VLOOKUP($AC55&AQ$50,申込確認シート!$E$161:$F$200,2,FALSE))","v":"@"},null,null,{"$f":"IF(ISERROR(VLOOKUP($AC55&AT$50,申込確認シート!$E$161:$F$200,2,FALSE)),\"@\",VLOOKUP($AC55&AT$50,申込確認シート!$E$161:$F$200,2,FALSE))","v":"@"},null,null,{"$f":"IF(ISERROR(VLOOKUP($AC55&AW$50,申込確認シート!$E$161:$F$200,2,FALSE)),\"@\",VLOOKUP($AC55&AW$50,申込確認シート!$E$161:$F$200,2,FALSE))","v":"@"}]
["　　　　　　　090-2074-5692",null,null,null,"女子C",null,null,null,null,{"$f":"IF(ISERROR(VLOOKUP($E56&J$50,申込確認シート!$E$121:$F$160,2,FALSE)),\"@\",VLOOKUP($E56&J$50,申込確認シート!$E$121:$F$160,2,FALSE))","v":"@"},null,null,{"$f":"IF(ISERROR(VLOOKUP($E56&M$50,申込確認シート!$E$121:$F$160,2,FALSE)),\"@\",VLOOKUP($E56&M$50,申込確認シート!$E$121:$F$160,2,FALSE))","v":"@"},null,null,{"$f":"IF(ISERROR(VLOOKUP($E56&P$50,申込確認シート!$E$121:$F$160,2,FALSE)),\"@\",VLOOKUP($E56&P$50,申込確認シート!$E$121:$F$160,2,FALSE))","v":"@"},null,null,{"$f":"IF(ISERROR(VLOOKUP($E56&S$50,申込確認シート!$E$121:$F$160,2,FALSE)),\"@\",VLOOKUP($E56&S$50,申込確認シート!$E$121:$F$160,2,FALSE))","v":"@"},null,null,{"$f":"IF(ISERROR(VLOOKUP($E56&V$50,申込確認シート!$E$121:$F$160,2,FALSE)),\"@\",VLOOKUP($E56&V$50,申込確認シート!$E$121:$F$160,2,FALSE))","v":"@"},null,null,{"$f":"IF(ISERROR(VLOOKUP($E56&Y$50,申込確認シート!$E$121:$F$160,2,FALSE)),\"@\",VLOOKUP($E56&Y$50,申込確認シート!$E$121:$F$160,2,FALSE))","v":"@"},null,null,null,"女子C",null,null,null,null,{"$f":"IF(ISERROR(VLOOKUP($AC56&AH$50,申込確認シート!$E$161:$F$200,2,FALSE)),\"@\",VLOOKUP($AC56&AH$50,申込確認シート!$E$161:$F$200,2,FALSE))","v":"@"},null,null,{"$f":"IF(ISERROR(VLOOKUP($AC56&AK$50,申込確認シート!$E$161:$F$200,2,FALSE)),\"@\",VLOOKUP($AC56&AK$50,申込確認シート!$E$161:$F$200,2,FALSE))","v":"@"},null,null,{"$f":"IF(ISERROR(VLOOKUP($AC56&AN$50,申込確認シート!$E$161:$F$200,2,FALSE)),\"@\",VLOOKUP($AC56&AN$50,申込確認シート!$E$161:$F$200,2,FALSE))","v":"@"},null,null,{"$f":"IF(ISERROR(VLOOKUP($AC56&AQ$50,申込確認シート!$E$161:$F$200,2,FALSE)),\"@\",VLOOKUP($AC56&AQ$50,申込確認シート!$E$161:$F$200,2,FALSE))","v":"@"},null,null,{"$f":"IF(ISERROR(VLOOKUP($AC56&AT$50,申込確認シート!$E$161:$F$200,2,FALSE)),\"@\",VLOOKUP($AC56&AT$50,申込確認シート!$E$161:$F$200,2,FALSE))","v":"@"},null,null,{"$f":"IF(ISERROR(VLOOKUP($AC56&AW$50,申込確認シート!$E$161:$F$200,2,FALSE)),\"@\",VLOOKUP($AC56&AW$50,申込確認シート!$E$161:$F$200,2,FALSE))","v":"@"}]

{"sheet":"申込確認シート","index":3,"n_rows":200,"n_cols":7,"rows_kept":200,"cut":false,"hidden":true,"merged":[]}
["1種目",1,{"$f":"IF(入力表!AH14=\"\",\"@\",入力表!AH14)","v":"@"},{"$f":"COUNTIF($C$1:C1,C1)","v":1},{"$f":"C1&D1","v":"@1"},{"$f":"SUBSTITUTE(入力表!N14,\"　\",\"\")","v":""},{"$f":"SUBSTITUTE(IF(#REF!=\"\",\"\",#REF!),\"　\",\"\")","v":{"$error":"#REF!"}}]
["1種目",2,{"$f":"IF(入力表!AH15=\"\",\"@\",入力表!AH15)","v":"@"},{"$f":"COUNTIF($C$1:C2,C2)","v":2},{"$f":"C2&D2","v":"@2"},{"$f":"SUBSTITUTE(入力表!N15,\"　\",\"\")","v":""},{"$f":"SUBSTITUTE(IF(#REF!=\"\",\"\",#REF!),\"　\",\"\")","v":{"$error":"#REF!"}}]
["1種目",3,{"$f":"IF(入力表!AH16=\"\",\"@\",入力表!AH16)","v":"@"},{"$f":"COUNTIF($C$1:C3,C3)","v":3},"@3",{"$f":"SUBSTITUTE(入力表!N16,\"　\",\"\")","v":""},{"$f":"SUBSTITUTE(IF(#REF!=\"\",\"\",#REF!),\"　\",\"\")","v":{"$error":"#REF!"}}]
["1種目",4,{"$f":"IF(入力表!AH17=\"\",\"@\",入力表!AH17)","v":"@"},{"$f":"COUNTIF($C$1:C4,C4)","v":4},"@4",{"$f":"SUBSTITUTE(入力表!N17,\"　\",\"\")","v":""},{"$f":"SUBSTITUTE(IF(#REF!=\"\",\"\",#REF!),\"　\",\"\")","v":{"$error":"#REF!"}}]
["1種目",5,{"$f":"IF(入力表!AH18=\"\",\"@\",入力表!AH18)","v":"@"},{"$f":"COUNTIF($C$1:C5,C5)","v":5},"@5",{"$f":"SUBSTITUTE(入力表!N18,\"　\",\"\")","v":""},{"$f":"SUBSTITUTE(IF(#REF!=\"\",\"\",#REF!),\"　\",\"\")","v":{"$error":"#REF!"}}]
["1種目",6,{"$f":"IF(入力表!AH19=\"\",\"@\",入力表!AH19)","v":"@"},{"$f":"COUNTIF($C$1:C6,C6)","v":6},"@6",{"$f":"SUBSTITUTE(入力表!N19,\"　\",\"\")","v":""},{"$f":"SUBSTITUTE(IF(#REF!=\"\",\"\",#REF!),\"　\",\"\")","v":{"$error":"#REF!"}}]
["1種目",7,{"$f":"IF(入力表!AH20=\"\",\"@\",入力表!AH20)","v":"@"},{"$f":"COUNTIF($C$1:C7,C7)","v":7},"@7",{"$f":"SUBSTITUTE(入力表!N20,\"　\",\"\")","v":""},{"$f":"SUBSTITUTE(IF(#REF!=\"\",\"\",#REF!),\"　\",\"\")","v":{"$error":"#REF!"}}]
["1種目",8,{"$f":"IF(入力表!AH21=\"\",\"@\",入力表!AH21)","v":"@"},{"$f":"COUNTIF($C$1:C8,C8)","v":8},"@8",{"$f":"SUBSTITUTE(入力表!N21,\"　\",\"\")","v":""},{"$f":"SUBSTITUTE(IF(#REF!=\"\",\"\",#REF!),\"　\",\"\")","v":{"$error":"#REF!"}}]
["1種目",9,{"$f":"IF(入力表!AH22=\"\",\"@\",入力表!AH22)","v":"@"},{"$f":"COUNTIF($C$1:C9,C9)","v":9},"@9",{"$f":"SUBSTITUTE(入力表!N22,\"　\",\"\")","v":""},{"$f":"SUBSTITUTE(IF(#REF!=\"\",\"\",#REF!),\"　\",\"\")","v":{"$error":"#REF!"}}]
["1種目",10,{"$f":"IF(入力表!AH23=\"\",\"@\",入力表!AH23)","v":"@"},{"$f":"COUNTIF($C$1:C10,C10)","v":10},"@10",{"$f":"SUBSTITUTE(入力表!N23,\"　\",\"\")","v":""},{"$f":"SUBSTITUTE(IF(#REF!=\"\",\"\",#REF!),\"　\",\"\")","v":{"$error":"#REF!"}}]
["1種目",11,{"$f":"IF(入力表!AH24=\"\",\"@\",入力表!AH24)","v":"@"},{"$f":"COUNTIF($C$1:C11,C11)","v":11},"@11",{"$f":"SUBSTITUTE(入力表!N24,\"　\",\"\")","v":""},{"$f":"SUBSTITUTE(IF(#REF!=\"\",\"\",#REF!),\"　\",\"\")","v":{"$error":"#REF!"}}]
["1種目",12,{"$f":"IF(入力表!AH25=\"\",\"@\",入力表!AH25)","v":"@"},{"$f":"COUNTIF($C$1:C12,C12)","v":12},"@12",{"$f":"SUBSTITUTE(入力表!N25,\"　\",\"\")","v":""},{"$f":"SUBSTITUTE(IF(#REF!=\"\",\"\",#REF!),\"　\",\"\")","v":{"$error":"#REF!"}}]
["1種目",13,{"$f":"IF(入力表!AH26=\"\",\"@\",入力表!AH26)","v":"@"},{"$f":"COUNTIF($C$1:C13,C13)","v":13},"@13",{"$f":"SUBSTITUTE(入力表!N26,\"　\",\"\")","v":""},{"$f":"SUBSTITUTE(IF(#REF!=\"\",\"\",#REF!),\"　\",\"\")","v":{"$error":"#REF!"}}]
["1種目",14,{"$f":"IF(入力表!AH27=\"\",\"@\",入力表!AH27)","v":"@"},{"$f":"COUNTIF($C$1:C14,C14)","v":14},"@14",{"$f":"SUBSTITUTE(入力表!N27,\"　\",\"\")","v":""},{"$f":"SUBSTITUTE(IF(#REF!=\"\",\"\",#REF!),\"　\",\"\")","v":{"$error":"#REF!"}}]
["1種目",15,{"$f":"IF(入力表!AH28=\"\",\"@\",入力表!AH28)","v":"@"},{"$f":"COUNTIF($C$1:C15,C15)","v":15},"@15",{"$f":"SUBSTITUTE(入力表!N28,\"　\",\"\")","v":""},{"$f":"SUBSTITUTE(IF(#REF!=\"\",\"\",#REF!),\"　\",\"\")","v":{"$error":"#REF!"}}]
["1種目",16,{"$f":"IF(入力表!AH29=\"\",\"@\",入力表!AH29)","v":"@"},{"$f":"COUNTIF($C$1:C16,C16)","v":16},"@16",{"$f":"SUBSTITUTE(入力表!N29,\"　\",\"\")","v":""},{"$f":"SUBSTITUTE(IF(#REF!=\"\",\"\",#REF!),\"　\",\"\")","v":{"$error":"#REF!"}}]
["1種目",17,{"$f":"IF(入力表!AH30=\"\",\"@\",入力表!AH30)","v":"@"},{"$f":"COUNTIF($C$1:C17,C17)","v":17},"@17",{"$f":"SUBSTITUTE(入力表!N30,\"　\",\"\")","v":""},{"$f":"SUBSTITUTE(IF(#REF!=\"\",\"\",#REF!),\"　\",\"\")","v":{"$error":"#REF!"}}]
["1種目",18,{"$f":"IF(入力表!AH31=\"\",\"@\",入力表!AH31)","v":"@"},{"$f":"COUNTIF($C$1:C18,C18)","v":18},"@18",{"$f":"SUBSTITUTE(入力表!N31,\"　\",\"\")","v":""},{"$f":"SUBSTITUTE(IF(#REF!=\"\",\"\",#REF!),\"　\",\"\")","v":{"$error":"#REF!"}}]
["1種目",19,{"$f":"IF(入力表!AH32=\"\",\"@\",入力表!AH32)","v":"@"},{"$f":"COUNTIF($C$1:C19,C19)","v":19},"@19",{"$f":"SUBSTITUTE(入力表!N32,\"　\",\"\")","v":""},{"$f":"SUBSTITUTE(IF(#REF!=\"\",\"\",#REF!),\"　\",\"\")","v":{"$error":"#REF!"}}]
["1種目",20,{"$f":"IF(入力表!AH33=\"\",\"@\",入力表!AH33)","v":"@"},{"$f":"COUNTIF($C$1:C20,C20)","v":20},"@20",{"$f":"SUBSTITUTE(入力表!N33,\"　\",\"\")","v":""},{"$f":"SUBSTITUTE(IF(#REF!=\"\",\"\",#REF!),\"　\",\"\")","v":{"$error":"#REF!"}}]
["1種目",21,{"$f":"IF(入力表!AH34=\"\",\"@\",入力表!AH34)","v":"@"},{"$f":"COUNTIF($C$1:C21,C21)","v":21},"@21",{"$f":"SUBSTITUTE(入力表!N34,\"　\",\"\")","v":""},{"$f":"SUBSTITUTE(IF(#REF!=\"\",\"\",#REF!),\"　\",\"\")","v":{"$error":"#REF!"}}]
["1種目",22,{"$f":"IF(入力表!AH35=\"\",\"@\",入力表!AH35)","v":"@"},{"$f":"COUNTIF($C$1:C22,C22)","v":22},"@22",{"$f":"SUBSTITUTE(入力表!N35,\"　\",\"\")","v":""},{"$f":"SUBSTITUTE(IF(#REF!=\"\",\"\",#REF!),\"　\",\"\")","v":{"$error":"#REF!"}}]
["1種目",23,{"$f":"IF(入力表!AH36=\"\",\"@\",入力表!AH36)","v":"@"},{"$f":"COUNTIF($C$1:C23,C23)","v":23},"@23",{"$f":"SUBSTITUTE(入力表!N36,\"　\",\"\")","v":""},{"$f":"SUBSTITUTE(IF(#REF!=\"\",\"\",#REF!),\"　\",\"\")","v":{"$error":"#REF!"}}]
["1種目",24,{"$f":"IF(入力表!AH37=\"\",\"@\",入力表!AH37)","v":"@"},{"$f":"COUNTIF($C$1:C24,C24)","v":24},"@24",{"$f":"SUBSTITUTE(入力表!N37,\"　\",\"\")","v":""},{"$f":"SUBSTITUTE(IF(#REF!=\"\",\"\",#REF!),\"　\",\"\")","v":{"$error":"#REF!"}}]
["1種目",25,{"$f":"IF(入力表!AH38=\"\",\"@\",入力表!AH38)","v":"@"},{"$f":"COUNTIF($C$1:C25,C25)","v":25},"@25",{"$f":"SUBSTITUTE(入力表!N38,\"　\",\"\")","v":""},{"$f":"SUBSTITUTE(IF(#REF!=\"\",\"\",#REF!),\"　\",\"\")","v":{"$error":"#REF!"}}]
["1種目",26,{"$f":"IF(入力表!AH39=\"\",\"@\",入力表!AH39)","v":"@"},{"$f":"COUNTIF($C$1:C26,C26)","v":26},"@26",{"$f":"SUBSTITUTE(入力表!N39,\"　\",\"\")","v":""},{"$f":"SUBSTITUTE(IF(#REF!=\"\",\"\",#REF!),\"　\",\"\")","v":{"$error":"#REF!"}}]
["1種目",27,{"$f":"IF(入力表!AH40=\"\",\"@\",入力表!AH40)","v":"@"},{"$f":"COUNTIF($C$1:C27,C27)","v":27},"@27",{"$f":"SUBSTITUTE(入力表!N40,\"　\",\"\")","v":""},{"$f":"SUBSTITUTE(IF(#REF!=\"\",\"\",#REF!),\"　\",\"\")","v":{"$error":"#REF!"}}]
["1種目",28,{"$f":"IF(入力表!AH41=\"\",\"@\",入力表!AH41)","v":"@"},{"$f":"COUNTIF($C$1:C28,C28)","v":28},"@28",{"$f":"SUBSTITUTE(入力表!N41,\"　\",\"\")","v":""},{"$f":"SUBSTITUTE(IF(#REF!=\"\",\"\",#REF!),\"　\",\"\")","v":{"$error":"#REF!"}}]
["1種目",29,{"$f":"IF(入力表!AH42=\"\",\"@\",入力表!AH42)","v":"@"},{"$f":"COUNTIF($C$1:C29,C29)","v":29},"@29",{"$f":"SUBSTITUTE(入力表!N42,\"　\",\"\")","v":""},{"$f":"SUBSTITUTE(IF(#REF!=\"\",\"\",#REF!),\"　\",\"\")","v":{"$error":"#REF!"}}]
["1種目",30,{"$f":"IF(入力表!AH43=\"\",\"@\",入力表!AH43)","v":"@"},{"$f":"COUNTIF($C$1:C30,C30)","v":30},"@30",{"$f":"SUBSTITUTE(入力表!N43,\"　\",\"\")","v":""},{"$f":"SUBSTITUTE(IF(#REF!=\"\",\"\",#REF!),\"　\",\"\")","v":{"$error":"#REF!"}}]
["1種目",31,{"$f":"IF(入力表!AH44=\"\",\"@\",入力表!AH44)","v":"@"},{"$f":"COUNTIF($C$1:C31,C31)","v":31},"@31",{"$f":"SUBSTITUTE(入力表!N44,\"　\",\"\")","v":""},{"$f":"SUBSTITUTE(IF(#REF!=\"\",\"\",#REF!),\"　\",\"\")","v":{"$error":"#REF!"}}]
["1種目",32,{"$f":"IF(入力表!AH45=\"\",\"@\",入力表!AH45)","v":"@"},{"$f":"COUNTIF($C$1:C32,C32)","v":32},"@32",{"$f":"SUBSTITUTE(入力表!N45,\"　\",\"\")","v":""},{"$f":"SUBSTITUTE(IF(#REF!=\"\",\"\",#REF!),\"　\",\"\")","v":{"$error":"#REF!"}}]
["1種目",33,{"$f":"IF(入力表!AH46=\"\",\"@\",入力表!AH46)","v":"@"},{"$f":"COUNTIF($C$1:C33,C33)","v":33},"@33",{"$f":"SUBSTITUTE(入力表!N46,\"　\",\"\")","v":""},{"$f":"SUBSTITUTE(IF(#REF!=\"\",\"\",#REF!),\"　\",\"\")","v":{"$error":"#REF!"}}]
["1種目",34,{"$f":"IF(入力表!AH47=\"\",\"@\",入力表!AH47)","v":"@"},{"$f":"COUNTIF($C$1:C34,C34)","v":34},"@34",{"$f":"SUBSTITUTE(入力表!N47,\"　\",\"\")","v":""},{"$f":"SUBSTITUTE(IF(#REF!=\"\",\"\",#REF!),\"　\",\"\")","v":{"$error":"#REF!"}}]
["1種目",35,{"$f":"IF(入力表!AH48=\"\",\"@\",入力表!AH48)","v":"@"},{"$f":"COUNTIF($C$1:C35,C35)","v":35},"@35",{"$f":"SUBSTITUTE(入力表!N48,\"　\",\"\")","v":""},{"$f":"SUBSTITUTE(IF(#REF!=\"\",\"\",#REF!),\"　\",\"\")","v":{"$error":"#REF!"}}]
["1種目",36,{"$f":"IF(入力表!AH49=\"\",\"@\",入力表!AH49)","v":"@"},{"$f":"COUNTIF($C$1:C36,C36)","v":36},"@36",{"$f":"SUBSTITUTE(入力表!N49,\"　\",\"\")","v":""},{"$f":"SUBSTITUTE(IF(#REF!=\"\",\"\",#REF!),\"　\",\"\")","v":{"$error":"#REF!"}}]
["1種目",37,{"$f":"IF(入力表!AH50=\"\",\"@\",入力表!AH50)","v":"@"},{"$f":"COUNTIF($C$1:C37,C37)","v":37},"@37",{"$f":"SUBSTITUTE(入力表!N50,\"　\",\"\")","v":""},{"$f":"SUBSTITUTE(IF(#REF!=\"\",\"\",#REF!),\"　\",\"\")","v":{"$error":"#REF!"}}]
["1種目",38,{"$f":"IF(入力表!AH51=\"\",\"@\",入力表!AH51)","v":"@"},{"$f":"COUNTIF($C$1:C38,C38)","v":38},"@38",{"$f":"SUBSTITUTE(入力表!N51,\"　\",\"\")","v":""},{"$f":"SUBSTITUTE(IF(#REF!=\"\",\"\",#REF!),\"　\",\"\")","v":{"$error":"#REF!"}}]
["1種目",39,{"$f":"IF(入力表!AH52=\"\",\"@\",入力表!AH52)","v":"@"},{"$f":"COUNTIF($C$1:C39,C39)","v":39},"@39",{"$f":"SUBSTITUTE(入力表!N52,\"　\",\"\")","v":""},{"$f":"SUBSTITUTE(IF(#REF!=\"\",\"\",#REF!),\"　\",\"\")","v":{"$error":"#REF!"}}]
["1種目",40,{"$f":"IF(入力表!AH53=\"\",\"@\",入力表!AH53)","v":"@"},{"$f":"COUNTIF($C$1:C40,C40)","v":40},"@40",{"$f":"SUBSTITUTE(入力表!N53,\"　\",\"\")","v":""},{"$f":"SUBSTITUTE(IF(#REF!=\"\",\"\",#REF!),\"　\",\"\")","v":{"$error":"#REF!"}}]
["2種目",1,{"$f":"IF(入力表!AV14=\"\",\"@\",入力表!AV14)","v":"@"},{"$f":"COUNTIF($C$1:C41,C41)","v":41},"@41",{"$f":"F1","v":""},{"$f":"SUBSTITUTE(IF(#REF!=\"\",\"\",#REF!),\"　\",\"\")","v":{"$error":"#REF!"}}]
["2種目",2,{"$f":"IF(入力表!AV15=\"\",\"@\",入力表!AV15)","v":"@"},{"$f":"COUNTIF($C$1:C42,C42)","v":42},"@42",{"$f":"F2","v":""},{"$f":"SUBSTITUTE(IF(#REF!=\"\",\"\",#REF!),\"　\",\"\")","v":{"$error":"#REF!"}}]
["2種目",3,{"$f":"IF(入力表!AV16=\"\",\"@\",入力表!AV16)","v":"@"},{"$f":"COUNTIF($C$1:C43,C43)","v":43},"@43","",{"$f":"SUBSTITUTE(IF(#REF!=\"\",\"\",#REF!),\"　\",\"\")","v":{"$error":"#REF!"}}]
["2種目",4,{"$f":"IF(入力表!AV17=\"\",\"@\",入力表!AV17)","v":"@"},{"$f":"COUNTIF($C$1:C44,C44)","v":44},"@44","",{"$f":"SUBSTITUTE(IF(#REF!=\"\",\"\",#REF!),\"　\",\"\")","v":{"$error":"#REF!"}}]
["2種目",5,{"$f":"IF(入力表!AV18=\"\",\"@\",入力表!AV18)","v":"@"},{"$f":"COUNTIF($C$1:C45,C45)","v":45},"@45","",{"$f":"SUBSTITUTE(IF(#REF!=\"\",\"\",#REF!),\"　\",\"\")","v":{"$error":"#REF!"}}]
["2種目",6,{"$f":"IF(入力表!AV19=\"\",\"@\",入力表!AV19)","v":"@"},{"$f":"COUNTIF($C$1:C46,C46)","v":46},"@46","",{"$f":"SUBSTITUTE(IF(#REF!=\"\",\"\",#REF!),\"　\",\"\")","v":{"$error":"#REF!"}}]
["2種目",7,{"$f":"IF(入力表!AV20=\"\",\"@\",入力表!AV20)","v":"@"},{"$f":"COUNTIF($C$1:C47,C47)","v":47},"@47","",{"$f":"SUBSTITUTE(IF(#REF!=\"\",\"\",#REF!),\"　\",\"\")","v":{"$error":"#REF!"}}]
["2種目",8,{"$f":"IF(入力表!AV21=\"\",\"@\",入力表!AV21)","v":"@"},{"$f":"COUNTIF($C$1:C48,C48)","v":48},"@48","",{"$f":"SUBSTITUTE(IF(#REF!=\"\",\"\",#REF!),\"　\",\"\")","v":{"$error":"#REF!"}}]
["2種目",9,{"$f":"IF(入力表!AV22=\"\",\"@\",入力表!AV22)","v":"@"},{"$f":"COUNTIF($C$1:C49,C49)","v":49},"@49","",{"$f":"SUBSTITUTE(IF(#REF!=\"\",\"\",#REF!),\"　\",\"\")","v":{"$error":"#REF!"}}]
["2種目",10,{"$f":"IF(入力表!AV23=\"\",\"@\",入力表!AV23)","v":"@"},{"$f":"COUNTIF($C$1:C50,C50)","v":50},"@50","",{"$f":"SUBSTITUTE(IF(#REF!=\"\",\"\",#REF!),\"　\",\"\")","v":{"$error":"#REF!"}}]
["2種目",11,{"$f":"IF(入力表!AV24=\"\",\"@\",入力表!AV24)","v":"@"},{"$f":"COUNTIF($C$1:C51,C51)","v":51},"@51","",{"$f":"SUBSTITUTE(IF(#REF!=\"\",\"\",#REF!),\"　\",\"\")","v":{"$error":"#REF!"}}]
["2種目",12,{"$f":"IF(入力表!AV25=\"\",\"@\",入力表!AV25)","v":"@"},{"$f":"COUNTIF($C$1:C52,C52)","v":52},"@52","",{"$f":"SUBSTITUTE(IF(#REF!=\"\",\"\",#REF!),\"　\",\"\")","v":{"$error":"#REF!"}}]
["2種目",13,{"$f":"IF(入力表!AV26=\"\",\"@\",入力表!AV26)","v":"@"},{"$f":"COUNTIF($C$1:C53,C53)","v":53},"@53","",{"$f":"SUBSTITUTE(IF(#REF!=\"\",\"\",#REF!),\"　\",\"\")","v":{"$error":"#REF!"}}]
["2種目",14,{"$f":"IF(入力表!AV27=\"\",\"@\",入力表!AV27)","v":"@"},{"$f":"COUNTIF($C$1:C54,C54)","v":54},"@54","",{"$f":"SUBSTITUTE(IF(#REF!=\"\",\"\",#REF!),\"　\",\"\")","v":{"$error":"#REF!"}}]
["2種目",15,{"$f":"IF(入力表!AV28=\"\",\"@\",入力表!AV28)","v":"@"},{"$f":"COUNTIF($C$1:C55,C55)","v":55},"@55","",{"$f":"SUBSTITUTE(IF(#REF!=\"\",\"\",#REF!),\"　\",\"\")","v":{"$error":"#REF!"}}]
["2種目",16,{"$f":"IF(入力表!AV29=\"\",\"@\",入力表!AV29)","v":"@"},{"$f":"COUNTIF($C$1:C56,C56)","v":56},"@56","",{"$f":"SUBSTITUTE(IF(#REF!=\"\",\"\",#REF!),\"　\",\"\")","v":{"$error":"#REF!"}}]
["2種目",17,{"$f":"IF(入力表!AV30=\"\",\"@\",入力表!AV30)","v":"@"},{"$f":"COUNTIF($C$1:C57,C57)","v":57},"@57","",{"$f":"SUBSTITUTE(IF(#REF!=\"\",\"\",#REF!),\"　\",\"\")","v":{"$error":"#REF!"}}]
["2種目",18,{"$f":"IF(入力表!AV31=\"\",\"@\",入力表!AV31)","v":"@"},{"$f":"COUNTIF($C$1:C58,C58)","v":58},"@58","",{"$f":"SUBSTITUTE(IF(#REF!=\"\",\"\",#REF!),\"　\",\"\")","v":{"$error":"#REF!"}}]
["2種目",19,{"$f":"IF(入力表!AV32=\"\",\"@\",入力表!AV32)","v":"@"},{"$f":"COUNTIF($C$1:C59,C59)","v":59},"@59","",{"$f":"SUBSTITUTE(IF(#REF!=\"\",\"\",#REF!),\"　\",\"\")","v":{"$error":"#REF!"}}]
["2種目",20,{"$f":"IF(入力表!AV33=\"\",\"@\",入力表!AV33)","v":"@"},{"$f":"COUNTIF($C$1:C60,C60)","v":60},"@60","",{"$f":"SUBSTITUTE(IF(#REF!=\"\",\"\",#REF!),\"　\",\"\")","v":{"$error":"#REF!"}}]
["2種目",21,{"$f":"IF(入力表!AV34=\"\",\"@\",入力表!AV34)","v":"@"},{"$f":"COUNTIF($C$1:C61,C61)","v":61},"@61","",{"$f":"SUBSTITUTE(IF(#REF!=\"\",\"\",#REF!),\"　\",\"\")","v":{"$error":"#REF!"}}]
["2種目",22,{"$f":"IF(入力表!AV35=\"\",\"@\",入力表!AV35)","v":"@"},{"$f":"COUNTIF($C$1:C62,C62)","v":62},"@62","",{"$f":"SUBSTITUTE(IF(#REF!=\"\",\"\",#REF!),\"　\",\"\")","v":{"$error":"#REF!"}}]
["2種目",23,{"$f":"IF(入力表!AV36=\"\",\"@\",入力表!AV36)","v":"@"},{"$f":"COUNTIF($C$1:C63,C63)","v":63},"@63","",{"$f":"SUBSTITUTE(IF(#REF!=\"\",\"\",#REF!),\"　\",\"\")","v":{"$error":"#REF!"}}]
["2種目",24,{"$f":"IF(入力表!AV37=\"\",\"@\",入力表!AV37)","v":"@"},{"$f":"COUNTIF($C$1:C64,C64)","v":64},"@64","",{"$f":"SUBSTITUTE(IF(#REF!=\"\",\"\",#REF!),\"　\",\"\")","v":{"$error":"#REF!"}}]
["2種目",25,{"$f":"IF(入力表!AV38=\"\",\"@\",入力表!AV38)","v":"@"},{"$f":"COUNTIF($C$1:C65,C65)","v":65},"@65","",{"$f":"SUBSTITUTE(IF(#REF!=\"\",\"\",#REF!),\"　\",\"\")","v":{"$error":"#REF!"}}]
["2種目",26,{"$f":"IF(入力表!AV39=\"\",\"@\",入力表!AV39)","v":"@"},{"$f":"COUNTIF($C$1:C66,C66)","v":66},{"$f":"C66&D66","v":"@66"},"",{"$f":"SUBSTITUTE(IF(#REF!=\"\",\"\",#REF!),\"　\",\"\")","v":{"$error":"#REF!"}}]
["2種目",27,{"$f":"IF(入力表!AV40=\"\",\"@\",入力表!AV40)","v":"@"},{"$f":"COUNTIF($C$1:C67,C67)","v":67},"@67","",{"$f":"SUBSTITUTE(IF(#REF!=\"\",\"\",#REF!),\"　\",\"\")","v":{"$error":"#REF!"}}]
["2種目",28,{"$f":"IF(入力表!AV41=\"\",\"@\",入力表!AV41)","v":"@"},{"$f":"COUNTIF($C$1:C68,C68)","v":68},"@68","",{"$f":"SUBSTITUTE(IF(#REF!=\"\",\"\",#REF!),\"　\",\"\")","v":{"$error":"#REF!"}}]
["2種目",29,{"$f":"IF(入力表!AV42=\"\",\"@\",入力表!AV42)","v":"@"},{"$f":"COUNTIF($C$1:C69,C69)","v":69},"@69","",{"$f":"SUBSTITUTE(IF(#REF!=\"\",\"\",#REF!),\"　\",\"\")","v":{"$error":"#REF!"}}]
["2種目",30,{"$f":"IF(入力表!AV43=\"\",\"@\",入力表!AV43)","v":"@"},{"$f":"COUNTIF($C$1:C70,C70)","v":70},"@70","",{"$f":"SUBSTITUTE(IF(#REF!=\"\",\"\",#REF!),\"　\",\"\")","v":{"$error":"#REF!"}}]
["2種目",31,{"$f":"IF(入力表!AV44=\"\",\"@\",入力表!AV44)","v":"@"},{"$f":"COUNTIF($C$1:C71,C71)","v":71},"@71","",{"$f":"SUBSTITUTE(IF(#REF!=\"\",\"\",#REF!),\"　\",\"\")","v":{"$error":"#REF!"}}]
["2種目",32,{"$f":"IF(入力表!AV45=\"\",\"@\",入力表!AV45)","v":"@"},{"$f":"COUNTIF($C$1:C72,C72)","v":72},"@72","",{"$f":"SUBSTITUTE(IF(#REF!=\"\",\"\",#REF!),\"　\",\"\")","v":{"$error":"#REF!"}}]
["2種目",33,{"$f":"IF(入力表!AV46=\"\",\"@\",入力表!AV46)","v":"@"},{"$f":"COUNTIF($C$1:C73,C73)","v":73},"@73","",{"$f":"SUBSTITUTE(IF(#REF!=\"\",\"\",#REF!),\"　\",\"\")","v":{"$error":"#REF!"}}]
["2種目",34,{"$f":"IF(入力表!AV47=\"\",\"@\",入力表!AV47)","v":"@"},{"$f":"COUNTIF($C$1:C74,C74)","v":74},"@74","",{"$f":"SUBSTITUTE(IF(#REF!=\"\",\"\",#REF!),\"　\",\"\")","v":{"$error":"#REF!"}}]
["2種目",35,{"$f":"IF(入力表!AV48=\"\",\"@\",入力表!AV48)","v":"@"},{"$f":"COUNTIF($C$1:C75,C75)","v":75},"@75","",{"$f":"SUBSTITUTE(IF(#REF!=\"\",\"\",#REF!),\"　\",\"\")","v":{"$error":"#REF!"}}]
["2種目",36,{"$f":"IF(入力表!AV49=\"\",\"@\",入力表!AV49)","v":"@"},{"$f":"COUNTIF($C$1:C76,C76)","v":76},"@76","",{"$f":"SUBSTITUTE(IF(#REF!=\"\",\"\",#REF!),\"　\",\"\")","v":{"$error":"#REF!"}}]
["2種目",37,{"$f":"IF(入力表!AV50=\"\",\"@\",入力表!AV50)","v":"@"},{"$f":"COUNTIF($C$1:C77,C77)","v":77},"@77","",{"$f":"SUBSTITUTE(IF(#REF!=\"\",\"\",#REF!),\"　\",\"\")","v":{"$error":"#REF!"}}]
["2種目",38,{"$f":"IF(入力表!AV51=\"\",\"@\",入力表!AV51)","v":"@"},{"$f":"COUNTIF($C$1:C78,C78)","v":78},"@78","",{"$f":"SUBSTITUTE(IF(#REF!=\"\",\"\",#REF!),\"　\",\"\")","v":{"$error":"#REF!"}}]
["2種目",39,{"$f":"IF(入力表!AV52=\"\",\"@\",入力表!AV52)","v":"@"},{"$f":"COUNTIF($C$1:C79,C79)","v":79},"@79","",{"$f":"SUBSTITUTE(IF(#REF!=\"\",\"\",#REF!),\"　\",\"\")","v":{"$error":"#REF!"}}]
["2種目",40,{"$f":"IF(入力表!AV53=\"\",\"@\",入力表!AV53)","v":"@"},{"$f":"COUNTIF($C$1:C80,C80)","v":80},"@80","",{"$f":"SUBSTITUTE(IF(#REF!=\"\",\"\",#REF!),\"　\",\"\")","v":{"$error":"#REF!"}}]
["3種目",1,{"$f":"IF(入力表!BJ14=\"\",\"@\",入力表!BJ14)","v":"@"},{"$f":"COUNTIF($C$1:C81,C81)","v":81},"@81",{"$f":"F1","v":""},{"$f":"SUBSTITUTE(IF(#REF!=\"\",\"\",#REF!),\"　\",\"\")","v":{"$error":"#REF!"}}]
["3種目",2,{"$f":"IF(入力表!BJ15=\"\",\"@\",入力表!BJ15)","v":"@"},{"$f":"COUNTIF($C$1:C82,C82)","v":82},"@82",{"$f":"F2","v":""},{"$f":"SUBSTITUTE(IF(#REF!=\"\",\"\",#REF!),\"　\",\"\")","v":{"$error":"#REF!"}}]
["3種目",3,{"$f":"IF(入力表!BJ16=\"\",\"@\",入力表!BJ16)","v":"@"},{"$f":"COUNTIF($C$1:C83,C83)","v":83},"@83","",{"$f":"SUBSTITUTE(IF(#REF!=\"\",\"\",#REF!),\"　\",\"\")","v":{"$error":"#REF!"}}]
["3種目",4,{"$f":"IF(入力表!BJ17=\"\",\"@\",入力表!BJ17)","v":"@"},{"$f":"COUNTIF($C$1:C84,C84)","v":84},"@84","",{"$f":"SUBSTITUTE(IF(#REF!=\"\",\"\",#REF!),\"　\",\"\")","v":{"$error":"#REF!"}}]
["3種目",5,{"$f":"IF(入力表!BJ18=\"\",\"@\",入力表!BJ18)","v":"@"},{"$f":"COUNTIF($C$1:C85,C85)","v":85},"@85","",{"$f":"SUBSTITUTE(IF(#REF!=\"\",\"\",#REF!),\"　\",\"\")","v":{"$error":"#REF!"}}]
["3種目",6,{"$f":"IF(入力表!BJ19=\"\",\"@\",入力表!BJ19)","v":"@"},{"$f":"COUNTIF($C$1:C86,C86)","v":86},"@86","",{"$f":"SUBSTITUTE(IF(#REF!=\"\",\"\",#REF!),\"　\",\"\")","v":{"$error":"#REF!"}}]
["3種目",7,{"$f":"IF(入力表!BJ20=\"\",\"@\",入力表!BJ20)","v":"@"},{"$f":"COUNTIF($C$1:C87,C87)","v":87},"@87","",{"$f":"SUBSTITUTE(IF(#REF!=\"\",\"\",#REF!),\"　\",\"\")","v":{"$error":"#REF!"}}]
["3種目",8,{"$f":"IF(入力表!BJ21=\"\",\"@\",入力表!BJ21)","v":"@"},{"$f":"COUNTIF($C$1:C88,C88)","v":88},"@88","",{"$f":"SUBSTITUTE(IF(#REF!=\"\",\"\",#REF!),\"　\",\"\")","v":{"$error":"#REF!"}}]
["3種目",9,{"$f":"IF(入力表!BJ22=\"\",\"@\",入力表!BJ22)","v":"@"},{"$f":"COUNTIF($C$1:C89,C89)","v":89},"@89","",{"$f":"SUBSTITUTE(IF(#REF!=\"\",\"\",#REF!),\"　\",\"\")","v":{"$error":"#REF!"}}]
["3種目",10,{"$f":"IF(入力表!BJ23=\"\",\"@\",入力表!BJ23)","v":"@"},{"$f":"COUNTIF($C$1:C90,C90)","v":90},"@90","",{"$f":"SUBSTITUTE(IF(#REF!=\"\",\"\",#REF!),\"　\",\"\")","v":{"$error":"#REF!"}}]
["3種目",11,{"$f":"IF(入力表!BJ24=\"\",\"@\",入力表!BJ24)","v":"@"},{"$f":"COUNTIF($C$1:C91,C91)","v":91},"@91","",{"$f":"SUBSTITUTE(IF(#REF!=\"\",\"\",#REF!),\"　\",\"\")","v":{"$error":"#REF!"}}]
["3種目",12,{"$f":"IF(入力表!BJ25=\"\",\"@\",入力表!BJ25)","v":"@"},{"$f":"COUNTIF($C$1:C92,C92)","v":92},"@92","",{"$f":"SUBSTITUTE(IF(#REF!=\"\",\"\",#REF!),\"　\",\"\")","v":{"$error":"#REF!"}}]
["3種目",13,{"$f":"IF(入力表!BJ26=\"\",\"@\",入力表!BJ26)","v":"@"},{"$f":"COUNTIF($C$1:C93,C93)","v":93},"@93","",{"$f":"SUBSTITUTE(IF(#REF!=\"\",\"\",#REF!),\"　\",\"\")","v":{"$error":"#REF!"}}]
["3種目",14,{"$f":"IF(入力表!BJ27=\"\",\"@\",入力表!BJ27)","v":"@"},{"$f":"COUNTIF($C$1:C94,C94)","v":94},"@94","",{"$f":"SUBSTITUTE(IF(#REF!=\"\",\"\",#REF!),\"　\",\"\")","v":{"$error":"#REF!"}}]
["3種目",15,{"$f":"IF(入力表!BJ28=\"\",\"@\",入力表!BJ28)","v":"@"},{"$f":"COUNTIF($C$1:C95,C95)","v":95},"@95","",{"$f":"SUBSTITUTE(IF(#REF!=\"\",\"\",#REF!),\"　\",\"\")","v":{"$error":"#REF!"}}]
["3種目",16,{"$f":"IF(入力表!BJ29=\"\",\"@\",入力表!BJ29)","v":"@"},{"$f":"COUNTIF($C$1:C96,C96)","v":96},"@96","",{"$f":"SUBSTITUTE(IF(#REF!=\"\",\"\",#REF!),\"　\",\"\")","v":{"$error":"#REF!"}}]
["3種目",17,{"$f":"IF(入力表!BJ30=\"\",\"@\",入力表!BJ30)","v":"@"},{"$f":"COUNTIF($C$1:C97,C97)","v":97},"@97","",{"$f":"SUBSTITUTE(IF(#REF!=\"\",\"\",#REF!),\"　\",\"\")","v":{"$error":"#REF!"}}]
["3種目",18,{"$f":"IF(入力表!BJ31=\"\",\"@\",入力表!BJ31)","v":"@"},{"$f":"COUNTIF($C$1:C98,C98)","v":98},"@98","",{"$f":"SUBSTITUTE(IF(#REF!=\"\",\"\",#REF!),\"　\",\"\")","v":{"$error":"#REF!"}}]
["3種目",19,{"$f":"IF(入力表!BJ32=\"\",\"@\",入力表!BJ32)","v":"@"},{"$f":"COUNTIF($C$1:C99,C99)","v":99},"@99","",{"$f":"SUBSTITUTE(IF(#REF!=\"\",\"\",#REF!),\"　\",\"\")","v":{"$error":"#REF!"}}]
["3種目",20,{"$f":"IF(入力表!BJ33=\"\",\"@\",入力表!BJ33)","v":"@"},{"$f":"COUNTIF($C$1:C100,C100)","v":100},"@100","",{"$f":"SUBSTITUTE(IF(#REF!=\"\",\"\",#REF!),\"　\",\"\")","v":{"$error":"#REF!"}}]
["3種目",21,{"$f":"IF(入力表!BJ34=\"\",\"@\",入力表!BJ34)","v":"@"},{"$f":"COUNTIF($C$1:C101,C101)","v":101},"@101","",{"$f":"SUBSTITUTE(IF(#REF!=\"\",\"\",#REF!),\"　\",\"\")","v":{"$error":"#REF!"}}]
["3種目",22,{"$f":"IF(入力表!BJ35=\"\",\"@\",入力表!BJ35)","v":"@"},{"$f":"COUNTIF($C$1:C102,C102)","v":102},"@102","",{"$f":"SUBSTITUTE(IF(#REF!=\"\",\"\",#REF!),\"　\",\"\")","v":{"$error":"#REF!"}}]
["3種目",23,{"$f":"IF(入力表!BJ36=\"\",\"@\",入力表!BJ36)","v":"@"},{"$f":"COUNTIF($C$1:C103,C103)","v":103},"@103","",{"$f":"SUBSTITUTE(IF(#REF!=\"\",\"\",#REF!),\"　\",\"\")","v":{"$error":"#REF!"}}]
["3種目",24,{"$f":"IF(入力表!BJ37=\"\",\"@\",入力表!BJ37)","v":"@"},{"$f":"COUNTIF($C$1:C104,C104)","v":104},"@104","",{"$f":"SUBSTITUTE(IF(#REF!=\"\",\"\",#REF!),\"　\",\"\")","v":{"$error":"#REF!"}}]
["3種目",25,{"$f":"IF(入力表!BJ38=\"\",\"@\",入力表!BJ38)","v":"@"},{"$f":"COUNTIF($C$1:C105,C105)","v":105},"@105","",{"$f":"SUBSTITUTE(IF(#REF!=\"\",\"\",#REF!),\"　\",\"\")","v":{"$error":"#REF!"}}]
["3種目",26,{"$f":"IF(入力表!BJ39=\"\",\"@\",入力表!BJ39)","v":"@"},{"$f":"COUNTIF($C$1:C106,C106)","v":106},"@106","",{"$f":"SUBSTITUTE(IF(#REF!=\"\",\"\",#REF!),\"　\",\"\")","v":{"$error":"#REF!"}}]
["3種目",27,{"$f":"IF(入力表!BJ40=\"\",\"@\",入力表!BJ40)","v":"@"},{"$f":"COUNTIF($C$1:C107,C107)","v":107},"@107","",{"$f":"SUBSTITUTE(IF(#REF!=\"\",\"\",#REF!),\"　\",\"\")","v":{"$error":"#REF!"}}]
["3種目",28,{"$f":"IF(入力表!BJ41=\"\",\"@\",入力表!BJ41)","v":"@"},{"$f":"COUNTIF($C$1:C108,C108)","v":108},"@108","",{"$f":"SUBSTITUTE(IF(#REF!=\"\",\"\",#REF!),\"　\",\"\")","v":{"$error":"#REF!"}}]
["3種目",29,{"$f":"IF(入力表!BJ42=\"\",\"@\",入力表!BJ42)","v":"@"},{"$f":"COUNTIF($C$1:C109,C109)","v":109},"@109","",{"$f":"SUBSTITUTE(IF(#REF!=\"\",\"\",#REF!),\"　\",\"\")","v":{"$error":"#REF!"}}]
["3種目",30,{"$f":"IF(入力表!BJ43=\"\",\"@\",入力表!BJ43)","v":"@"},{"$f":"COUNTIF($C$1:C110,C110)","v":110},"@110","",{"$f":"SUBSTITUTE(IF(#REF!=\"\",\"\",#REF!),\"　\",\"\")","v":{"$error":"#REF!"}}]
["3種目",31,{"$f":"IF(入力表!BJ44=\"\",\"@\",入力表!BJ44)","v":"@"},{"$f":"COUNTIF($C$1:C111,C111)","v":111},"@111","",{"$f":"SUBSTITUTE(IF(#REF!=\"\",\"\",#REF!),\"　\",\"\")","v":{"$error":"#REF!"}}]
["3種目",32,{"$f":"IF(入力表!BJ45=\"\",\"@\",入力表!BJ45)","v":"@"},{"$f":"COUNTIF($C$1:C112,C112)","v":112},"@112","",{"$f":"SUBSTITUTE(IF(#REF!=\"\",\"\",#REF!),\"　\",\"\")","v":{"$error":"#REF!"}}]
["3種目",33,{"$f":"IF(入力表!BJ46=\"\",\"@\",入力表!BJ46)","v":"@"},{"$f":"COUNTIF($C$1:C113,C113)","v":113},"@113","",{"$f":"SUBSTITUTE(IF(#REF!=\"\",\"\",#REF!),\"　\",\"\")","v":{"$error":"#REF!"}}]
["3種目",34,{"$f":"IF(入力表!BJ47=\"\",\"@\",入力表!BJ47)","v":"@"},{"$f":"COUNTIF($C$1:C114,C114)","v":114},"@114","",{"$f":"SUBSTITUTE(IF(#REF!=\"\",\"\",#REF!),\"　\",\"\")","v":{"$error":"#REF!"}}]
["3種目",35,{"$f":"IF(入力表!BJ48=\"\",\"@\",入力表!BJ48)","v":"@"},{"$f":"COUNTIF($C$1:C115,C115)","v":115},"@115","",{"$f":"SUBSTITUTE(IF(#REF!=\"\",\"\",#REF!),\"　\",\"\")","v":{"$error":"#REF!"}}]
["3種目",36,{"$f":"IF(入力表!BJ49=\"\",\"@\",入力表!BJ49)","v":"@"},{"$f":"COUNTIF($C$1:C116,C116)","v":116},"@116","",{"$f":"SUBSTITUTE(IF(#REF!=\"\",\"\",#REF!),\"　\",\"\")","v":{"$error":"#REF!"}}]
["3種目",37,{"$f":"IF(入力表!BJ50=\"\",\"@\",入力表!BJ50)","v":"@"},{"$f":"COUNTIF($C$1:C117,C117)","v":117},"@117","",{"$f":"SUBSTITUTE(IF(#REF!=\"\",\"\",#REF!),\"　\",\"\")","v":{"$error":"#REF!"}}]
["3種目",38,{"$f":"IF(入力表!BJ51=\"\",\"@\",入力表!BJ51)","v":"@"},{"$f":"COUNTIF($C$1:C118,C118)","v":118},"@118","",{"$f":"SUBSTITUTE(IF(#REF!=\"\",\"\",#REF!),\"　\",\"\")","v":{"$error":"#REF!"}}]
["3種目",39,{"$f":"IF(入力表!BJ52=\"\",\"@\",入力表!BJ52)","v":"@"},{"$f":"COUNTIF($C$1:C119,C119)","v":119},"@119","",{"$f":"SUBSTITUTE(IF(#REF!=\"\",\"\",#REF!),\"　\",\"\")","v":{"$error":"#REF!"}}]
["3種目",40,{"$f":"IF(入力表!BJ53=\"\",\"@\",入力表!BJ53)","v":"@"},{"$f":"COUNTIF($C$1:C120,C120)","v":120},"@120","",{"$f":"SUBSTITUTE(IF(#REF!=\"\",\"\",#REF!),\"　\",\"\")","v":{"$error":"#REF!"}}]
["400mR",1,{"$f":"IF(入力表!BX14=\"\",\"@\",入力表!BX14)","v":"@"},{"$f":"COUNTIF($C$121:C121,C121)","v":1},"@1",{"$f":"F81","v":""},{"$f":"#REF!","v":{"$error":"#REF!"}}]
["400mR",2,{"$f":"IF(入力表!BX15=\"\",\"@\",入力表!BX15)","v":"@"},{"$f":"COUNTIF($C$121:C122,C122)","v":2},"@2",{"$f":"F82","v":""},{"$f":"#REF!","v":{"$error":"#REF!"}}]
["400mR",3,{"$f":"IF(入力表!BX16=\"\",\"@\",入力表!BX16)","v":"@"},{"$f":"COUNTIF($C$121:C123,C123)","v":3},"@3","",{"$f":"#REF!","v":{"$error":"#REF!"}}]
["400mR",4,{"$f":"IF(入力表!BX17=\"\",\"@\",入力表!BX17)","v":"@"},{"$f":"COUNTIF($C$121:C124,C124)","v":4},"@4","",{"$f":"#REF!","v":{"$error":"#REF!"}}]
["400mR",5,{"$f":"IF(入力表!BX18=\"\",\"@\",入力表!BX18)","v":"@"},{"$f":"COUNTIF($C$121:C125,C125)","v":5},"@5","",{"$f":"#REF!","v":{"$error":"#REF!"}}]
["400mR",6,{"$f":"IF(入力表!BX19=\"\",\"@\",入力表!BX19)","v":"@"},{"$f":"COUNTIF($C$121:C126,C126)","v":6},"@6","",{"$f":"#REF!","v":{"$error":"#REF!"}}]
["400mR",7,{"$f":"IF(入力表!BX20=\"\",\"@\",入力表!BX20)","v":"@"},{"$f":"COUNTIF($C$121:C127,C127)","v":7},"@7","",{"$f":"#REF!","v":{"$error":"#REF!"}}]
["400mR",8,{"$f":"IF(入力表!BX21=\"\",\"@\",入力表!BX21)","v":"@"},{"$f":"COUNTIF($C$121:C128,C128)","v":8},"@8","",{"$f":"#REF!","v":{"$error":"#REF!"}}]
["400mR",9,{"$f":"IF(入力表!BX22=\"\",\"@\",入力表!BX22)","v":"@"},{"$f":"COUNTIF($C$121:C129,C129)","v":9},"@9","",{"$f":"#REF!","v":{"$error":"#REF!"}}]
["400mR",10,{"$f":"IF(入力表!BX23=\"\",\"@\",入力表!BX23)","v":"@"},{"$f":"COUNTIF($C$121:C130,C130)","v":10},{"$f":"C130&D130","v":"@10"},"",{"$f":"#REF!","v":{"$error":"#REF!"}}]
["400mR",11,{"$f":"IF(入力表!BX24=\"\",\"@\",入力表!BX24)","v":"@"},{"$f":"COUNTIF($C$121:C131,C131)","v":11},"@11","",{"$f":"#REF!","v":{"$error":"#REF!"}}]
["400mR",12,{"$f":"IF(入力表!BX25=\"\",\"@\",入力表!BX25)","v":"@"},{"$f":"COUNTIF($C$121:C132,C132)","v":12},"@12","",{"$f":"#REF!","v":{"$error":"#REF!"}}]
["400mR",13,{"$f":"IF(入力表!BX26=\"\",\"@\",入力表!BX26)","v":"@"},{"$f":"COUNTIF($C$121:C133,C133)","v":13},"@13","",{"$f":"#REF!","v":{"$error":"#REF!"}}]
["400mR",14,{"$f":"IF(入力表!BX27=\"\",\"@\",入力表!BX27)","v":"@"},{"$f":"COUNTIF($C$121:C134,C134)","v":14},"@14","",{"$f":"#REF!","v":{"$error":"#REF!"}}]
["400mR",15,{"$f":"IF(入力表!BX28=\"\",\"@\",入力表!BX28)","v":"@"},{"$f":"COUNTIF($C$121:C135,C135)","v":15},"@15","",{"$f":"#REF!","v":{"$error":"#REF!"}}]
["400mR",16,{"$f":"IF(入力表!BX29=\"\",\"@\",入力表!BX29)","v":"@"},{"$f":"COUNTIF($C$121:C136,C136)","v":16},"@16","",{"$f":"#REF!","v":{"$error":"#REF!"}}]
["400mR",17,{"$f":"IF(入力表!BX30=\"\",\"@\",入力表!BX30)","v":"@"},{"$f":"COUNTIF($C$121:C137,C137)","v":17},"@17","",{"$f":"#REF!","v":{"$error":"#REF!"}}]
["400mR",18,{"$f":"IF(入力表!BX31=\"\",\"@\",入力表!BX31)","v":"@"},{"$f":"COUNTIF($C$121:C138,C138)","v":18},"@18","",{"$f":"#REF!","v":{"$error":"#REF!"}}]
["400mR",19,{"$f":"IF(入力表!BX32=\"\",\"@\",入力表!BX32)","v":"@"},{"$f":"COUNTIF($C$121:C139,C139)","v":19},"@19","",{"$f":"#REF!","v":{"$error":"#REF!"}}]
["400mR",20,{"$f":"IF(入力表!BX33=\"\",\"@\",入力表!BX33)","v":"@"},{"$f":"COUNTIF($C$121:C140,C140)","v":20},"@20","",{"$f":"#REF!","v":{"$error":"#REF!"}}]
["400mR",21,{"$f":"IF(入力表!BX34=\"\",\"@\",入力表!BX34)","v":"@"},{"$f":"COUNTIF($C$121:C141,C141)","v":21},"@21","",{"$f":"#REF!","v":{"$error":"#REF!"}}]
["400mR",22,{"$f":"IF(入力表!BX35=\"\",\"@\",入力表!BX35)","v":"@"},{"$f":"COUNTIF($C$121:C142,C142)","v":22},"@22","",{"$f":"#REF!","v":{"$error":"#REF!"}}]
["400mR",23,{"$f":"IF(入力表!BX36=\"\",\"@\",入力表!BX36)","v":"@"},{"$f":"COUNTIF($C$121:C143,C143)","v":23},"@23","",{"$f":"#REF!","v":{"$error":"#REF!"}}]
["400mR",24,{"$f":"IF(入力表!BX37=\"\",\"@\",入力表!BX37)","v":"@"},{"$f":"COUNTIF($C$121:C144,C144)","v":24},"@24","",{"$f":"#REF!","v":{"$error":"#REF!"}}]
["400mR",25,{"$f":"IF(入力表!BX38=\"\",\"@\",入力表!BX38)","v":"@"},{"$f":"COUNTIF($C$121:C145,C145)","v":25},"@25","",{"$f":"#REF!","v":{"$error":"#REF!"}}]
["400mR",26,{"$f":"IF(入力表!BX39=\"\",\"@\",入力表!BX39)","v":"@"},{"$f":"COUNTIF($C$121:C146,C146)","v":26},"@26","",{"$f":"#REF!","v":{"$error":"#REF!"}}]
["400mR",27,{"$f":"IF(入力表!BX40=\"\",\"@\",入力表!BX40)","v":"@"},{"$f":"COUNTIF($C$121:C147,C147)","v":27},"@27","",{"$f":"#REF!","v":{"$error":"#REF!"}}]
["400mR",28,{"$f":"IF(入力表!BX41=\"\",\"@\",入力表!BX41)","v":"@"},{"$f":"COUNTIF($C$121:C148,C148)","v":28},"@28","",{"$f":"#REF!","v":{"$error":"#REF!"}}]
["400mR",29,{"$f":"IF(入力表!BX42=\"\",\"@\",入力表!BX42)","v":"@"},{"$f":"COUNTIF($C$121:C149,C149)","v":29},"@29","",{"$f":"#REF!","v":{"$error":"#REF!"}}]
["400mR",30,{"$f":"IF(入力表!BX43=\"\",\"@\",入力表!BX43)","v":"@"},{"$f":"COUNTIF($C$121:C150,C150)","v":30},"@30","",{"$f":"#REF!","v":{"$error":"#REF!"}}]
["400mR",31,{"$f":"IF(入力表!BX44=\"\",\"@\",入力表!BX44)","v":"@"},{"$f":"COUNTIF($C$121:C151,C151)","v":31},"@31","",{"$f":"#REF!","v":{"$error":"#REF!"}}]
["400mR",32,{"$f":"IF(入力表!BX45=\"\",\"@\",入力表!BX45)","v":"@"},{"$f":"COUNTIF($C$121:C152,C152)","v":32},"@32","",{"$f":"#REF!","v":{"$error":"#REF!"}}]
["400mR",33,{"$f":"IF(入力表!BX46=\"\",\"@\",入力表!BX46)","v":"@"},{"$f":"COUNTIF($C$121:C153,C153)","v":33},"@33","",{"$f":"#REF!","v":{"$error":"#REF!"}}]
["400mR",34,{"$f":"IF(入力表!BX47=\"\",\"@\",入力表!BX47)","v":"@"},{"$f":"COUNTIF($C$121:C154,C154)","v":34},"@34","",{"$f":"#REF!","v":{"$error":"#REF!"}}]
["400mR",35,{"$f":"IF(入力表!BX48=\"\",\"@\",入力表!BX48)","v":"@"},{"$f":"COUNTIF($C$121:C155,C155)","v":35},"@35","",{"$f":"#REF!","v":{"$error":"#REF!"}}]
["400mR",36,{"$f":"IF(入力表!BX49=\"\",\"@\",入力表!BX49)","v":"@"},{"$f":"COUNTIF($C$121:C156,C156)","v":36},"@36","",{"$f":"#REF!","v":{"$error":"#REF!"}}]
["400mR",37,{"$f":"IF(入力表!BX50=\"\",\"@\",入力表!BX50)","v":"@"},{"$f":"COUNTIF($C$121:C157,C157)","v":37},"@37","",{"$f":"#REF!","v":{"$error":"#REF!"}}]
["400mR",38,{"$f":"IF(入力表!BX51=\"\",\"@\",入力表!BX51)","v":"@"},{"$f":"COUNTIF($C$121:C158,C158)","v":38},"@38","",{"$f":"#REF!","v":{"$error":"#REF!"}}]
["400mR",39,{"$f":"IF(入力表!BX52=\"\",\"@\",入力表!BX52)","v":"@"},{"$f":"COUNTIF($C$121:C159,C159)","v":39},"@39","",{"$f":"#REF!","v":{"$error":"#REF!"}}]
["400mR",40,{"$f":"IF(入力表!BX53=\"\",\"@\",入力表!BX53)","v":"@"},{"$f":"COUNTIF($C$121:C160,C160)","v":40},"@40","",{"$f":"#REF!","v":{"$error":"#REF!"}}]
["1600mR",1,{"$f":"IF(入力表!CA14=\"\",\"@\",入力表!CA14)","v":"@"},{"$f":"COUNTIF($C$161:C161,C161)","v":1},"@1",{"$f":"F1","v":""},{"$f":"#REF!","v":{"$error":"#REF!"}}]
["1600mR",2,{"$f":"IF(入力表!CA15=\"\",\"@\",入力表!CA15)","v":"@"},{"$f":"COUNTIF($C$161:C162,C162)","v":2},"@2",{"$f":"F2","v":""},{"$f":"#REF!","v":{"$error":"#REF!"}}]
["1600mR",3,{"$f":"IF(入力表!CA16=\"\",\"@\",入力表!CA16)","v":"@"},{"$f":"COUNTIF($C$161:C163,C163)","v":3},"@3","",{"$f":"#REF!","v":{"$error":"#REF!"}}]
["1600mR",4,{"$f":"IF(入力表!CA17=\"\",\"@\",入力表!CA17)","v":"@"},{"$f":"COUNTIF($C$161:C164,C164)","v":4},"@4","",{"$f":"#REF!","v":{"$error":"#REF!"}}]
["1600mR",5,{"$f":"IF(入力表!CA18=\"\",\"@\",入力表!CA18)","v":"@"},{"$f":"COUNTIF($C$161:C165,C165)","v":5},"@5","",{"$f":"#REF!","v":{"$error":"#REF!"}}]
["1600mR",6,{"$f":"IF(入力表!CA19=\"\",\"@\",入力表!CA19)","v":"@"},{"$f":"COUNTIF($C$161:C166,C166)","v":6},"@6","",{"$f":"#REF!","v":{"$error":"#REF!"}}]
["1600mR",7,{"$f":"IF(入力表!CA20=\"\",\"@\",入力表!CA20)","v":"@"},{"$f":"COUNTIF($C$161:C167,C167)","v":7},"@7","",{"$f":"#REF!","v":{"$error":"#REF!"}}]
["1600mR",8,{"$f":"IF(入力表!CA21=\"\",\"@\",入力表!CA21)","v":"@"},{"$f":"COUNTIF($C$161:C168,C168)","v":8},"@8","",{"$f":"#REF!","v":{"$error":"#REF!"}}]
["1600mR",9,{"$f":"IF(入力表!CA22=\"\",\"@\",入力表!CA22)","v":"@"},{"$f":"COUNTIF($C$161:C169,C169)","v":9},"@9","",{"$f":"#REF!","v":{"$error":"#REF!"}}]
["1600mR",10,{"$f":"IF(入力表!CA23=\"\",\"@\",入力表!CA23)","v":"@"},{"$f":"COUNTIF($C$161:C170,C170)","v":10},"@10","",{"$f":"#REF!","v":{"$error":"#REF!"}}]
["1600mR",11,{"$f":"IF(入力表!CA24=\"\",\"@\",入力表!CA24)","v":"@"},{"$f":"COUNTIF($C$161:C171,C171)","v":11},"@11","",{"$f":"#REF!","v":{"$error":"#REF!"}}]
["1600mR",12,{"$f":"IF(入力表!CA25=\"\",\"@\",入力表!CA25)","v":"@"},{"$f":"COUNTIF($C$161:C172,C172)","v":12},"@12","",{"$f":"#REF!","v":{"$error":"#REF!"}}]
["1600mR",13,{"$f":"IF(入力表!CA26=\"\",\"@\",入力表!CA26)","v":"@"},{"$f":"COUNTIF($C$161:C173,C173)","v":13},"@13","",{"$f":"#REF!","v":{"$error":"#REF!"}}]
["1600mR",14,{"$f":"IF(入力表!CA27=\"\",\"@\",入力表!CA27)","v":"@"},{"$f":"COUNTIF($C$161:C174,C174)","v":14},"@14","",{"$f":"#REF!","v":{"$error":"#REF!"}}]
["1600mR",15,{"$f":"IF(入力表!CA28=\"\",\"@\",入力表!CA28)","v":"@"},{"$f":"COUNTIF($C$161:C175,C175)","v":15},"@15","",{"$f":"#REF!","v":{"$error":"#REF!"}}]
["1600mR",16,{"$f":"IF(入力表!CA29=\"\",\"@\",入力表!CA29)","v":"@"},{"$f":"COUNTIF($C$161:C176,C176)","v":16},"@16","",{"$f":"#REF!","v":{"$error":"#REF!"}}]
["1600mR",17,{"$f":"IF(入力表!CA30=\"\",\"@\",入力表!CA30)","v":"@"},{"$f":"COUNTIF($C$161:C177,C177)","v":17},"@17","",{"$f":"#REF!","v":{"$error":"#REF!"}}]
["1600mR",18,{"$f":"IF(入力表!CA31=\"\",\"@\",入力表!CA31)","v":"@"},{"$f":"COUNTIF($C$161:C178,C178)","v":18},"@18","",{"$f":"#REF!","v":{"$error":"#REF!"}}]
["1600mR",19,{"$f":"IF(入力表!CA32=\"\",\"@\",入力表!CA32)","v":"@"},{"$f":"COUNTIF($C$161:C179,C179)","v":19},"@19","",{"$f":"#REF!","v":{"$error":"#REF!"}}]
["1600mR",20,{"$f":"IF(入力表!CA33=\"\",\"@\",入力表!CA33)","v":"@"},{"$f":"COUNTIF($C$161:C180,C180)","v":20},"@20","",{"$f":"#REF!","v":{"$error":"#REF!"}}]
["1600mR",21,{"$f":"IF(入力表!CA34=\"\",\"@\",入力表!CA34)","v":"@"},{"$f":"COUNTIF($C$161:C181,C181)","v":21},"@21","",{"$f":"#REF!","v":{"$error":"#REF!"}}]
["1600mR",22,{"$f":"IF(入力表!CA35=\"\",\"@\",入力表!CA35)","v":"@"},{"$f":"COUNTIF($C$161:C182,C182)","v":22},"@22","",{"$f":"#REF!","v":{"$error":"#REF!"}}]
["1600mR",23,{"$f":"IF(入力表!CA36=\"\",\"@\",入力表!CA36)","v":"@"},{"$f":"COUNTIF($C$161:C183,C183)","v":23},"@23","",{"$f":"#REF!","v":{"$error":"#REF!"}}]
["1600mR",24,{"$f":"IF(入力表!CA37=\"\",\"@\",入力表!CA37)","v":"@"},{"$f":"COUNTIF($C$161:C184,C184)","v":24},"@24","",{"$f":"#REF!","v":{"$error":"#REF!"}}]
["1600mR",25,{"$f":"IF(入力表!CA38=\"\",\"@\",入力表!CA38)","v":"@"},{"$f":"COUNTIF($C$161:C185,C185)","v":25},"@25","",{"$f":"#REF!","v":{"$error":"#REF!"}}]
["1600mR",26,{"$f":"IF(入力表!CA39=\"\",\"@\",入力表!CA39)","v":"@"},{"$f":"COUNTIF($C$161:C186,C186)","v":26},"@26","",{"$f":"#REF!","v":{"$error":"#REF!"}}]
["1600mR",27,{"$f":"IF(入力表!CA40=\"\",\"@\",入力表!CA40)","v":"@"},{"$f":"COUNTIF($C$161:C187,C187)","v":27},"@27","",{"$f":"#REF!","v":{"$error":"#REF!"}}]
["1600mR",28,{"$f":"IF(入力表!CA41=\"\",\"@\",入力表!CA41)","v":"@"},{"$f":"COUNTIF($C$161:C188,C188)","v":28},"@28","",{"$f":"#REF!","v":{"$error":"#REF!"}}]
["1600mR",29,{"$f":"IF(入力表!CA42=\"\",\"@\",入力表!CA42)","v":"@"},{"$f":"COUNTIF($C$161:C189,C189)","v":29},"@29","",{"$f":"#REF!","v":{"$error":"#REF!"}}]
["1600mR",30,{"$f":"IF(入力表!CA43=\"\",\"@\",入力表!CA43)","v":"@"},{"$f":"COUNTIF($C$161:C190,C190)","v":30},"@30","",{"$f":"#REF!","v":{"$error":"#REF!"}}]
["1600mR",31,{"$f":"IF(入力表!CA44=\"\",\"@\",入力表!CA44)","v":"@"},{"$f":"COUNTIF($C$161:C191,C191)","v":31},"@31","",{"$f":"#REF!","v":{"$error":"#REF!"}}]
["1600mR",32,{"$f":"IF(入力表!CA45=\"\",\"@\",入力表!CA45)","v":"@"},{"$f":"COUNTIF($C$161:C192,C192)","v":32},"@32","",{"$f":"#REF!","v":{"$error":"#REF!"}}]
["1600mR",33,{"$f":"IF(入力表!CA46=\"\",\"@\",入力表!CA46)","v":"@"},{"$f":"COUNTIF($C$161:C193,C193)","v":33},"@33","",{"$f":"#REF!","v":{"$error":"#REF!"}}]
["1600mR",34,{"$f":"IF(入力表!CA47=\"\",\"@\",入力表!CA47)","v":"@"},{"$f":"COUNTIF($C$161:C194,C194)","v":34},{"$f":"C194&D194","v":"@34"},"",{"$f":"#REF!","v":{"$error":"#REF!"}}]
["1600mR",35,{"$f":"IF(入力表!CA48=\"\",\"@\",入力表!CA48)","v":"@"},{"$f":"COUNTIF($C$161:C195,C195)","v":35},"@35","",{"$f":"#REF!","v":{"$error":"#REF!"}}]
["1600mR",36,{"$f":"IF(入力表!CA49=\"\",\"@\",入力表!CA49)","v":"@"},{"$f":"COUNTIF($C$161:C196,C196)","v":36},"@36","",{"$f":"#REF!","v":{"$error":"#REF!"}}]
["1600mR",37,{"$f":"IF(入力表!CA50=\"\",\"@\",入力表!CA50)","v":"@"},{"$f":"COUNTIF($C$161:C197,C197)","v":37},"@37","",{"$f":"#REF!","v":{"$error":"#REF!"}}]
["1600mR",38,{"$f":"IF(入力表!CA51=\"\",\"@\",入力表!CA51)","v":"@"},{"$f":"COUNTIF($C$161:C198,C198)","v":38},"@38","",{"$f":"#REF!","v":{"$error":"#REF!"}}]
["1600mR",39,{"$f":"IF(入力表!CA52=\"\",\"@\",入力表!CA52)","v":"@"},{"$f":"COUNTIF($C$161:C199,C199)","v":39},"@39","",{"$f":"#REF!","v":{"$error":"#REF!"}}]
["1600mR",40,{"$f":"IF(入力表!CA53=\"\",\"@\",入力表!CA53)","v":"@"},{"$f":"COUNTIF($C$161:C200,C200)","v":40},"@40","",{"$f":"#REF!","v":{"$error":"#REF!"}}]

{"sheet":"●貼付（事務局）","index":4,"n_rows":41,"n_cols":51,"rows_kept":41,"cut":false,"hidden":false,"merged":[[0,21,0,28],[0,29,0,36],[0,37,0,44]]}
["数","性","NC","氏名","誕生年","ﾌﾘｶﾞﾅ","所属陸協","団体名","年","種目１","ベスト","種目２","ベスト","種目３","ベスト","4R","記録","16R","記録",null,null,"種目1ベスト",null,null,null,null,null,null,null,"種目2ベスト",null,null,null,null,null,null,null,"種目3ベスト"]
[1,{"$f":"IF(入力表!H14=0,\"\",入力表!H14)","v":""},{"$f":"IF(入力表!J14=0,\"\",入力表!J14)","v":""},{"$f":"IF(入力表!N14=0,\"\",入力表!N14)","v":""},{"$f":"RIGHT(入力表!AA14,2)","v":""},{"$f":"IF(入力表!U14=0,\"\",入力表!U14)","v":""},{"$f":"IF(B2=\"\",\"\",入力表!$N$8)","v":""},{"$f":"IF(B2=\"\",\"\",入力表!$L$4)","v":""},{"$f":"IF(B2=\"\",\"\",入力表!AE14)","v":""},{"$f":"IF(入力表!AH14=\"\",\"\",入力表!AH14)","v":""},{"$f":"CONCATENATE(V2,W2,X2,Y2,Z2,AA2,AB2,AC2)","v":""},{"$f":"IF(入力表!AV14=\"\",\"\",入力表!AV14)","v":""},{"$f":"CONCATENATE(AD2,AE2,AF2,AG2,AH2,AI2,AJ2,AK2)","v":""},{"$f":"IF(入力表!BJ14=\"\",\"\",入力表!BJ14)","v":""},{"$f":"CONCATENATE(AL2,AM2,AN2,AO2,AP2,AQ2,AR2,AS2)","v":""},{"$f":"IF(入力表!BX14=\"\",\"\",入力表!BX14)","v":""},{"$f":"IF(ISERROR(VLOOKUP(P2,$AX$3:$AY$14,2,FALSE)),\"\",VLOOKUP(P2,$AX$3:$AY$14,2,FALSE))","v":""},{"$f":"IF(入力表!CA14=\"\",\"\",入力表!CA14)","v":""},{"$f":"IF(ISERROR(VLOOKUP(R2,$AX$16:$AY$21,2,FALSE)),\"\",VLOOKUP(R2,$AX$16:$AY$21,2,FALSE))","v":""},{"$f":"入力表!E6","v":0},null,{"$f":"IF(入力表!AN14=\"\",\"\",入力表!AN14)","v":""},{"$f":"IF(入力表!AO14=\"\",\"\",入力表!AO14)","v":""},{"$f":"IF(ISERROR(VLOOKUP(IF(W2=\"\",\"\",入力表!AP14),$AU$2:$AV$5,2,FALSE)),\"\",VLOOKUP(IF(W2=\"\",\"\",入力表!AS14),$AU$2:$AV$5,2,FALSE))","v":""},{"$f":"IF(入力表!AQ14=\"\",\"\",入力表!AQ14)","v":""},{"$f":"IF(入力表!AR14=\"\",\"\",入力表!AR14)","v":""},{"$f":"IF(ISERROR(VLOOKUP(入力表!AS14,$AU$2:$AV$5,2,FALSE)),\"\",VLOOKUP(入力表!AS14,$AU$2:$AV$5,2,FALSE))","v":""},{"$f":"IF(入力表!AT14=\"\",\"\",入力表!AT14)","v":""},{"$f":"IF(入力表!AU14=\"\",\"\",入力表!AU14)","v":""},{"$f":"IF(入力表!BB14=\"\",\"\",入力表!BB14)","v":""},{"$f":"IF(入力表!BC14=\"\",\"\",入力表!BC14)","v":""},{"$f":"IF(ISERROR(VLOOKUP(IF(AE2=\"\",\"\",入力表!BD14),$AU$2:$AV$5,2,FALSE)),\"\",VLOOKUP(IF(AE2=\"\",\"\",入力表!BD14),$AU$2:$AV$5,2,FALSE))","v":""},{"$f":"IF(入力表!BE14=\"\",\"\",入力表!BE14)","v":""},{"$f":"IF(入力表!BF14=\"\",\"\",入力表!BF14)","v":""},{"$f":"IF(ISERROR(VLOOKUP(入力表!BG14,$AU$2:$AV$5,2,FALSE)),\"\",VLOOKUP(入力表!BG14,$AU$2:$AV$5,2,FALSE))","v":""},{"$f":"IF(入力表!BH14=\"\",\"\",入力表!BH14)","v":""},{"$f":"IF(入力表!BI14=\"\",\"\",入力表!BI14)","v":""},{"$f":"IF(入力表!BP14=\"\",\"\",入力表!BP14)","v":""},{"$f":"IF(入力表!BQ14=\"\",\"\",入力表!BQ14)","v":""},{"$f":"IF(ISERROR(VLOOKUP(IF(AM2=\"\",\"\",入力表!BR14),$AU$2:$AV$5,2,FALSE)),\"\",VLOOKUP(IF(AM2=\"\",\"\",入力表!BR14),$AU$2:$AV$5,2,FALSE))","v":""},{"$f":"IF(入力表!BS14=\"\",\"\",入力表!BS14)","v":""},{"$f":"IF(入力表!BT14=\"\",\"\",入力表!BT14)","v":""},{"$f":"IF(ISERROR(VLOOKUP(入力表!BU14,$AU$2:$AV$5,2,FALSE)),\"\",VLOOKUP(入力表!BU14,$AU$2:$AV$5,2,FALSE))","v":""},{"$f":"IF(入力表!BV14=\"\",\"\",入力表!BV14)","v":""},{"$f":"IF(入力表!BW14=\"\",\"\",入力表!BW14)","v":""},null,"分",".",null,"400mR"]
[2,{"$f":"IF(入力表!H15=0,\"\",入力表!H15)","v":""},{"$f":"IF(入力表!J15=0,\"\",入力表!J15)","v":""},{"$f":"IF(入力表!N15=0,\"\",入力表!N15)","v":""},{"$f":"RIGHT(入力表!AA15,2)","v":""},{"$f":"IF(入力表!U15=0,\"\",入力表!U15)","v":""},{"$f":"IF(B3=\"\",\"\",入力表!$N$8)","v":""},{"$f":"IF(B3=\"\",\"\",入力表!$L$4)","v":""},{"$f":"IF(B3=\"\",\"\",入力表!AE15)","v":""},{"$f":"IF(入力表!AH15=\"\",\"\",入力表!AH15)","v":""},"",{"$f":"IF(入力表!AV15=\"\",\"\",入力表!AV15)","v":""},"",{"$f":"IF(入力表!BJ15=\"\",\"\",入力表!BJ15)","v":""},"",{"$f":"IF(入力表!BX15=\"\",\"\",入力表!BX15)","v":""},{"$f":"IF(ISERROR(VLOOKUP(P3,$AX$3:$AY$14,2,FALSE)),\"\",VLOOKUP(P3,$AX$3:$AY$14,2,FALSE))","v":""},{"$f":"IF(入力表!CA15=\"\",\"\",入力表!CA15)","v":""},{"$f":"IF(ISERROR(VLOOKUP(R3,$AX$16:$AY$21,2,FALSE)),\"\",VLOOKUP(R3,$AX$16:$AY$21,2,FALSE))","v":""},null,null,{"$f":"IF(入力表!AN15=\"\",\"\",入力表!AN15)","v":""},{"$f":"IF(入力表!AO15=\"\",\"\",入力表!AO15)","v":""},{"$f":"IF(ISERROR(VLOOKUP(IF(W3=\"\",\"\",入力表!AP15),$AU$2:$AV$5,2,FALSE)),\"\",VLOOKUP(IF(W3=\"\",\"\",入力表!AS15),$AU$2:$AV$5,2,FALSE))","v":""},{"$f":"IF(入力表!AQ15=\"\",\"\",入力表!AQ15)","v":""},{"$f":"IF(入力表!AR15=\"\",\"\",入力表!AR15)","v":""},{"$f":"IF(ISERROR(VLOOKUP(入力表!AS15,$AU$2:$AV$5,2,FALSE)),\"\",VLOOKUP(入力表!AS15,$AU$2:$AV$5,2,FALSE))","v":""},{"$f":"IF(入力表!AT15=\"\",\"\",入力表!AT15)","v":""},{"$f":"IF(入力表!AU15=\"\",\"\",入力表!AU15)","v":""},{"$f":"IF(入力表!BB15=\"\",\"\",入力表!BB15)","v":""},{"$f":"IF(入力表!BC15=\"\",\"\",入力表!BC15)","v":""},{"$f":"IF(ISERROR(VLOOKUP(IF(AE3=\"\",\"\",入力表!BD15),$AU$2:$AV$5,2,FALSE)),\"\",VLOOKUP(IF(AE3=\"\",\"\",入力表!BD15),$AU$2:$AV$5,2,FALSE))","v":""},{"$f":"IF(入力表!BE15=\"\",\"\",入力表!BE15)","v":""},{"$f":"IF(入力表!BF15=\"\",\"\",入力表!BF15)","v":""},{"$f":"IF(ISERROR(VLOOKUP(入力表!BG15,$AU$2:$AV$5,2,FALSE)),\"\",VLOOKUP(入力表!BG15,$AU$2:$AV$5,2,FALSE))","v":""},{"$f":"IF(入力表!BH15=\"\",\"\",入力表!BH15)","v":""},{"$f":"IF(入力表!BI15=\"\",\"\",入力表!BI15)","v":""},{"$f":"IF(入力表!BP15=\"\",\"\",入力表!BP15)","v":""},{"$f":"IF(入力表!BQ15=\"\",\"\",入力表!BQ15)","v":""},{"$f":"IF(ISERROR(VLOOKUP(IF(AM3=\"\",\"\",入力表!BR15),$AU$2:$AV$5,2,FALSE)),\"\",VLOOKUP(IF(AM3=\"\",\"\",入力表!BR15),$AU$2:$AV$5,2,FALSE))","v":""},{"$f":"IF(入力表!BS15=\"\",\"\",入力表!BS15)","v":""},{"$f":"IF(入力表!BT15=\"\",\"\",入力表!BT15)","v":""},{"$f":"IF(ISERROR(VLOOKUP(入力表!BU15,$AU$2:$AV$5,2,FALSE)),\"\",VLOOKUP(入力表!BU15,$AU$2:$AV$5,2,FALSE))","v":""},{"$f":"IF(入力表!BV15=\"\",\"\",入力表!BV15)","v":""},{"$f":"IF(入力表!BW15=\"\",\"\",入力表!BW15)","v":""},null,"秒",".",null,"男子A",{"$f":"CONCATENATE(入力表!BL2,\".\",入力表!BN2,入力表!BO2,\".\",入力表!BQ2,入力表!BR2)","v":".."}]
[3,{"$f":"IF(入力表!H16=0,\"\",入力表!H16)","v":""},{"$f":"IF(入力表!J16=0,\"\",入力表!J16)","v":""},{"$f":"IF(入力表!N16=0,\"\",入力表!N16)","v":""},{"$f":"RIGHT(入力表!AA16,2)","v":""},{"$f":"IF(入力表!U16=0,\"\",入力表!U16)","v":""},{"$f":"IF(B4=\"\",\"\",入力表!$N$8)","v":""},{"$f":"IF(B4=\"\",\"\",入力表!$L$4)","v":""},{"$f":"IF(B4=\"\",\"\",入力表!AE16)","v":""},{"$f":"IF(入力表!AH16=\"\",\"\",入力表!AH16)","v":""},"",{"$f":"IF(入力表!AV16=\"\",\"\",入力表!AV16)","v":""},"",{"$f":"IF(入力表!BJ16=\"\",\"\",入力表!BJ16)","v":""},"",{"$f":"IF(入力表!BX16=\"\",\"\",入力表!BX16)","v":""},"",{"$f":"IF(入力表!CA16=\"\",\"\",入力表!CA16)","v":""},"",null,null,{"$f":"IF(入力表!AN16=\"\",\"\",入力表!AN16)","v":""},{"$f":"IF(入力表!AO16=\"\",\"\",入力表!AO16)","v":""},{"$f":"IF(ISERROR(VLOOKUP(IF(W4=\"\",\"\",入力表!AP16),$AU$2:$AV$5,2,FALSE)),\"\",VLOOKUP(IF(W4=\"\",\"\",入力表!AS16),$AU$2:$AV$5,2,FALSE))","v":""},{"$f":"IF(入力表!AQ16=\"\",\"\",入力表!AQ16)","v":""},{"$f":"IF(入力表!AR16=\"\",\"\",入力表!AR16)","v":""},{"$f":"IF(ISERROR(VLOOKUP(入力表!AS16,$AU$2:$AV$5,2,FALSE)),\"\",VLOOKUP(入力表!AS16,$AU$2:$AV$5,2,FALSE))","v":""},{"$f":"IF(入力表!AT16=\"\",\"\",入力表!AT16)","v":""},{"$f":"IF(入力表!AU16=\"\",\"\",入力表!AU16)","v":""},{"$f":"IF(入力表!BB16=\"\",\"\",入力表!BB16)","v":""},{"$f":"IF(入力表!BC16=\"\",\"\",入力表!BC16)","v":""},{"$f":"IF(ISERROR(VLOOKUP(IF(AE4=\"\",\"\",入力表!BD16),$AU$2:$AV$5,2,FALSE)),\"\",VLOOKUP(IF(AE4=\"\",\"\",入力表!BD16),$AU$2:$AV$5,2,FALSE))","v":""},{"$f":"IF(入力表!BE16=\"\",\"\",入力表!BE16)","v":""},{"$f":"IF(入力表!BF16=\"\",\"\",入力表!BF16)","v":""},{"$f":"IF(ISERROR(VLOOKUP(入力表!BG16,$AU$2:$AV$5,2,FALSE)),\"\",VLOOKUP(入力表!BG16,$AU$2:$AV$5,2,FALSE))","v":""},{"$f":"IF(入力表!BH16=\"\",\"\",入力表!BH16)","v":""},{"$f":"IF(入力表!BI16=\"\",\"\",入力表!BI16)","v":""},{"$f":"IF(入力表!BP16=\"\",\"\",入力表!BP16)","v":""},{"$f":"IF(入力表!BQ16=\"\",\"\",入力表!BQ16)","v":""},{"$f":"IF(ISERROR(VLOOKUP(IF(AM4=\"\",\"\",入力表!BR16),$AU$2:$AV$5,2,FALSE)),\"\",VLOOKUP(IF(AM4=\"\",\"\",入力表!BR16),$AU$2:$AV$5,2,FALSE))","v":""},{"$f":"IF(入力表!BS16=\"\",\"\",入力表!BS16)","v":""},{"$f":"IF(入力表!BT16=\"\",\"\",入力表!BT16)","v":""},{"$f":"IF(ISERROR(VLOOKUP(入力表!BU16,$AU$2:$AV$5,2,FALSE)),\"\",VLOOKUP(入力表!BU16,$AU$2:$AV$5,2,FALSE))","v":""},{"$f":"IF(入力表!BV16=\"\",\"\",入力表!BV16)","v":""},{"$f":"IF(入力表!BW16=\"\",\"\",入力表!BW16)","v":""},null,"m","m",null,"男子B",{"$f":"CONCATENATE(入力表!BL3,\".\",入力表!BN3,入力表!BO3,\".\",入力表!BQ3,入力表!BR3)","v":".."}]
[4,{"$f":"IF(入力表!H17=0,\"\",入力表!H17)","v":""},{"$f":"IF(入力表!J17=0,\"\",入力表!J17)","v":""},{"$f":"IF(入力表!N17=0,\"\",入力表!N17)","v":""},{"$f":"RIGHT(入力表!AA17,2)","v":""},{"$f":"IF(入力表!U17=0,\"\",入力表!U17)","v":""},{"$f":"IF(B5=\"\",\"\",入力表!$N$8)","v":""},{"$f":"IF(B5=\"\",\"\",入力表!$L$4)","v":""},{"$f":"IF(B5=\"\",\"\",入力表!AE17)","v":""},{"$f":"IF(入力表!AH17=\"\",\"\",入力表!AH17)","v":""},"",{"$f":"IF(入力表!AV17=\"\",\"\",入力表!AV17)","v":""},"",{"$f":"IF(入力表!BJ17=\"\",\"\",入力表!BJ17)","v":""},"",{"$f":"IF(入力表!BX17=\"\",\"\",入力表!BX17)","v":""},"",{"$f":"IF(入力表!CA17=\"\",\"\",入力表!CA17)","v":""},"",null,null,{"$f":"IF(入力表!AN17=\"\",\"\",入力表!AN17)","v":""},{"$f":"IF(入力表!AO17=\"\",\"\",入力表!AO17)","v":""},{"$f":"IF(ISERROR(VLOOKUP(IF(W5=\"\",\"\",入力表!AP17),$AU$2:$AV$5,2,FALSE)),\"\",VLOOKUP(IF(W5=\"\",\"\",入力表!AS17),$AU$2:$AV$5,2,FALSE))","v":""},{"$f":"IF(入力表!AQ17=\"\",\"\",入力表!AQ17)","v":""},{"$f":"IF(入力表!AR17=\"\",\"\",入力表!AR17)","v":""},{"$f":"IF(ISERROR(VLOOKUP(入力表!AS17,$AU$2:$AV$5,2,FALSE)),\"\",VLOOKUP(入力表!AS17,$AU$2:$AV$5,2,FALSE))","v":""},{"$f":"IF(入力表!AT17=\"\",\"\",入力表!AT17)","v":""},{"$f":"IF(入力表!AU17=\"\",\"\",入力表!AU17)","v":""},{"$f":"IF(入力表!BB17=\"\",\"\",入力表!BB17)","v":""},{"$f":"IF(入力表!BC17=\"\",\"\",入力表!BC17)","v":""},{"$f":"IF(ISERROR(VLOOKUP(IF(AE5=\"\",\"\",入力表!BD17),$AU$2:$AV$5,2,FALSE)),\"\",VLOOKUP(IF(AE5=\"\",\"\",入力表!BD17),$AU$2:$AV$5,2,FALSE))","v":""},{"$f":"IF(入力表!BE17=\"\",\"\",入力表!BE17)","v":""},{"$f":"IF(入力表!BF17=\"\",\"\",入力表!BF17)","v":""},{"$f":"IF(ISERROR(VLOOKUP(入力表!BG17,$AU$2:$AV$5,2,FALSE)),\"\",VLOOKUP(入力表!BG17,$AU$2:$AV$5,2,FALSE))","v":""},{"$f":"IF(入力表!BH17=\"\",\"\",入力表!BH17)","v":""},{"$f":"IF(入力表!BI17=\"\",\"\",入力表!BI17)","v":""},{"$f":"IF(入力表!BP17=\"\",\"\",入力表!BP17)","v":""},{"$f":"IF(入力表!BQ17=\"\",\"\",入力表!BQ17)","v":""},{"$f":"IF(ISERROR(VLOOKUP(IF(AM5=\"\",\"\",入力表!BR17),$AU$2:$AV$5,2,FALSE)),\"\",VLOOKUP(IF(AM5=\"\",\"\",入力表!BR17),$AU$2:$AV$5,2,FALSE))","v":""},{"$f":"IF(入力表!BS17=\"\",\"\",入力表!BS17)","v":""},{"$f":"IF(入力表!BT17=\"\",\"\",入力表!BT17)","v":""},{"$f":"IF(ISERROR(VLOOKUP(入力表!BU17,$AU$2:$AV$5,2,FALSE)),\"\",VLOOKUP(入力表!BU17,$AU$2:$AV$5,2,FALSE))","v":""},{"$f":"IF(入力表!BV17=\"\",\"\",入力表!BV17)","v":""},{"$f":"IF(入力表!BW17=\"\",\"\",入力表!BW17)","v":""},null,null,null,null,"男子C",{"$f":"CONCATENATE(入力表!BL4,\".\",入力表!BN4,入力表!BO4,\".\",入力表!BQ4,入力表!BR4)","v":".."}]
[5,{"$f":"IF(入力表!H18=0,\"\",入力表!H18)","v":""},{"$f":"IF(入力表!J18=0,\"\",入力表!J18)","v":""},{"$f":"IF(入力表!N18=0,\"\",入力表!N18)","v":""},{"$f":"RIGHT(入力表!AA18,2)","v":""},{"$f":"IF(入力表!U18=0,\"\",入力表!U18)","v":""},{"$f":"IF(B6=\"\",\"\",入力表!$N$8)","v":""},{"$f":"IF(B6=\"\",\"\",入力表!$L$4)","v":""},{"$f":"IF(B6=\"\",\"\",入力表!AE18)","v":""},{"$f":"IF(入力表!AH18=\"\",\"\",入力表!AH18)","v":""},"",{"$f":"IF(入力表!AV18=\"\",\"\",入力表!AV18)","v":""},"",{"$f":"IF(入力表!BJ18=\"\",\"\",入力表!BJ18)","v":""},"",{"$f":"IF(入力表!BX18=\"\",\"\",入力表!BX18)","v":""},"",{"$f":"IF(入力表!CA18=\"\",\"\",入力表!CA18)","v":""},"",null,null,{"$f":"IF(入力表!AN18=\"\",\"\",入力表!AN18)","v":""},{"$f":"IF(入力表!AO18=\"\",\"\",入力表!AO18)","v":""},{"$f":"IF(ISERROR(VLOOKUP(IF(W6=\"\",\"\",入力表!AP18),$AU$2:$AV$5,2,FALSE)),\"\",VLOOKUP(IF(W6=\"\",\"\",入力表!AS18),$AU$2:$AV$5,2,FALSE))","v":""},{"$f":"IF(入力表!AQ18=\"\",\"\",入力表!AQ18)","v":""},{"$f":"IF(入力表!AR18=\"\",\"\",入力表!AR18)","v":""},{"$f":"IF(ISERROR(VLOOKUP(入力表!AS18,$AU$2:$AV$5,2,FALSE)),\"\",VLOOKUP(入力表!AS18,$AU$2:$AV$5,2,FALSE))","v":""},{"$f":"IF(入力表!AT18=\"\",\"\",入力表!AT18)","v":""},{"$f":"IF(入力表!AU18=\"\",\"\",入力表!AU18)","v":""},{"$f":"IF(入力表!BB18=\"\",\"\",入力表!BB18)","v":""},{"$f":"IF(入力表!BC18=\"\",\"\",入力表!BC18)","v":""},{"$f":"IF(ISERROR(VLOOKUP(IF(AE6=\"\",\"\",入力表!BD18),$AU$2:$AV$5,2,FALSE)),\"\",VLOOKUP(IF(AE6=\"\",\"\",入力表!BD18),$AU$2:$AV$5,2,FALSE))","v":""},{"$f":"IF(入力表!BE18=\"\",\"\",入力表!BE18)","v":""},{"$f":"IF(入力表!BF18=\"\",\"\",入力表!BF18)","v":""},{"$f":"IF(ISERROR(VLOOKUP(入力表!BG18,$AU$2:$AV$5,2,FALSE)),\"\",VLOOKUP(入力表!BG18,$AU$2:$AV$5,2,FALSE))","v":""},{"$f":"IF(入力表!BH18=\"\",\"\",入力表!BH18)","v":""},{"$f":"IF(入力表!BI18=\"\",\"\",入力表!BI18)","v":""},{"$f":"IF(入力表!BP18=\"\",\"\",入力表!BP18)","v":""},{"$f":"IF(入力表!BQ18=\"\",\"\",入力表!BQ18)","v":""},{"$f":"IF(ISERROR(VLOOKUP(IF(AM6=\"\",\"\",入力表!BR18),$AU$2:$AV$5,2,FALSE)),\"\",VLOOKUP(IF(AM6=\"\",\"\",入力表!BR18),$AU$2:$AV$5,2,FALSE))","v":""},{"$f":"IF(入力表!BS18=\"\",\"\",入力表!BS18)","v":""},{"$f":"IF(入力表!BT18=\"\",\"\",入力表!BT18)","v":""},{"$f":"IF(ISERROR(VLOOKUP(入力表!BU18,$AU$2:$AV$5,2,FALSE)),\"\",VLOOKUP(入力表!BU18,$AU$2:$AV$5,2,FALSE))","v":""},{"$f":"IF(入力表!BV18=\"\",\"\",入力表!BV18)","v":""},{"$f":"IF(入力表!BW18=\"\",\"\",入力表!BW18)","v":""},null,null,null,null,"男子D",{"$f":"CONCATENATE(入力表!BL5,\".\",入力表!BN5,入力表!BO5,\".\",入力表!BQ5,入力表!BR5)","v":".."}]
[6,{"$f":"IF(入力表!H19=0,\"\",入力表!H19)","v":""},{"$f":"IF(入力表!J19=0,\"\",入力表!J19)","v":""},{"$f":"IF(入力表!N19=0,\"\",入力表!N19)","v":""},{"$f":"RIGHT(入力表!AA19,2)","v":""},{"$f":"IF(入力表!U19=0,\"\",入力表!U19)","v":""},{"$f":"IF(B7=\"\",\"\",入力表!$N$8)","v":""},{"$f":"IF(B7=\"\",\"\",入力表!$L$4)","v":""},{"$f":"IF(B7=\"\",\"\",入力表!AE19)","v":""},{"$f":"IF(入力表!AH19=\"\",\"\",入力表!AH19)","v":""},"",{"$f":"IF(入力表!AV19=\"\",\"\",入力表!AV19)","v":""},"",{"$f":"IF(入力表!BJ19=\"\",\"\",入力表!BJ19)","v":""},"",{"$f":"IF(入力表!BX19=\"\",\"\",入力表!BX19)","v":""},"",{"$f":"IF(入力表!CA19=\"\",\"\",入力表!CA19)","v":""},"",null,null,{"$f":"IF(入力表!AN19=\"\",\"\",入力表!AN19)","v":""},{"$f":"IF(入力表!AO19=\"\",\"\",入力表!AO19)","v":""},{"$f":"IF(ISERROR(VLOOKUP(IF(W7=\"\",\"\",入力表!AP19),$AU$2:$AV$5,2,FALSE)),\"\",VLOOKUP(IF(W7=\"\",\"\",入力表!AS19),$AU$2:$AV$5,2,FALSE))","v":""},{"$f":"IF(入力表!AQ19=\"\",\"\",入力表!AQ19)","v":""},{"$f":"IF(入力表!AR19=\"\",\"\",入力表!AR19)","v":""},{"$f":"IF(ISERROR(VLOOKUP(入力表!AS19,$AU$2:$AV$5,2,FALSE)),\"\",VLOOKUP(入力表!AS19,$AU$2:$AV$5,2,FALSE))","v":""},{"$f":"IF(入力表!AT19=\"\",\"\",入力表!AT19)","v":""},{"$f":"IF(入力表!AU19=\"\",\"\",入力表!AU19)","v":""},{"$f":"IF(入力表!BB19=\"\",\"\",入力表!BB19)","v":""},{"$f":"IF(入力表!BC19=\"\",\"\",入力表!BC19)","v":""},{"$f":"IF(ISERROR(VLOOKUP(IF(AE7=\"\",\"\",入力表!BD19),$AU$2:$AV$5,2,FALSE)),\"\",VLOOKUP(IF(AE7=\"\",\"\",入力表!BD19),$AU$2:$AV$5,2,FALSE))","v":""},{"$f":"IF(入力表!BE19=\"\",\"\",入力表!BE19)","v":""},{"$f":"IF(入力表!BF19=\"\",\"\",入力表!BF19)","v":""},{"$f":"IF(ISERROR(VLOOKUP(入力表!BG19,$AU$2:$AV$5,2,FALSE)),\"\",VLOOKUP(入力表!BG19,$AU$2:$AV$5,2,FALSE))","v":""},{"$f":"IF(入力表!BH19=\"\",\"\",入力表!BH19)","v":""},{"$f":"IF(入力表!BI19=\"\",\"\",入力表!BI19)","v":""},{"$f":"IF(入力表!BP19=\"\",\"\",入力表!BP19)","v":""},{"$f":"IF(入力表!BQ19=\"\",\"\",入力表!BQ19)","v":""},{"$f":"IF(ISERROR(VLOOKUP(IF(AM7=\"\",\"\",入力表!BR19),$AU$2:$AV$5,2,FALSE)),\"\",VLOOKUP(IF(AM7=\"\",\"\",入力表!BR19),$AU$2:$AV$5,2,FALSE))","v":""},{"$f":"IF(入力表!BS19=\"\",\"\",入力表!BS19)","v":""},{"$f":"IF(入力表!BT19=\"\",\"\",入力表!BT19)","v":""},{"$f":"IF(ISERROR(VLOOKUP(入力表!BU19,$AU$2:$AV$5,2,FALSE)),\"\",VLOOKUP(入力表!BU19,$AU$2:$AV$5,2,FALSE))","v":""},{"$f":"IF(入力表!BV19=\"\",\"\",入力表!BV19)","v":""},{"$f":"IF(入力表!BW19=\"\",\"\",入力表!BW19)","v":""},null,null,null,null,"男子E",{"$f":"CONCATENATE(入力表!BL6,\".\",入力表!BN6,入力表!BO6,\".\",入力表!BQ6,入力表!BR6)","v":".."}]
[7,{"$f":"IF(入力表!H20=0,\"\",入力表!H20)","v":""},{"$f":"IF(入力表!J20=0,\"\",入力表!J20)","v":""},{"$f":"IF(入力表!N20=0,\"\",入力表!N20)","v":""},{"$f":"RIGHT(入力表!AA20,2)","v":""},{"$f":"IF(入力表!U20=0,\"\",入力表!U20)","v":""},{"$f":"IF(B8=\"\",\"\",入力表!$N$8)","v":""},{"$f":"IF(B8=\"\",\"\",入力表!$L$4)","v":""},{"$f":"IF(B8=\"\",\"\",入力表!AE20)","v":""},{"$f":"IF(入力表!AH20=\"\",\"\",入力表!AH20)","v":""},"",{"$f":"IF(入力表!AV20=\"\",\"\",入力表!AV20)","v":""},"",{"$f":"IF(入力表!BJ20=\"\",\"\",入力表!BJ20)","v":""},"",{"$f":"IF(入力表!BX20=\"\",\"\",入力表!BX20)","v":""},"",{"$f":"IF(入力表!CA20=\"\",\"\",入力表!CA20)","v":""},"",null,null,{"$f":"IF(入力表!AN20=\"\",\"\",入力表!AN20)","v":""},{"$f":"IF(入力表!AO20=\"\",\"\",入力表!AO20)","v":""},{"$f":"IF(ISERROR(VLOOKUP(IF(W8=\"\",\"\",入力表!AP20),$AU$2:$AV$5,2,FALSE)),\"\",VLOOKUP(IF(W8=\"\",\"\",入力表!AS20),$AU$2:$AV$5,2,FALSE))","v":""},{"$f":"IF(入力表!AQ20=\"\",\"\",入力表!AQ20)","v":""},{"$f":"IF(入力表!AR20=\"\",\"\",入力表!AR20)","v":""},{"$f":"IF(ISERROR(VLOOKUP(入力表!AS20,$AU$2:$AV$5,2,FALSE)),\"\",VLOOKUP(入力表!AS20,$AU$2:$AV$5,2,FALSE))","v":""},{"$f":"IF(入力表!AT20=\"\",\"\",入力表!AT20)","v":""},{"$f":"IF(入力表!AU20=\"\",\"\",入力表!AU20)","v":""},{"$f":"IF(入力表!BB20=\"\",\"\",入力表!BB20)","v":""},{"$f":"IF(入力表!BC20=\"\",\"\",入力表!BC20)","v":""},{"$f":"IF(ISERROR(VLOOKUP(IF(AE8=\"\",\"\",入力表!BD20),$AU$2:$AV$5,2,FALSE)),\"\",VLOOKUP(IF(AE8=\"\",\"\",入力表!BD20),$AU$2:$AV$5,2,FALSE))","v":""},{"$f":"IF(入力表!BE20=\"\",\"\",入力表!BE20)","v":""},{"$f":"IF(入力表!BF20=\"\",\"\",入力表!BF20)","v":""},{"$f":"IF(ISERROR(VLOOKUP(入力表!BG20,$AU$2:$AV$5,2,FALSE)),\"\",VLOOKUP(入力表!BG20,$AU$2:$AV$5,2,FALSE))","v":""},{"$f":"IF(入力表!BH20=\"\",\"\",入力表!BH20)","v":""},{"$f":"IF(入力表!BI20=\"\",\"\",入力表!BI20)","v":""},{"$f":"IF(入力表!BP20=\"\",\"\",入力表!BP20)","v":""},{"$f":"IF(入力表!BQ20=\"\",\"\",入力表!BQ20)","v":""},{"$f":"IF(ISERROR(VLOOKUP(IF(AM8=\"\",\"\",入力表!BR20),$AU$2:$AV$5,2,FALSE)),\"\",VLOOKUP(IF(AM8=\"\",\"\",入力表!BR20),$AU$2:$AV$5,2,FALSE))","v":""},{"$f":"IF(入力表!BS20=\"\",\"\",入力表!BS20)","v":""},{"$f":"IF(入力表!BT20=\"\",\"\",入力表!BT20)","v":""},{"$f":"IF(ISERROR(VLOOKUP(入力表!BU20,$AU$2:$AV$5,2,FALSE)),\"\",VLOOKUP(入力表!BU20,$AU$2:$AV$5,2,FALSE))","v":""},{"$f":"IF(入力表!BV20=\"\",\"\",入力表!BV20)","v":""},{"$f":"IF(入力表!BW20=\"\",\"\",入力表!BW20)","v":""},null,null,null,null,"男子F",{"$f":"CONCATENATE(入力表!BL7,\".\",入力表!BN7,入力表!BO7,\".\",入力表!BQ7,入力表!BR7)","v":".."}]
[8,{"$f":"IF(入力表!H21=0,\"\",入力表!H21)","v":""},{"$f":"IF(入力表!J21=0,\"\",入力表!J21)","v":""},{"$f":"IF(入力表!N21=0,\"\",入力表!N21)","v":""},{"$f":"RIGHT(入力表!AA21,2)","v":""},{"$f":"IF(入力表!U21=0,\"\",入力表!U21)","v":""},{"$f":"IF(B9=\"\",\"\",入力表!$N$8)","v":""},{"$f":"IF(B9=\"\",\"\",入力表!$L$4)","v":""},{"$f":"IF(B9=\"\",\"\",入力表!AE21)","v":""},{"$f":"IF(入力表!AH21=\"\",\"\",入力表!AH21)","v":""},"",{"$f":"IF(入力表!AV21=\"\",\"\",入力表!AV21)","v":""},"",{"$f":"IF(入力表!BJ21=\"\",\"\",入力表!BJ21)","v":""},"",{"$f":"IF(入力表!BX21=\"\",\"\",入力表!BX21)","v":""},"",{"$f":"IF(入力表!CA21=\"\",\"\",入力表!CA21)","v":""},"",null,null,{"$f":"IF(入力表!AN21=\"\",\"\",入力表!AN21)","v":""},{"$f":"IF(入力表!AO21=\"\",\"\",入力表!AO21)","v":""},{"$f":"IF(ISERROR(VLOOKUP(IF(W9=\"\",\"\",入力表!AP21),$AU$2:$AV$5,2,FALSE)),\"\",VLOOKUP(IF(W9=\"\",\"\",入力表!AS21),$AU$2:$AV$5,2,FALSE))","v":""},{"$f":"IF(入力表!AQ21=\"\",\"\",入力表!AQ21)","v":""},{"$f":"IF(入力表!AR21=\"\",\"\",入力表!AR21)","v":""},{"$f":"IF(ISERROR(VLOOKUP(入力表!AS21,$AU$2:$AV$5,2,FALSE)),\"\",VLOOKUP(入力表!AS21,$AU$2:$AV$5,2,FALSE))","v":""},{"$f":"IF(入力表!AT21=\"\",\"\",入力表!AT21)","v":""},{"$f":"IF(入力表!AU21=\"\",\"\",入力表!AU21)","v":""},{"$f":"IF(入力表!BB21=\"\",\"\",入力表!BB21)","v":""},{"$f":"IF(入力表!BC21=\"\",\"\",入力表!BC21)","v":""},{"$f":"IF(ISERROR(VLOOKUP(IF(AE9=\"\",\"\",入力表!BD21),$AU$2:$AV$5,2,FALSE)),\"\",VLOOKUP(IF(AE9=\"\",\"\",入力表!BD21),$AU$2:$AV$5,2,FALSE))","v":""},{"$f":"IF(入力表!BE21=\"\",\"\",入力表!BE21)","v":""},{"$f":"IF(入力表!BF21=\"\",\"\",入力表!BF21)","v":""},{"$f":"IF(ISERROR(VLOOKUP(入力表!BG21,$AU$2:$AV$5,2,FALSE)),\"\",VLOOKUP(入力表!BG21,$AU$2:$AV$5,2,FALSE))","v":""},{"$f":"IF(入力表!BH21=\"\",\"\",入力表!BH21)","v":""},{"$f":"IF(入力表!BI21=\"\",\"\",入力表!BI21)","v":""},{"$f":"IF(入力表!BP21=\"\",\"\",入力表!BP21)","v":""},{"$f":"IF(入力表!BQ21=\"\",\"\",入力表!BQ21)","v":""},{"$f":"IF(ISERROR(VLOOKUP(IF(AM9=\"\",\"\",入力表!BR21),$AU$2:$AV$5,2,FALSE)),\"\",VLOOKUP(IF(AM9=\"\",\"\",入力表!BR21),$AU$2:$AV$5,2,FALSE))","v":""},{"$f":"IF(入力表!BS21=\"\",\"\",入力表!BS21)","v":""},{"$f":"IF(入力表!BT21=\"\",\"\",入力表!BT21)","v":""},{"$f":"IF(ISERROR(VLOOKUP(入力表!BU21,$AU$2:$AV$5,2,FALSE)),\"\",VLOOKUP(入力表!BU21,$AU$2:$AV$5,2,FALSE))","v":""},{"$f":"IF(入力表!BV21=\"\",\"\",入力表!BV21)","v":""},{"$f":"IF(入力表!BW21=\"\",\"\",入力表!BW21)","v":""},null,null,null,null,"女子A",{"$f":"CONCATENATE(入力表!BW2,\".\",入力表!BY2,入力表!BZ2,\".\",入力表!CB2,入力表!CC2)","v":".."}]
[9,{"$f":"IF(入力表!H22=0,\"\",入力表!H22)","v":""},{"$f":"IF(入力表!J22=0,\"\",入力表!J22)","v":""},{"$f":"IF(入力表!N22=0,\"\",入力表!N22)","v":""},{"$f":"RIGHT(入力表!AA22,2)","v":""},{"$f":"IF(入力表!U22=0,\"\",入力表!U22)","v":""},{"$f":"IF(B10=\"\",\"\",入力表!$N$8)","v":""},{"$f":"IF(B10=\"\",\"\",入力表!$L$4)","v":""},{"$f":"IF(B10=\"\",\"\",入力表!AE22)","v":""},{"$f":"IF(入力表!AH22=\"\",\"\",入力表!AH22)","v":""},"",{"$f":"IF(入力表!AV22=\"\",\"\",入力表!AV22)","v":""},"",{"$f":"IF(入力表!BJ22=\"\",\"\",入力表!BJ22)","v":""},"",{"$f":"IF(入力表!BX22=\"\",\"\",入力表!BX22)","v":""},"",{"$f":"IF(入力表!CA22=\"\",\"\",入力表!CA22)","v":""},"",null,null,{"$f":"IF(入力表!AN22=\"\",\"\",入力表!AN22)","v":""},{"$f":"IF(入力表!AO22=\"\",\"\",入力表!AO22)","v":""},{"$f":"IF(ISERROR(VLOOKUP(IF(W10=\"\",\"\",入力表!AP22),$AU$2:$AV$5,2,FALSE)),\"\",VLOOKUP(IF(W10=\"\",\"\",入力表!AS22),$AU$2:$AV$5,2,FALSE))","v":""},{"$f":"IF(入力表!AQ22=\"\",\"\",入力表!AQ22)","v":""},{"$f":"IF(入力表!AR22=\"\",\"\",入力表!AR22)","v":""},{"$f":"IF(ISERROR(VLOOKUP(入力表!AS22,$AU$2:$AV$5,2,FALSE)),\"\",VLOOKUP(入力表!AS22,$AU$2:$AV$5,2,FALSE))","v":""},{"$f":"IF(入力表!AT22=\"\",\"\",入力表!AT22)","v":""},{"$f":"IF(入力表!AU22=\"\",\"\",入力表!AU22)","v":""},{"$f":"IF(入力表!BB22=\"\",\"\",入力表!BB22)","v":""},{"$f":"IF(入力表!BC22=\"\",\"\",入力表!BC22)","v":""},{"$f":"IF(ISERROR(VLOOKUP(IF(AE10=\"\",\"\",入力表!BD22),$AU$2:$AV$5,2,FALSE)),\"\",VLOOKUP(IF(AE10=\"\",\"\",入力表!BD22),$AU$2:$AV$5,2,FALSE))","v":""},{"$f":"IF(入力表!BE22=\"\",\"\",入力表!BE22)","v":""},{"$f":"IF(入力表!BF22=\"\",\"\",入力表!BF22)","v":""},{"$f":"IF(ISERROR(VLOOKUP(入力表!BG22,$AU$2:$AV$5,2,FALSE)),\"\",VLOOKUP(入力表!BG22,$AU$2:$AV$5,2,FALSE))","v":""},{"$f":"IF(入力表!BH22=\"\",\"\",入力表!BH22)","v":""},{"$f":"IF(入力表!BI22=\"\",\"\",入力表!BI22)","v":""},{"$f":"IF(入力表!BP22=\"\",\"\",入力表!BP22)","v":""},{"$f":"IF(入力表!BQ22=\"\",\"\",入力表!BQ22)","v":""},{"$f":"IF(ISERROR(VLOOKUP(IF(AM10=\"\",\"\",入力表!BR22),$AU$2:$AV$5,2,FALSE)),\"\",VLOOKUP(IF(AM10=\"\",\"\",入力表!BR22),$AU$2:$AV$5,2,FALSE))","v":""},{"$f":"IF(入力表!BS22=\"\",\"\",入力表!BS22)","v":""},{"$f":"IF(入力表!BT22=\"\",\"\",入力表!BT22)","v":""},{"$f":"IF(ISERROR(VLOOKUP(入力表!BU22,$AU$2:$AV$5,2,FALSE)),\"\",VLOOKUP(入力表!BU22,$AU$2:$AV$5,2,FALSE))","v":""},{"$f":"IF(入力表!BV22=\"\",\"\",入力表!BV22)","v":""},{"$f":"IF(入力表!BW22=\"\",\"\",入力表!BW22)","v":""},null,null,null,null,"女子B",{"$f":"CONCATENATE(入力表!BW3,\".\",入力表!BY3,入力表!BZ3,\".\",入力表!CB3,入力表!CC3)","v":".."}]
[10,{"$f":"IF(入力表!H23=0,\"\",入力表!H23)","v":""},{"$f":"IF(入力表!J23=0,\"\",入力表!J23)","v":""},{"$f":"IF(入力表!N23=0,\"\",入力表!N23)","v":""},{"$f":"RIGHT(入力表!AA23,2)","v":""},{"$f":"IF(入力表!U23=0,\"\",入力表!U23)","v":""},{"$f":"IF(B11=\"\",\"\",入力表!$N$8)","v":""},{"$f":"IF(B11=\"\",\"\",入力表!$L$4)","v":""},{"$f":"IF(B11=\"\",\"\",入力表!AE23)","v":""},{"$f":"IF(入力表!AH23=\"\",\"\",入力表!AH23)","v":""},"",{"$f":"IF(入力表!AV23=\"\",\"\",入力表!AV23)","v":""},"",{"$f":"IF(入力表!BJ23=\"\",\"\",入力表!BJ23)","v":""},"",{"$f":"IF(入力表!BX23=\"\",\"\",入力表!BX23)","v":""},"",{"$f":"IF(入力表!CA23=\"\",\"\",入力表!CA23)","v":""},"",null,null,{"$f":"IF(入力表!AN23=\"\",\"\",入力表!AN23)","v":""},{"$f":"IF(入力表!AO23=\"\",\"\",入力表!AO23)","v":""},{"$f":"IF(ISERROR(VLOOKUP(IF(W11=\"\",\"\",入力表!AP23),$AU$2:$AV$5,2,FALSE)),\"\",VLOOKUP(IF(W11=\"\",\"\",入力表!AS23),$AU$2:$AV$5,2,FALSE))","v":""},{"$f":"IF(入力表!AQ23=\"\",\"\",入力表!AQ23)","v":""},{"$f":"IF(入力表!AR23=\"\",\"\",入力表!AR23)","v":""},{"$f":"IF(ISERROR(VLOOKUP(入力表!AS23,$AU$2:$AV$5,2,FALSE)),\"\",VLOOKUP(入力表!AS23,$AU$2:$AV$5,2,FALSE))","v":""},{"$f":"IF(入力表!AT23=\"\",\"\",入力表!AT23)","v":""},{"$f":"IF(入力表!AU23=\"\",\"\",入力表!AU23)","v":""},{"$f":"IF(入力表!BB23=\"\",\"\",入力表!BB23)","v":""},{"$f":"IF(入力表!BC23=\"\",\"\",入力表!BC23)","v":""},{"$f":"IF(ISERROR(VLOOKUP(IF(AE11=\"\",\"\",入力表!BD23),$AU$2:$AV$5,2,FALSE)),\"\",VLOOKUP(IF(AE11=\"\",\"\",入力表!BD23),$AU$2:$AV$5,2,FALSE))","v":""},{"$f":"IF(入力表!BE23=\"\",\"\",入力表!BE23)","v":""},{"$f":"IF(入力表!BF23=\"\",\"\",入力表!BF23)","v":""},{"$f":"IF(ISERROR(VLOOKUP(入力表!BG23,$AU$2:$AV$5,2,FALSE)),\"\",VLOOKUP(入力表!BG23,$AU$2:$AV$5,2,FALSE))","v":""},{"$f":"IF(入力表!BH23=\"\",\"\",入力表!BH23)","v":""},{"$f":"IF(入力表!BI23=\"\",\"\",入力表!BI23)","v":""},{"$f":"IF(入力表!BP23=\"\",\"\",入力表!BP23)","v":""},{"$f":"IF(入力表!BQ23=\"\",\"\",入力表!BQ23)","v":""},{"$f":"IF(ISERROR(VLOOKUP(IF(AM11=\"\",\"\",入力表!BR23),$AU$2:$AV$5,2,FALSE)),\"\",VLOOKUP(IF(AM11=\"\",\"\",入力表!BR23),$AU$2:$AV$5,2,FALSE))","v":""},{"$f":"IF(入力表!BS23=\"\",\"\",入力表!BS23)","v":""},{"$f":"IF(入力表!BT23=\"\",\"\",入力表!BT23)","v":""},{"$f":"IF(ISERROR(VLOOKUP(入力表!BU23,$AU$2:$AV$5,2,FALSE)),\"\",VLOOKUP(入力表!BU23,$AU$2:$AV$5,2,FALSE))","v":""},{"$f":"IF(入力表!BV23=\"\",\"\",入力表!BV23)","v":""},{"$f":"IF(入力表!BW23=\"\",\"\",入力表!BW23)","v":""},null,null,null,null,"女子C",{"$f":"CONCATENATE(入力表!BW4,\".\",入力表!BY4,入力表!BZ4,\".\",入力表!CB4,入力表!CC4)","v":".."}]
[11,{"$f":"IF(入力表!H24=0,\"\",入力表!H24)","v":""},{"$f":"IF(入力表!J24=0,\"\",入力表!J24)","v":""},{"$f":"IF(入力表!N24=0,\"\",入力表!N24)","v":""},{"$f":"RIGHT(入力表!AA24,2)","v":""},{"$f":"IF(入力表!U24=0,\"\",入力表!U24)","v":""},{"$f":"IF(B12=\"\",\"\",入力表!$N$8)","v":""},{"$f":"IF(B12=\"\",\"\",入力表!$L$4)","v":""},{"$f":"IF(B12=\"\",\"\",入力表!AE24)","v":""},{"$f":"IF(入力表!AH24=\"\",\"\",入力表!AH24)","v":""},"",{"$f":"IF(入力表!AV24=\"\",\"\",入力表!AV24)","v":""},"",{"$f":"IF(入力表!BJ24=\"\",\"\",入力表!BJ24)","v":""},"",{"$f":"IF(入力表!BX24=\"\",\"\",入力表!BX24)","v":""},"",{"$f":"IF(入力表!CA24=\"\",\"\",入力表!CA24)","v":""},"",null,null,{"$f":"IF(入力表!AN24=\"\",\"\",入力表!AN24)","v":""},{"$f":"IF(入力表!AO24=\"\",\"\",入力表!AO24)","v":""},{"$f":"IF(ISERROR(VLOOKUP(IF(W12=\"\",\"\",入力表!AP24),$AU$2:$AV$5,2,FALSE)),\"\",VLOOKUP(IF(W12=\"\",\"\",入力表!AS24),$AU$2:$AV$5,2,FALSE))","v":""},{"$f":"IF(入力表!AQ24=\"\",\"\",入力表!AQ24)","v":""},{"$f":"IF(入力表!AR24=\"\",\"\",入力表!AR24)","v":""},{"$f":"IF(ISERROR(VLOOKUP(入力表!AS24,$AU$2:$AV$5,2,FALSE)),\"\",VLOOKUP(入力表!AS24,$AU$2:$AV$5,2,FALSE))","v":""},{"$f":"IF(入力表!AT24=\"\",\"\",入力表!AT24)","v":""},{"$f":"IF(入力表!AU24=\"\",\"\",入力表!AU24)","v":""},{"$f":"IF(入力表!BB24=\"\",\"\",入力表!BB24)","v":""},{"$f":"IF(入力表!BC24=\"\",\"\",入力表!BC24)","v":""},{"$f":"IF(ISERROR(VLOOKUP(IF(AE12=\"\",\"\",入力表!BD24),$AU$2:$AV$5,2,FALSE)),\"\",VLOOKUP(IF(AE12=\"\",\"\",入力表!BD24),$AU$2:$AV$5,2,FALSE))","v":""},{"$f":"IF(入力表!BE24=\"\",\"\",入力表!BE24)","v":""},{"$f":"IF(入力表!BF24=\"\",\"\",入力表!BF24)","v":""},{"$f":"IF(ISERROR(VLOOKUP(入力表!BG24,$AU$2:$AV$5,2,FALSE)),\"\",VLOOKUP(入力表!BG24,$AU$2:$AV$5,2,FALSE))","v":""},{"$f":"IF(入力表!BH24=\"\",\"\",入力表!BH24)","v":""},{"$f":"IF(入力表!BI24=\"\",\"\",入力表!BI24)","v":""},{"$f":"IF(入力表!BP24=\"\",\"\",入力表!BP24)","v":""},{"$f":"IF(入力表!BQ24=\"\",\"\",入力表!BQ24)","v":""},{"$f":"IF(ISERROR(VLOOKUP(IF(AM12=\"\",\"\",入力表!BR24),$AU$2:$AV$5,2,FALSE)),\"\",VLOOKUP(IF(AM12=\"\",\"\",入力表!BR24),$AU$2:$AV$5,2,FALSE))","v":""},{"$f":"IF(入力表!BS24=\"\",\"\",入力表!BS24)","v":""},{"$f":"IF(入力表!BT24=\"\",\"\",入力表!BT24)","v":""},{"$f":"IF(ISERROR(VLOOKUP(入力表!BU24,$AU$2:$AV$5,2,FALSE)),\"\",VLOOKUP(入力表!BU24,$AU$2:$AV$5,2,FALSE))","v":""},{"$f":"IF(入力表!BV24=\"\",\"\",入力表!BV24)","v":""},{"$f":"IF(入力表!BW24=\"\",\"\",入力表!BW24)","v":""},null,null,null,null,"女子D",{"$f":"CONCATENATE(入力表!BW5,\".\",入力表!BY5,入力表!BZ5,\".\",入力表!CB5,入力表!CC5)","v":".."}]
[12,{"$f":"IF(入力表!H25=0,\"\",入力表!H25)","v":""},{"$f":"IF(入力表!J25=0,\"\",入力表!J25)","v":""},{"$f":"IF(入力表!N25=0,\"\",入力表!N25)","v":""},{"$f":"RIGHT(入力表!AA25,2)","v":""},{"$f":"IF(入力表!U25=0,\"\",入力表!U25)","v":""},{"$f":"IF(B13=\"\",\"\",入力表!$N$8)","v":""},{"$f":"IF(B13=\"\",\"\",入力表!$L$4)","v":""},{"$f":"IF(B13=\"\",\"\",入力表!AE25)","v":""},{"$f":"IF(入力表!AH25=\"\",\"\",入力表!AH25)","v":""},"",{"$f":"IF(入力表!AV25=\"\",\"\",入力表!AV25)","v":""},"",{"$f":"IF(入力表!BJ25=\"\",\"\",入力表!BJ25)","v":""},"",{"$f":"IF(入力表!BX25=\"\",\"\",入力表!BX25)","v":""},"",{"$f":"IF(入力表!CA25=\"\",\"\",入力表!CA25)","v":""},"",null,null,{"$f":"IF(入力表!AN25=\"\",\"\",入力表!AN25)","v":""},{"$f":"IF(入力表!AO25=\"\",\"\",入力表!AO25)","v":""},{"$f":"IF(ISERROR(VLOOKUP(IF(W13=\"\",\"\",入力表!AP25),$AU$2:$AV$5,2,FALSE)),\"\",VLOOKUP(IF(W13=\"\",\"\",入力表!AS25),$AU$2:$AV$5,2,FALSE))","v":""},{"$f":"IF(入力表!AQ25=\"\",\"\",入力表!AQ25)","v":""},{"$f":"IF(入力表!AR25=\"\",\"\",入力表!AR25)","v":""},{"$f":"IF(ISERROR(VLOOKUP(入力表!AS25,$AU$2:$AV$5,2,FALSE)),\"\",VLOOKUP(入力表!AS25,$AU$2:$AV$5,2,FALSE))","v":""},{"$f":"IF(入力表!AT25=\"\",\"\",入力表!AT25)","v":""},{"$f":"IF(入力表!AU25=\"\",\"\",入力表!AU25)","v":""},{"$f":"IF(入力表!BB25=\"\",\"\",入力表!BB25)","v":""},{"$f":"IF(入力表!BC25=\"\",\"\",入力表!BC25)","v":""},{"$f":"IF(ISERROR(VLOOKUP(IF(AE13=\"\",\"\",入力表!BD25),$AU$2:$AV$5,2,FALSE)),\"\",VLOOKUP(IF(AE13=\"\",\"\",入力表!BD25),$AU$2:$AV$5,2,FALSE))","v":""},{"$f":"IF(入力表!BE25=\"\",\"\",入力表!BE25)","v":""},{"$f":"IF(入力表!BF25=\"\",\"\",入力表!BF25)","v":""},{"$f":"IF(ISERROR(VLOOKUP(入力表!BG25,$AU$2:$AV$5,2,FALSE)),\"\",VLOOKUP(入力表!BG25,$AU$2:$AV$5,2,FALSE))","v":""},{"$f":"IF(入力表!BH25=\"\",\"\",入力表!BH25)","v":""},{"$f":"IF(入力表!BI25=\"\",\"\",入力表!BI25)","v":""},{"$f":"IF(入力表!BP25=\"\",\"\",入力表!BP25)","v":""},{"$f":"IF(入力表!BQ25=\"\",\"\",入力表!BQ25)","v":""},{"$f":"IF(ISERROR(VLOOKUP(IF(AM13=\"\",\"\",入力表!BR25),$AU$2:$AV$5,2,FALSE)),\"\",VLOOKUP(IF(AM13=\"\",\"\",入力表!BR25),$AU$2:$AV$5,2,FALSE))","v":""},{"$f":"IF(入力表!BS25=\"\",\"\",入力表!BS25)","v":""},{"$f":"IF(入力表!BT25=\"\",\"\",入力表!BT25)","v":""},{"$f":"IF(ISERROR(VLOOKUP(入力表!BU25,$AU$2:$AV$5,2,FALSE)),\"\",VLOOKUP(入力表!BU25,$AU$2:$AV$5,2,FALSE))","v":""},{"$f":"IF(入力表!BV25=\"\",\"\",入力表!BV25)","v":""},{"$f":"IF(入力表!BW25=\"\",\"\",入力表!BW25)","v":""},null,null,null,null,"女子E",{"$f":"CONCATENATE(入力表!BW6,\".\",入力表!BY6,入力表!BZ6,\".\",入力表!CB6,入力表!CC6)","v":".."}]
[13,{"$f":"IF(入力表!H26=0,\"\",入力表!H26)","v":""},{"$f":"IF(入力表!J26=0,\"\",入力表!J26)","v":""},{"$f":"IF(入力表!N26=0,\"\",入力表!N26)","v":""},{"$f":"RIGHT(入力表!AA26,2)","v":""},{"$f":"IF(入力表!U26=0,\"\",入力表!U26)","v":""},{"$f":"IF(B14=\"\",\"\",入力表!$N$8)","v":""},{"$f":"IF(B14=\"\",\"\",入力表!$L$4)","v":""},{"$f":"IF(B14=\"\",\"\",入力表!AE26)","v":""},{"$f":"IF(入力表!AH26=\"\",\"\",入力表!AH26)","v":""},"",{"$f":"IF(入力表!AV26=\"\",\"\",入力表!AV26)","v":""},"",{"$f":"IF(入力表!BJ26=\"\",\"\",入力表!BJ26)","v":""},"",{"$f":"IF(入力表!BX26=\"\",\"\",入力表!BX26)","v":""},"",{"$f":"IF(入力表!CA26=\"\",\"\",入力表!CA26)","v":""},"",null,null,{"$f":"IF(入力表!AN26=\"\",\"\",入力表!AN26)","v":""},{"$f":"IF(入力表!AO26=\"\",\"\",入力表!AO26)","v":""},{"$f":"IF(ISERROR(VLOOKUP(IF(W14=\"\",\"\",入力表!AP26),$AU$2:$AV$5,2,FALSE)),\"\",VLOOKUP(IF(W14=\"\",\"\",入力表!AS26),$AU$2:$AV$5,2,FALSE))","v":""},{"$f":"IF(入力表!AQ26=\"\",\"\",入力表!AQ26)","v":""},{"$f":"IF(入力表!AR26=\"\",\"\",入力表!AR26)","v":""},{"$f":"IF(ISERROR(VLOOKUP(入力表!AS26,$AU$2:$AV$5,2,FALSE)),\"\",VLOOKUP(入力表!AS26,$AU$2:$AV$5,2,FALSE))","v":""},{"$f":"IF(入力表!AT26=\"\",\"\",入力表!AT26)","v":""},{"$f":"IF(入力表!AU26=\"\",\"\",入力表!AU26)","v":""},{"$f":"IF(入力表!BB26=\"\",\"\",入力表!BB26)","v":""},{"$f":"IF(入力表!BC26=\"\",\"\",入力表!BC26)","v":""},{"$f":"IF(ISERROR(VLOOKUP(IF(AE14=\"\",\"\",入力表!BD26),$AU$2:$AV$5,2,FALSE)),\"\",VLOOKUP(IF(AE14=\"\",\"\",入力表!BD26),$AU$2:$AV$5,2,FALSE))","v":""},{"$f":"IF(入力表!BE26=\"\",\"\",入力表!BE26)","v":""},{"$f":"IF(入力表!BF26=\"\",\"\",入力表!BF26)","v":""},{"$f":"IF(ISERROR(VLOOKUP(入力表!BG26,$AU$2:$AV$5,2,FALSE)),\"\",VLOOKUP(入力表!BG26,$AU$2:$AV$5,2,FALSE))","v":""},{"$f":"IF(入力表!BH26=\"\",\"\",入力表!BH26)","v":""},{"$f":"IF(入力表!BI26=\"\",\"\",入力表!BI26)","v":""},{"$f":"IF(入力表!BP26=\"\",\"\",入力表!BP26)","v":""},{"$f":"IF(入力表!BQ26=\"\",\"\",入力表!BQ26)","v":""},{"$f":"IF(ISERROR(VLOOKUP(IF(AM14=\"\",\"\",入力表!BR26),$AU$2:$AV$5,2,FALSE)),\"\",VLOOKUP(IF(AM14=\"\",\"\",入力表!BR26),$AU$2:$AV$5,2,FALSE))","v":""},{"$f":"IF(入力表!BS26=\"\",\"\",入力表!BS26)","v":""},{"$f":"IF(入力表!BT26=\"\",\"\",入力表!BT26)","v":""},{"$f":"IF(ISERROR(VLOOKUP(入力表!BU26,$AU$2:$AV$5,2,FALSE)),\"\",VLOOKUP(入力表!BU26,$AU$2:$AV$5,2,FALSE))","v":""},{"$f":"IF(入力表!BV26=\"\",\"\",入力表!BV26)","v":""},{"$f":"IF(入力表!BW26=\"\",\"\",入力表!BW26)","v":""},null,null,null,null,"女子F",{"$f":"CONCATENATE(入力表!BW7,\".\",入力表!BY7,入力表!BZ7,\".\",入力表!CB7,入力表!CC7)","v":".."}]
[14,{"$f":"IF(入力表!H27=0,\"\",入力表!H27)","v":""},{"$f":"IF(入力表!J27=0,\"\",入力表!J27)","v":""},{"$f":"IF(入力表!N27=0,\"\",入力表!N27)","v":""},{"$f":"RIGHT(入力表!AA27,2)","v":""},{"$f":"IF(入力表!U27=0,\"\",入力表!U27)","v":""},{"$f":"IF(B15=\"\",\"\",入力表!$N$8)","v":""},{"$f":"IF(B15=\"\",\"\",入力表!$L$4)","v":""},{"$f":"IF(B15=\"\",\"\",入力表!AE27)","v":""},{"$f":"IF(入力表!AH27=\"\",\"\",入力表!AH27)","v":""},"",{"$f":"IF(入力表!AV27=\"\",\"\",入力表!AV27)","v":""},"",{"$f":"IF(入力表!BJ27=\"\",\"\",入力表!BJ27)","v":""},"",{"$f":"IF(入力表!BX27=\"\",\"\",入力表!BX27)","v":""},"",{"$f":"IF(入力表!CA27=\"\",\"\",入力表!CA27)","v":""},"",null,null,{"$f":"IF(入力表!AN27=\"\",\"\",入力表!AN27)","v":""},{"$f":"IF(入力表!AO27=\"\",\"\",入力表!AO27)","v":""},{"$f":"IF(ISERROR(VLOOKUP(IF(W15=\"\",\"\",入力表!AP27),$AU$2:$AV$5,2,FALSE)),\"\",VLOOKUP(IF(W15=\"\",\"\",入力表!AS27),$AU$2:$AV$5,2,FALSE))","v":""},{"$f":"IF(入力表!AQ27=\"\",\"\",入力表!AQ27)","v":""},{"$f":"IF(入力表!AR27=\"\",\"\",入力表!AR27)","v":""},{"$f":"IF(ISERROR(VLOOKUP(入力表!AS27,$AU$2:$AV$5,2,FALSE)),\"\",VLOOKUP(入力表!AS27,$AU$2:$AV$5,2,FALSE))","v":""},{"$f":"IF(入力表!AT27=\"\",\"\",入力表!AT27)","v":""},{"$f":"IF(入力表!AU27=\"\",\"\",入力表!AU27)","v":""},{"$f":"IF(入力表!BB27=\"\",\"\",入力表!BB27)","v":""},{"$f":"IF(入力表!BC27=\"\",\"\",入力表!BC27)","v":""},{"$f":"IF(ISERROR(VLOOKUP(IF(AE15=\"\",\"\",入力表!BD27),$AU$2:$AV$5,2,FALSE)),\"\",VLOOKUP(IF(AE15=\"\",\"\",入力表!BD27),$AU$2:$AV$5,2,FALSE))","v":""},{"$f":"IF(入力表!BE27=\"\",\"\",入力表!BE27)","v":""},{"$f":"IF(入力表!BF27=\"\",\"\",入力表!BF27)","v":""},{"$f":"IF(ISERROR(VLOOKUP(入力表!BG27,$AU$2:$AV$5,2,FALSE)),\"\",VLOOKUP(入力表!BG27,$AU$2:$AV$5,2,FALSE))","v":""},{"$f":"IF(入力表!BH27=\"\",\"\",入力表!BH27)","v":""},{"$f":"IF(入力表!BI27=\"\",\"\",入力表!BI27)","v":""},{"$f":"IF(入力表!BP27=\"\",\"\",入力表!BP27)","v":""},{"$f":"IF(入力表!BQ27=\"\",\"\",入力表!BQ27)","v":""},{"$f":"IF(ISERROR(VLOOKUP(IF(AM15=\"\",\"\",入力表!BR27),$AU$2:$AV$5,2,FALSE)),\"\",VLOOKUP(IF(AM15=\"\",\"\",入力表!BR27),$AU$2:$AV$5,2,FALSE))","v":""},{"$f":"IF(入力表!BS27=\"\",\"\",入力表!BS27)","v":""},{"$f":"IF(入力表!BT27=\"\",\"\",入力表!BT27)","v":""},{"$f":"IF(ISERROR(VLOOKUP(入力表!BU27,$AU$2:$AV$5,2,FALSE)),\"\",VLOOKUP(入力表!BU27,$AU$2:$AV$5,2,FALSE))","v":""},{"$f":"IF(入力表!BV27=\"\",\"\",入力表!BV27)","v":""},{"$f":"IF(入力表!BW27=\"\",\"\",入力表!BW27)","v":""},null,null,null,null,"1600mR"]
[15,{"$f":"IF(入力表!H28=0,\"\",入力表!H28)","v":""},{"$f":"IF(入力表!J28=0,\"\",入力表!J28)","v":""},{"$f":"IF(入力表!N28=0,\"\",入力表!N28)","v":""},{"$f":"RIGHT(入力表!AA28,2)","v":""},{"$f":"IF(入力表!U28=0,\"\",入力表!U28)","v":""},{"$f":"IF(B16=\"\",\"\",入力表!$N$8)","v":""},{"$f":"IF(B16=\"\",\"\",入力表!$L$4)","v":""},{"$f":"IF(B16=\"\",\"\",入力表!AE28)","v":""},{"$f":"IF(入力表!AH28=\"\",\"\",入力表!AH28)","v":""},"",{"$f":"IF(入力表!AV28=\"\",\"\",入力表!AV28)","v":""},"",{"$f":"IF(入力表!BJ28=\"\",\"\",入力表!BJ28)","v":""},"",{"$f":"IF(入力表!BX28=\"\",\"\",入力表!BX28)","v":""},"",{"$f":"IF(入力表!CA28=\"\",\"\",入力表!CA28)","v":""},"",null,null,{"$f":"IF(入力表!AN28=\"\",\"\",入力表!AN28)","v":""},{"$f":"IF(入力表!AO28=\"\",\"\",入力表!AO28)","v":""},{"$f":"IF(ISERROR(VLOOKUP(IF(W16=\"\",\"\",入力表!AP28),$AU$2:$AV$5,2,FALSE)),\"\",VLOOKUP(IF(W16=\"\",\"\",入力表!AS28),$AU$2:$AV$5,2,FALSE))","v":""},{"$f":"IF(入力表!AQ28=\"\",\"\",入力表!AQ28)","v":""},{"$f":"IF(入力表!AR28=\"\",\"\",入力表!AR28)","v":""},{"$f":"IF(ISERROR(VLOOKUP(入力表!AS28,$AU$2:$AV$5,2,FALSE)),\"\",VLOOKUP(入力表!AS28,$AU$2:$AV$5,2,FALSE))","v":""},{"$f":"IF(入力表!AT28=\"\",\"\",入力表!AT28)","v":""},{"$f":"IF(入力表!AU28=\"\",\"\",入力表!AU28)","v":""},{"$f":"IF(入力表!BB28=\"\",\"\",入力表!BB28)","v":""},{"$f":"IF(入力表!BC28=\"\",\"\",入力表!BC28)","v":""},{"$f":"IF(ISERROR(VLOOKUP(IF(AE16=\"\",\"\",入力表!BD28),$AU$2:$AV$5,2,FALSE)),\"\",VLOOKUP(IF(AE16=\"\",\"\",入力表!BD28),$AU$2:$AV$5,2,FALSE))","v":""},{"$f":"IF(入力表!BE28=\"\",\"\",入力表!BE28)","v":""},{"$f":"IF(入力表!BF28=\"\",\"\",入力表!BF28)","v":""},{"$f":"IF(ISERROR(VLOOKUP(入力表!BG28,$AU$2:$AV$5,2,FALSE)),\"\",VLOOKUP(入力表!BG28,$AU$2:$AV$5,2,FALSE))","v":""},{"$f":"IF(入力表!BH28=\"\",\"\",入力表!BH28)","v":""},{"$f":"IF(入力表!BI28=\"\",\"\",入力表!BI28)","v":""},{"$f":"IF(入力表!BP28=\"\",\"\",入力表!BP28)","v":""},{"$f":"IF(入力表!BQ28=\"\",\"\",入力表!BQ28)","v":""},{"$f":"IF(ISERROR(VLOOKUP(IF(AM16=\"\",\"\",入力表!BR28),$AU$2:$AV$5,2,FALSE)),\"\",VLOOKUP(IF(AM16=\"\",\"\",入力表!BR28),$AU$2:$AV$5,2,FALSE))","v":""},{"$f":"IF(入力表!BS28=\"\",\"\",入力表!BS28)","v":""},{"$f":"IF(入力表!BT28=\"\",\"\",入力表!BT28)","v":""},{"$f":"IF(ISERROR(VLOOKUP(入力表!BU28,$AU$2:$AV$5,2,FALSE)),\"\",VLOOKUP(入力表!BU28,$AU$2:$AV$5,2,FALSE))","v":""},{"$f":"IF(入力表!BV28=\"\",\"\",入力表!BV28)","v":""},{"$f":"IF(入力表!BW28=\"\",\"\",入力表!BW28)","v":""},null,null,null,null,"男子A",{"$f":"CONCATENATE(入力表!BL9,\".\",入力表!BN9,入力表!BO9,\".\",入力表!BQ9,入力表!BR9)","v":".."}]
[16,{"$f":"IF(入力表!H29=0,\"\",入力表!H29)","v":""},{"$f":"IF(入力表!J29=0,\"\",入力表!J29)","v":""},{"$f":"IF(入力表!N29=0,\"\",入力表!N29)","v":""},{"$f":"RIGHT(入力表!AA29,2)","v":""},{"$f":"IF(入力表!U29=0,\"\",入力表!U29)","v":""},{"$f":"IF(B17=\"\",\"\",入力表!$N$8)","v":""},{"$f":"IF(B17=\"\",\"\",入力表!$L$4)","v":""},{"$f":"IF(B17=\"\",\"\",入力表!AE29)","v":""},{"$f":"IF(入力表!AH29=\"\",\"\",入力表!AH29)","v":""},"",{"$f":"IF(入力表!AV29=\"\",\"\",入力表!AV29)","v":""},"",{"$f":"IF(入力表!BJ29=\"\",\"\",入力表!BJ29)","v":""},"",{"$f":"IF(入力表!BX29=\"\",\"\",入力表!BX29)","v":""},"",{"$f":"IF(入力表!CA29=\"\",\"\",入力表!CA29)","v":""},"",null,null,{"$f":"IF(入力表!AN29=\"\",\"\",入力表!AN29)","v":""},{"$f":"IF(入力表!AO29=\"\",\"\",入力表!AO29)","v":""},{"$f":"IF(ISERROR(VLOOKUP(IF(W17=\"\",\"\",入力表!AP29),$AU$2:$AV$5,2,FALSE)),\"\",VLOOKUP(IF(W17=\"\",\"\",入力表!AS29),$AU$2:$AV$5,2,FALSE))","v":""},{"$f":"IF(入力表!AQ29=\"\",\"\",入力表!AQ29)","v":""},{"$f":"IF(入力表!AR29=\"\",\"\",入力表!AR29)","v":""},{"$f":"IF(ISERROR(VLOOKUP(入力表!AS29,$AU$2:$AV$5,2,FALSE)),\"\",VLOOKUP(入力表!AS29,$AU$2:$AV$5,2,FALSE))","v":""},{"$f":"IF(入力表!AT29=\"\",\"\",入力表!AT29)","v":""},{"$f":"IF(入力表!AU29=\"\",\"\",入力表!AU29)","v":""},{"$f":"IF(入力表!BB29=\"\",\"\",入力表!BB29)","v":""},{"$f":"IF(入力表!BC29=\"\",\"\",入力表!BC29)","v":""},{"$f":"IF(ISERROR(VLOOKUP(IF(AE17=\"\",\"\",入力表!BD29),$AU$2:$AV$5,2,FALSE)),\"\",VLOOKUP(IF(AE17=\"\",\"\",入力表!BD29),$AU$2:$AV$5,2,FALSE))","v":""},{"$f":"IF(入力表!BE29=\"\",\"\",入力表!BE29)","v":""},{"$f":"IF(入力表!BF29=\"\",\"\",入力表!BF29)","v":""},{"$f":"IF(ISERROR(VLOOKUP(入力表!BG29,$AU$2:$AV$5,2,FALSE)),\"\",VLOOKUP(入力表!BG29,$AU$2:$AV$5,2,FALSE))","v":""},{"$f":"IF(入力表!BH29=\"\",\"\",入力表!BH29)","v":""},{"$f":"IF(入力表!BI29=\"\",\"\",入力表!BI29)","v":""},{"$f":"IF(入力表!BP29=\"\",\"\",入力表!BP29)","v":""},{"$f":"IF(入力表!BQ29=\"\",\"\",入力表!BQ29)","v":""},{"$f":"IF(ISERROR(VLOOKUP(IF(AM17=\"\",\"\",入力表!BR29),$AU$2:$AV$5,2,FALSE)),\"\",VLOOKUP(IF(AM17=\"\",\"\",入力表!BR29),$AU$2:$AV$5,2,FALSE))","v":""},{"$f":"IF(入力表!BS29=\"\",\"\",入力表!BS29)","v":""},{"$f":"IF(入力表!BT29=\"\",\"\",入力表!BT29)","v":""},{"$f":"IF(ISERROR(VLOOKUP(入力表!BU29,$AU$2:$AV$5,2,FALSE)),\"\",VLOOKUP(入力表!BU29,$AU$2:$AV$5,2,FALSE))","v":""},{"$f":"IF(入力表!BV29=\"\",\"\",入力表!BV29)","v":""},{"$f":"IF(入力表!BW29=\"\",\"\",入力表!BW29)","v":""},null,null,null,null,"男子B",{"$f":"CONCATENATE(入力表!BL10,\".\",入力表!BN10,入力表!BO10,\".\",入力表!BQ10,入力表!BR10)","v":".."}]
[17,{"$f":"IF(入力表!H30=0,\"\",入力表!H30)","v":""},{"$f":"IF(入力表!J30=0,\"\",入力表!J30)","v":""},{"$f":"IF(入力表!N30=0,\"\",入力表!N30)","v":""},{"$f":"RIGHT(入力表!AA30,2)","v":""},{"$f":"IF(入力表!U30=0,\"\",入力表!U30)","v":""},{"$f":"IF(B18=\"\",\"\",入力表!$N$8)","v":""},{"$f":"IF(B18=\"\",\"\",入力表!$L$4)","v":""},{"$f":"IF(B18=\"\",\"\",入力表!AE30)","v":""},{"$f":"IF(入力表!AH30=\"\",\"\",入力表!AH30)","v":""},"",{"$f":"IF(入力表!AV30=\"\",\"\",入力表!AV30)","v":""},"",{"$f":"IF(入力表!BJ30=\"\",\"\",入力表!BJ30)","v":""},"",{"$f":"IF(入力表!BX30=\"\",\"\",入力表!BX30)","v":""},"",{"$f":"IF(入力表!CA30=\"\",\"\",入力表!CA30)","v":""},"",null,null,{"$f":"IF(入力表!AN30=\"\",\"\",入力表!AN30)","v":""},{"$f":"IF(入力表!AO30=\"\",\"\",入力表!AO30)","v":""},{"$f":"IF(ISERROR(VLOOKUP(IF(W18=\"\",\"\",入力表!AP30),$AU$2:$AV$5,2,FALSE)),\"\",VLOOKUP(IF(W18=\"\",\"\",入力表!AS30),$AU$2:$AV$5,2,FALSE))","v":""},{"$f":"IF(入力表!AQ30=\"\",\"\",入力表!AQ30)","v":""},{"$f":"IF(入力表!AR30=\"\",\"\",入力表!AR30)","v":""},{"$f":"IF(ISERROR(VLOOKUP(入力表!AS30,$AU$2:$AV$5,2,FALSE)),\"\",VLOOKUP(入力表!AS30,$AU$2:$AV$5,2,FALSE))","v":""},{"$f":"IF(入力表!AT30=\"\",\"\",入力表!AT30)","v":""},{"$f":"IF(入力表!AU30=\"\",\"\",入力表!AU30)","v":""},{"$f":"IF(入力表!BB30=\"\",\"\",入力表!BB30)","v":""},{"$f":"IF(入力表!BC30=\"\",\"\",入力表!BC30)","v":""},{"$f":"IF(ISERROR(VLOOKUP(IF(AE18=\"\",\"\",入力表!BD30),$AU$2:$AV$5,2,FALSE)),\"\",VLOOKUP(IF(AE18=\"\",\"\",入力表!BD30),$AU$2:$AV$5,2,FALSE))","v":""},{"$f":"IF(入力表!BE30=\"\",\"\",入力表!BE30)","v":""},{"$f":"IF(入力表!BF30=\"\",\"\",入力表!BF30)","v":""},{"$f":"IF(ISERROR(VLOOKUP(入力表!BG30,$AU$2:$AV$5,2,FALSE)),\"\",VLOOKUP(入力表!BG30,$AU$2:$AV$5,2,FALSE))","v":""},{"$f":"IF(入力表!BH30=\"\",\"\",入力表!BH30)","v":""},{"$f":"IF(入力表!BI30=\"\",\"\",入力表!BI30)","v":""},{"$f":"IF(入力表!BP30=\"\",\"\",入力表!BP30)","v":""},{"$f":"IF(入力表!BQ30=\"\",\"\",入力表!BQ30)","v":""},{"$f":"IF(ISERROR(VLOOKUP(IF(AM18=\"\",\"\",入力表!BR30),$AU$2:$AV$5,2,FALSE)),\"\",VLOOKUP(IF(AM18=\"\",\"\",入力表!BR30),$AU$2:$AV$5,2,FALSE))","v":""},{"$f":"IF(入力表!BS30=\"\",\"\",入力表!BS30)","v":""},{"$f":"IF(入力表!BT30=\"\",\"\",入力表!BT30)","v":""},{"$f":"IF(ISERROR(VLOOKUP(入力表!BU30,$AU$2:$AV$5,2,FALSE)),\"\",VLOOKUP(入力表!BU30,$AU$2:$AV$5,2,FALSE))","v":""},{"$f":"IF(入力表!BV30=\"\",\"\",入力表!BV30)","v":""},{"$f":"IF(入力表!BW30=\"\",\"\",入力表!BW30)","v":""},null,null,null,null,"男子C",{"$f":"CONCATENATE(入力表!BL11,\".\",入力表!BN11,入力表!BO11,\".\",入力表!BQ11,入力表!BR11)","v":".."}]
[18,{"$f":"IF(入力表!H31=0,\"\",入力表!H31)","v":""},{"$f":"IF(入力表!J31=0,\"\",入力表!J31)","v":""},{"$f":"IF(入力表!N31=0,\"\",入力表!N31)","v":""},{"$f":"RIGHT(入力表!AA31,2)","v":""},{"$f":"IF(入力表!U31=0,\"\",入力表!U31)","v":""},{"$f":"IF(B19=\"\",\"\",入力表!$N$8)","v":""},{"$f":"IF(B19=\"\",\"\",入力表!$L$4)","v":""},{"$f":"IF(B19=\"\",\"\",入力表!AE31)","v":""},{"$f":"IF(入力表!AH31=\"\",\"\",入力表!AH31)","v":""},"",{"$f":"IF(入力表!AV31=\"\",\"\",入力表!AV31)","v":""},"",{"$f":"IF(入力表!BJ31=\"\",\"\",入力表!BJ31)","v":""},"",{"$f":"IF(入力表!BX31=\"\",\"\",入力表!BX31)","v":""},"",{"$f":"IF(入力表!CA31=\"\",\"\",入力表!CA31)","v":""},"",null,null,{"$f":"IF(入力表!AN31=\"\",\"\",入力表!AN31)","v":""},{"$f":"IF(入力表!AO31=\"\",\"\",入力表!AO31)","v":""},{"$f":"IF(ISERROR(VLOOKUP(IF(W19=\"\",\"\",入力表!AP31),$AU$2:$AV$5,2,FALSE)),\"\",VLOOKUP(IF(W19=\"\",\"\",入力表!AS31),$AU$2:$AV$5,2,FALSE))","v":""},{"$f":"IF(入力表!AQ31=\"\",\"\",入力表!AQ31)","v":""},{"$f":"IF(入力表!AR31=\"\",\"\",入力表!AR31)","v":""},{"$f":"IF(ISERROR(VLOOKUP(入力表!AS31,$AU$2:$AV$5,2,FALSE)),\"\",VLOOKUP(入力表!AS31,$AU$2:$AV$5,2,FALSE))","v":""},{"$f":"IF(入力表!AT31=\"\",\"\",入力表!AT31)","v":""},{"$f":"IF(入力表!AU31=\"\",\"\",入力表!AU31)","v":""},{"$f":"IF(入力表!BB31=\"\",\"\",入力表!BB31)","v":""},{"$f":"IF(入力表!BC31=\"\",\"\",入力表!BC31)","v":""},{"$f":"IF(ISERROR(VLOOKUP(IF(AE19=\"\",\"\",入力表!BD31),$AU$2:$AV$5,2,FALSE)),\"\",VLOOKUP(IF(AE19=\"\",\"\",入力表!BD31),$AU$2:$AV$5,2,FALSE))","v":""},{"$f":"IF(入力表!BE31=\"\",\"\",入力表!BE31)","v":""},{"$f":"IF(入力表!BF31=\"\",\"\",入力表!BF31)","v":""},{"$f":"IF(ISERROR(VLOOKUP(入力表!BG31,$AU$2:$AV$5,2,FALSE)),\"\",VLOOKUP(入力表!BG31,$AU$2:$AV$5,2,FALSE))","v":""},{"$f":"IF(入力表!BH31=\"\",\"\",入力表!BH31)","v":""},{"$f":"IF(入力表!BI31=\"\",\"\",入力表!BI31)","v":""},{"$f":"IF(入力表!BP31=\"\",\"\",入力表!BP31)","v":""},{"$f":"IF(入力表!BQ31=\"\",\"\",入力表!BQ31)","v":""},{"$f":"IF(ISERROR(VLOOKUP(IF(AM19=\"\",\"\",入力表!BR31),$AU$2:$AV$5,2,FALSE)),\"\",VLOOKUP(IF(AM19=\"\",\"\",入力表!BR31),$AU$2:$AV$5,2,FALSE))","v":""},{"$f":"IF(入力表!BS31=\"\",\"\",入力表!BS31)","v":""},{"$f":"IF(入力表!BT31=\"\",\"\",入力表!BT31)","v":""},{"$f":"IF(ISERROR(VLOOKUP(入力表!BU31,$AU$2:$AV$5,2,FALSE)),\"\",VLOOKUP(入力表!BU31,$AU$2:$AV$5,2,FALSE))","v":""},{"$f":"IF(入力表!BV31=\"\",\"\",入力表!BV31)","v":""},{"$f":"IF(入力表!BW31=\"\",\"\",入力表!BW31)","v":""},null,null,null,null,"女子A",{"$f":"CONCATENATE(入力表!BW9,\".\",入力表!BY9,入力表!BZ9,\".\",入力表!CB9,入力表!CC9)","v":".."}]
[19,{"$f":"IF(入力表!H32=0,\"\",入力表!H32)","v":""},{"$f":"IF(入力表!J32=0,\"\",入力表!J32)","v":""},{"$f":"IF(入力表!N32=0,\"\",入力表!N32)","v":""},{"$f":"RIGHT(入力表!AA32,2)","v":""},{"$f":"IF(入力表!U32=0,\"\",入力表!U32)","v":""},{"$f":"IF(B20=\"\",\"\",入力表!$N$8)","v":""},{"$f":"IF(B20=\"\",\"\",入力表!$L$4)","v":""},{"$f":"IF(B20=\"\",\"\",入力表!AE32)","v":""},{"$f":"IF(入力表!AH32=\"\",\"\",入力表!AH32)","v":""},"",{"$f":"IF(入力表!AV32=\"\",\"\",入力表!AV32)","v":""},"",{"$f":"IF(入力表!BJ32=\"\",\"\",入力表!BJ32)","v":""},"",{"$f":"IF(入力表!BX32=\"\",\"\",入力表!BX32)","v":""},"",{"$f":"IF(入力表!CA32=\"\",\"\",入力表!CA32)","v":""},"",null,null,{"$f":"IF(入力表!AN32=\"\",\"\",入力表!AN32)","v":""},{"$f":"IF(入力表!AO32=\"\",\"\",入力表!AO32)","v":""},{"$f":"IF(ISERROR(VLOOKUP(IF(W20=\"\",\"\",入力表!AP32),$AU$2:$AV$5,2,FALSE)),\"\",VLOOKUP(IF(W20=\"\",\"\",入力表!AS32),$AU$2:$AV$5,2,FALSE))","v":""},{"$f":"IF(入力表!AQ32=\"\",\"\",入力表!AQ32)","v":""},{"$f":"IF(入力表!AR32=\"\",\"\",入力表!AR32)","v":""},{"$f":"IF(ISERROR(VLOOKUP(入力表!AS32,$AU$2:$AV$5,2,FALSE)),\"\",VLOOKUP(入力表!AS32,$AU$2:$AV$5,2,FALSE))","v":""},{"$f":"IF(入力表!AT32=\"\",\"\",入力表!AT32)","v":""},{"$f":"IF(入力表!AU32=\"\",\"\",入力表!AU32)","v":""},{"$f":"IF(入力表!BB32=\"\",\"\",入力表!BB32)","v":""},{"$f":"IF(入力表!BC32=\"\",\"\",入力表!BC32)","v":""},{"$f":"IF(ISERROR(VLOOKUP(IF(AE20=\"\",\"\",入力表!BD32),$AU$2:$AV$5,2,FALSE)),\"\",VLOOKUP(IF(AE20=\"\",\"\",入力表!BD32),$AU$2:$AV$5,2,FALSE))","v":""},{"$f":"IF(入力表!BE32=\"\",\"\",入力表!BE32)","v":""},{"$f":"IF(入力表!BF32=\"\",\"\",入力表!BF32)","v":""},{"$f":"IF(ISERROR(VLOOKUP(入力表!BG32,$AU$2:$AV$5,2,FALSE)),\"\",VLOOKUP(入力表!BG32,$AU$2:$AV$5,2,FALSE))","v":""},{"$f":"IF(入力表!BH32=\"\",\"\",入力表!BH32)","v":""},{"$f":"IF(入力表!BI32=\"\",\"\",入力表!BI32)","v":""},{"$f":"IF(入力表!BP32=\"\",\"\",入力表!BP32)","v":""},{"$f":"IF(入力表!BQ32=\"\",\"\",入力表!BQ32)","v":""},{"$f":"IF(ISERROR(VLOOKUP(IF(AM20=\"\",\"\",入力表!BR32),$AU$2:$AV$5,2,FALSE)),\"\",VLOOKUP(IF(AM20=\"\",\"\",入力表!BR32),$AU$2:$AV$5,2,FALSE))","v":""},{"$f":"IF(入力表!BS32=\"\",\"\",入力表!BS32)","v":""},{"$f":"IF(入力表!BT32=\"\",\"\",入力表!BT32)","v":""},{"$f":"IF(ISERROR(VLOOKUP(入力表!BU32,$AU$2:$AV$5,2,FALSE)),\"\",VLOOKUP(入力表!BU32,$AU$2:$AV$5,2,FALSE))","v":""},{"$f":"IF(入力表!BV32=\"\",\"\",入力表!BV32)","v":""},{"$f":"IF(入力表!BW32=\"\",\"\",入力表!BW32)","v":""},null,null,null,null,"女子B",{"$f":"CONCATENATE(入力表!BW10,\".\",入力表!BY10,入力表!BZ10,\".\",入力表!CB10,入力表!CC10)","v":".."}]
[20,{"$f":"IF(入力表!H33=0,\"\",入力表!H33)","v":""},{"$f":"IF(入力表!J33=0,\"\",入力表!J33)","v":""},{"$f":"IF(入力表!N33=0,\"\",入力表!N33)","v":""},{"$f":"RIGHT(入力表!AA33,2)","v":""},{"$f":"IF(入力表!U33=0,\"\",入力表!U33)","v":""},{"$f":"IF(B21=\"\",\"\",入力表!$N$8)","v":""},{"$f":"IF(B21=\"\",\"\",入力表!$L$4)","v":""},{"$f":"IF(B21=\"\",\"\",入力表!AE33)","v":""},{"$f":"IF(入力表!AH33=\"\",\"\",入力表!AH33)","v":""},"",{"$f":"IF(入力表!AV33=\"\",\"\",入力表!AV33)","v":""},"",{"$f":"IF(入力表!BJ33=\"\",\"\",入力表!BJ33)","v":""},"",{"$f":"IF(入力表!BX33=\"\",\"\",入力表!BX33)","v":""},"",{"$f":"IF(入力表!CA33=\"\",\"\",入力表!CA33)","v":""},"",null,null,{"$f":"IF(入力表!AN33=\"\",\"\",入力表!AN33)","v":""},{"$f":"IF(入力表!AO33=\"\",\"\",入力表!AO33)","v":""},{"$f":"IF(ISERROR(VLOOKUP(IF(W21=\"\",\"\",入力表!AP33),$AU$2:$AV$5,2,FALSE)),\"\",VLOOKUP(IF(W21=\"\",\"\",入力表!AS33),$AU$2:$AV$5,2,FALSE))","v":""},{"$f":"IF(入力表!AQ33=\"\",\"\",入力表!AQ33)","v":""},{"$f":"IF(入力表!AR33=\"\",\"\",入力表!AR33)","v":""},{"$f":"IF(ISERROR(VLOOKUP(入力表!AS33,$AU$2:$AV$5,2,FALSE)),\"\",VLOOKUP(入力表!AS33,$AU$2:$AV$5,2,FALSE))","v":""},{"$f":"IF(入力表!AT33=\"\",\"\",入力表!AT33)","v":""},{"$f":"IF(入力表!AU33=\"\",\"\",入力表!AU33)","v":""},{"$f":"IF(入力表!BB33=\"\",\"\",入力表!BB33)","v":""},{"$f":"IF(入力表!BC33=\"\",\"\",入力表!BC33)","v":""},{"$f":"IF(ISERROR(VLOOKUP(IF(AE21=\"\",\"\",入力表!BD33),$AU$2:$AV$5,2,FALSE)),\"\",VLOOKUP(IF(AE21=\"\",\"\",入力表!BD33),$AU$2:$AV$5,2,FALSE))","v":""},{"$f":"IF(入力表!BE33=\"\",\"\",入力表!BE33)","v":""},{"$f":"IF(入力表!BF33=\"\",\"\",入力表!BF33)","v":""},{"$f":"IF(ISERROR(VLOOKUP(入力表!BG33,$AU$2:$AV$5,2,FALSE)),\"\",VLOOKUP(入力表!BG33,$AU$2:$AV$5,2,FALSE))","v":""},{"$f":"IF(入力表!BH33=\"\",\"\",入力表!BH33)","v":""},{"$f":"IF(入力表!BI33=\"\",\"\",入力表!BI33)","v":""},{"$f":"IF(入力表!BP33=\"\",\"\",入力表!BP33)","v":""},{"$f":"IF(入力表!BQ33=\"\",\"\",入力表!BQ33)","v":""},{"$f":"IF(ISERROR(VLOOKUP(IF(AM21=\"\",\"\",入力表!BR33),$AU$2:$AV$5,2,FALSE)),\"\",VLOOKUP(IF(AM21=\"\",\"\",入力表!BR33),$AU$2:$AV$5,2,FALSE))","v":""},{"$f":"IF(入力表!BS33=\"\",\"\",入力表!BS33)","v":""},{"$f":"IF(入力表!BT33=\"\",\"\",入力表!BT33)","v":""},{"$f":"IF(ISERROR(VLOOKUP(入力表!BU33,$AU$2:$AV$5,2,FALSE)),\"\",VLOOKUP(入力表!BU33,$AU$2:$AV$5,2,FALSE))","v":""},{"$f":"IF(入力表!BV33=\"\",\"\",入力表!BV33)","v":""},{"$f":"IF(入力表!BW33=\"\",\"\",入力表!BW33)","v":""},null,null,null,null,"女子C",{"$f":"CONCATENATE(入力表!BW11,\".\",入力表!BY11,入力表!BZ11,\".\",入力表!CB11,入力表!CC11)","v":".."}]
[21,{"$f":"IF(入力表!H34=0,\"\",入力表!H34)","v":""},{"$f":"IF(入力表!J34=0,\"\",入力表!J34)","v":""},{"$f":"IF(入力表!N34=0,\"\",入力表!N34)","v":""},{"$f":"RIGHT(入力表!AA34,2)","v":""},{"$f":"IF(入力表!U34=0,\"\",入力表!U34)","v":""},{"$f":"IF(B22=\"\",\"\",入力表!$N$8)","v":""},{"$f":"IF(B22=\"\",\"\",入力表!$L$4)","v":""},{"$f":"IF(B22=\"\",\"\",入力表!AE34)","v":""},{"$f":"IF(入力表!AH34=\"\",\"\",入力表!AH34)","v":""},"",{"$f":"IF(入力表!AV34=\"\",\"\",入力表!AV34)","v":""},"",{"$f":"IF(入力表!BJ34=\"\",\"\",入力表!BJ34)","v":""},"",{"$f":"IF(入力表!BX34=\"\",\"\",入力表!BX34)","v":""},"",{"$f":"IF(入力表!CA34=\"\",\"\",入力表!CA34)","v":""},"",null,null,{"$f":"IF(入力表!AN34=\"\",\"\",入力表!AN34)","v":""},{"$f":"IF(入力表!AO34=\"\",\"\",入力表!AO34)","v":""},{"$f":"IF(ISERROR(VLOOKUP(IF(W22=\"\",\"\",入力表!AP34),$AU$2:$AV$5,2,FALSE)),\"\",VLOOKUP(IF(W22=\"\",\"\",入力表!AS34),$AU$2:$AV$5,2,FALSE))","v":""},{"$f":"IF(入力表!AQ34=\"\",\"\",入力表!AQ34)","v":""},{"$f":"IF(入力表!AR34=\"\",\"\",入力表!AR34)","v":""},{"$f":"IF(ISERROR(VLOOKUP(入力表!AS34,$AU$2:$AV$5,2,FALSE)),\"\",VLOOKUP(入力表!AS34,$AU$2:$AV$5,2,FALSE))","v":""},{"$f":"IF(入力表!AT34=\"\",\"\",入力表!AT34)","v":""},{"$f":"IF(入力表!AU34=\"\",\"\",入力表!AU34)","v":""},{"$f":"IF(入力表!BB34=\"\",\"\",入力表!BB34)","v":""},{"$f":"IF(入力表!BC34=\"\",\"\",入力表!BC34)","v":""},{"$f":"IF(ISERROR(VLOOKUP(IF(AE22=\"\",\"\",入力表!BD34),$AU$2:$AV$5,2,FALSE)),\"\",VLOOKUP(IF(AE22=\"\",\"\",入力表!BD34),$AU$2:$AV$5,2,FALSE))","v":""},{"$f":"IF(入力表!BE34=\"\",\"\",入力表!BE34)","v":""},{"$f":"IF(入力表!BF34=\"\",\"\",入力表!BF34)","v":""},{"$f":"IF(ISERROR(VLOOKUP(入力表!BG34,$AU$2:$AV$5,2,FALSE)),\"\",VLOOKUP(入力表!BG34,$AU$2:$AV$5,2,FALSE))","v":""},{"$f":"IF(入力表!BH34=\"\",\"\",入力表!BH34)","v":""},{"$f":"IF(入力表!BI34=\"\",\"\",入力表!BI34)","v":""},{"$f":"IF(入力表!BP34=\"\",\"\",入力表!BP34)","v":""},{"$f":"IF(入力表!BQ34=\"\",\"\",入力表!BQ34)","v":""},{"$f":"IF(ISERROR(VLOOKUP(IF(AM22=\"\",\"\",入力表!BR34),$AU$2:$AV$5,2,FALSE)),\"\",VLOOKUP(IF(AM22=\"\",\"\",入力表!BR34),$AU$2:$AV$5,2,FALSE))","v":""},{"$f":"IF(入力表!BS34=\"\",\"\",入力表!BS34)","v":""},{"$f":"IF(入力表!BT34=\"\",\"\",入力表!BT34)","v":""},{"$f":"IF(ISERROR(VLOOKUP(入力表!BU34,$AU$2:$AV$5,2,FALSE)),\"\",VLOOKUP(入力表!BU34,$AU$2:$AV$5,2,FALSE))","v":""},{"$f":"IF(入力表!BV34=\"\",\"\",入力表!BV34)","v":""},{"$f":"IF(入力表!BW34=\"\",\"\",入力表!BW34)","v":""}]
[22,{"$f":"IF(入力表!H35=0,\"\",入力表!H35)","v":""},{"$f":"IF(入力表!J35=0,\"\",入力表!J35)","v":""},{"$f":"IF(入力表!N35=0,\"\",入力表!N35)","v":""},{"$f":"RIGHT(入力表!AA35,2)","v":""},{"$f":"IF(入力表!U35=0,\"\",入力表!U35)","v":""},{"$f":"IF(B23=\"\",\"\",入力表!$N$8)","v":""},{"$f":"IF(B23=\"\",\"\",入力表!$L$4)","v":""},{"$f":"IF(B23=\"\",\"\",入力表!AE35)","v":""},{"$f":"IF(入力表!AH35=\"\",\"\",入力表!AH35)","v":""},"",{"$f":"IF(入力表!AV35=\"\",\"\",入力表!AV35)","v":""},"",{"$f":"IF(入力表!BJ35=\"\",\"\",入力表!BJ35)","v":""},"",{"$f":"IF(入力表!BX35=\"\",\"\",入力表!BX35)","v":""},"",{"$f":"IF(入力表!CA35=\"\",\"\",入力表!CA35)","v":""},"",null,null,{"$f":"IF(入力表!AN35=\"\",\"\",入力表!AN35)","v":""},{"$f":"IF(入力表!AO35=\"\",\"\",入力表!AO35)","v":""},{"$f":"IF(ISERROR(VLOOKUP(IF(W23=\"\",\"\",入力表!AP35),$AU$2:$AV$5,2,FALSE)),\"\",VLOOKUP(IF(W23=\"\",\"\",入力表!AS35),$AU$2:$AV$5,2,FALSE))","v":""},{"$f":"IF(入力表!AQ35=\"\",\"\",入力表!AQ35)","v":""},{"$f":"IF(入力表!AR35=\"\",\"\",入力表!AR35)","v":""},{"$f":"IF(ISERROR(VLOOKUP(入力表!AS35,$AU$2:$AV$5,2,FALSE)),\"\",VLOOKUP(入力表!AS35,$AU$2:$AV$5,2,FALSE))","v":""},{"$f":"IF(入力表!AT35=\"\",\"\",入力表!AT35)","v":""},{"$f":"IF(入力表!AU35=\"\",\"\",入力表!AU35)","v":""},{"$f":"IF(入力表!BB35=\"\",\"\",入力表!BB35)","v":""},{"$f":"IF(入力表!BC35=\"\",\"\",入力表!BC35)","v":""},{"$f":"IF(ISERROR(VLOOKUP(IF(AE23=\"\",\"\",入力表!BD35),$AU$2:$AV$5,2,FALSE)),\"\",VLOOKUP(IF(AE23=\"\",\"\",入力表!BD35),$AU$2:$AV$5,2,FALSE))","v":""},{"$f":"IF(入力表!BE35=\"\",\"\",入力表!BE35)","v":""},{"$f":"IF(入力表!BF35=\"\",\"\",入力表!BF35)","v":""},{"$f":"IF(ISERROR(VLOOKUP(入力表!BG35,$AU$2:$AV$5,2,FALSE)),\"\",VLOOKUP(入力表!BG35,$AU$2:$AV$5,2,FALSE))","v":""},{"$f":"IF(入力表!BH35=\"\",\"\",入力表!BH35)","v":""},{"$f":"IF(入力表!BI35=\"\",\"\",入力表!BI35)","v":""},{"$f":"IF(入力表!BP35=\"\",\"\",入力表!BP35)","v":""},{"$f":"IF(入力表!BQ35=\"\",\"\",入力表!BQ35)","v":""},{"$f":"IF(ISERROR(VLOOKUP(IF(AM23=\"\",\"\",入力表!BR35),$AU$2:$AV$5,2,FALSE)),\"\",VLOOKUP(IF(AM23=\"\",\"\",入力表!BR35),$AU$2:$AV$5,2,FALSE))","v":""},{"$f":"IF(入力表!BS35=\"\",\"\",入力表!BS35)","v":""},{"$f":"IF(入力表!BT35=\"\",\"\",入力表!BT35)","v":""},{"$f":"IF(ISERROR(VLOOKUP(入力表!BU35,$AU$2:$AV$5,2,FALSE)),\"\",VLOOKUP(入力表!BU35,$AU$2:$AV$5,2,FALSE))","v":""},{"$f":"IF(入力表!BV35=\"\",\"\",入力表!BV35)","v":""},{"$f":"IF(入力表!BW35=\"\",\"\",入力表!BW35)","v":""}]
[23,{"$f":"IF(入力表!H36=0,\"\",入力表!H36)","v":""},{"$f":"IF(入力表!J36=0,\"\",入力表!J36)","v":""},{"$f":"IF(入力表!N36=0,\"\",入力表!N36)","v":""},{"$f":"RIGHT(入力表!AA36,2)","v":""},{"$f":"IF(入力表!U36=0,\"\",入力表!U36)","v":""},{"$f":"IF(B24=\"\",\"\",入力表!$N$8)","v":""},{"$f":"IF(B24=\"\",\"\",入力表!$L$4)","v":""},{"$f":"IF(B24=\"\",\"\",入力表!AE36)","v":""},{"$f":"IF(入力表!AH36=\"\",\"\",入力表!AH36)","v":""},"",{"$f":"IF(入力表!AV36=\"\",\"\",入力表!AV36)","v":""},"",{"$f":"IF(入力表!BJ36=\"\",\"\",入力表!BJ36)","v":""},"",{"$f":"IF(入力表!BX36=\"\",\"\",入力表!BX36)","v":""},"",{"$f":"IF(入力表!CA36=\"\",\"\",入力表!CA36)","v":""},"",null,null,{"$f":"IF(入力表!AN36=\"\",\"\",入力表!AN36)","v":""},{"$f":"IF(入力表!AO36=\"\",\"\",入力表!AO36)","v":""},{"$f":"IF(ISERROR(VLOOKUP(IF(W24=\"\",\"\",入力表!AP36),$AU$2:$AV$5,2,FALSE)),\"\",VLOOKUP(IF(W24=\"\",\"\",入力表!AS36),$AU$2:$AV$5,2,FALSE))","v":""},{"$f":"IF(入力表!AQ36=\"\",\"\",入力表!AQ36)","v":""},{"$f":"IF(入力表!AR36=\"\",\"\",入力表!AR36)","v":""},{"$f":"IF(ISERROR(VLOOKUP(入力表!AS36,$AU$2:$AV$5,2,FALSE)),\"\",VLOOKUP(入力表!AS36,$AU$2:$AV$5,2,FALSE))","v":""},{"$f":"IF(入力表!AT36=\"\",\"\",入力表!AT36)","v":""},{"$f":"IF(入力表!AU36=\"\",\"\",入力表!AU36)","v":""},{"$f":"IF(入力表!BB36=\"\",\"\",入力表!BB36)","v":""},{"$f":"IF(入力表!BC36=\"\",\"\",入力表!BC36)","v":""},{"$f":"IF(ISERROR(VLOOKUP(IF(AE24=\"\",\"\",入力表!BD36),$AU$2:$AV$5,2,FALSE)),\"\",VLOOKUP(IF(AE24=\"\",\"\",入力表!BD36),$AU$2:$AV$5,2,FALSE))","v":""},{"$f":"IF(入力表!BE36=\"\",\"\",入力表!BE36)","v":""},{"$f":"IF(入力表!BF36=\"\",\"\",入力表!BF36)","v":""},{"$f":"IF(ISERROR(VLOOKUP(入力表!BG36,$AU$2:$AV$5,2,FALSE)),\"\",VLOOKUP(入力表!BG36,$AU$2:$AV$5,2,FALSE))","v":""},{"$f":"IF(入力表!BH36=\"\",\"\",入力表!BH36)","v":""},{"$f":"IF(入力表!BI36=\"\",\"\",入力表!BI36)","v":""},{"$f":"IF(入力表!BP36=\"\",\"\",入力表!BP36)","v":""},{"$f":"IF(入力表!BQ36=\"\",\"\",入力表!BQ36)","v":""},{"$f":"IF(ISERROR(VLOOKUP(IF(AM24=\"\",\"\",入力表!BR36),$AU$2:$AV$5,2,FALSE)),\"\",VLOOKUP(IF(AM24=\"\",\"\",入力表!BR36),$AU$2:$AV$5,2,FALSE))","v":""},{"$f":"IF(入力表!BS36=\"\",\"\",入力表!BS36)","v":""},{"$f":"IF(入力表!BT36=\"\",\"\",入力表!BT36)","v":""},{"$f":"IF(ISERROR(VLOOKUP(入力表!BU36,$AU$2:$AV$5,2,FALSE)),\"\",VLOOKUP(入力表!BU36,$AU$2:$AV$5,2,FALSE))","v":""},{"$f":"IF(入力表!BV36=\"\",\"\",入力表!BV36)","v":""},{"$f":"IF(入力表!BW36=\"\",\"\",入力表!BW36)","v":""}]
[24,{"$f":"IF(入力表!H37=0,\"\",入力表!H37)","v":""},{"$f":"IF(入力表!J37=0,\"\",入力表!J37)","v":""},{"$f":"IF(入力表!N37=0,\"\",入力表!N37)","v":""},{"$f":"RIGHT(入力表!AA37,2)","v":""},{"$f":"IF(入力表!U37=0,\"\",入力表!U37)","v":""},{"$f":"IF(B25=\"\",\"\",入力表!$N$8)","v":""},{"$f":"IF(B25=\"\",\"\",入力表!$L$4)","v":""},{"$f":"IF(B25=\"\",\"\",入力表!AE37)","v":""},{"$f":"IF(入力表!AH37=\"\",\"\",入力表!AH37)","v":""},"",{"$f":"IF(入力表!AV37=\"\",\"\",入力表!AV37)","v":""},"",{"$f":"IF(入力表!BJ37=\"\",\"\",入力表!BJ37)","v":""},"",{"$f":"IF(入力表!BX37=\"\",\"\",入力表!BX37)","v":""},"",{"$f":"IF(入力表!CA37=\"\",\"\",入力表!CA37)","v":""},"",null,null,{"$f":"IF(入力表!AN37=\"\",\"\",入力表!AN37)","v":""},{"$f":"IF(入力表!AO37=\"\",\"\",入力表!AO37)","v":""},{"$f":"IF(ISERROR(VLOOKUP(IF(W25=\"\",\"\",入力表!AP37),$AU$2:$AV$5,2,FALSE)),\"\",VLOOKUP(IF(W25=\"\",\"\",入力表!AS37),$AU$2:$AV$5,2,FALSE))","v":""},{"$f":"IF(入力表!AQ37=\"\",\"\",入力表!AQ37)","v":""},{"$f":"IF(入力表!AR37=\"\",\"\",入力表!AR37)","v":""},{"$f":"IF(ISERROR(VLOOKUP(入力表!AS37,$AU$2:$AV$5,2,FALSE)),\"\",VLOOKUP(入力表!AS37,$AU$2:$AV$5,2,FALSE))","v":""},{"$f":"IF(入力表!AT37=\"\",\"\",入力表!AT37)","v":""},{"$f":"IF(入力表!AU37=\"\",\"\",入力表!AU37)","v":""},{"$f":"IF(入力表!BB37=\"\",\"\",入力表!BB37)","v":""},{"$f":"IF(入力表!BC37=\"\",\"\",入力表!BC37)","v":""},{"$f":"IF(ISERROR(VLOOKUP(IF(AE25=\"\",\"\",入力表!BD37),$AU$2:$AV$5,2,FALSE)),\"\",VLOOKUP(IF(AE25=\"\",\"\",入力表!BD37),$AU$2:$AV$5,2,FALSE))","v":""},{"$f":"IF(入力表!BE37=\"\",\"\",入力表!BE37)","v":""},{"$f":"IF(入力表!BF37=\"\",\"\",入力表!BF37)","v":""},{"$f":"IF(ISERROR(VLOOKUP(入力表!BG37,$AU$2:$AV$5,2,FALSE)),\"\",VLOOKUP(入力表!BG37,$AU$2:$AV$5,2,FALSE))","v":""},{"$f":"IF(入力表!BH37=\"\",\"\",入力表!BH37)","v":""},{"$f":"IF(入力表!BI37=\"\",\"\",入力表!BI37)","v":""},{"$f":"IF(入力表!BP37=\"\",\"\",入力表!BP37)","v":""},{"$f":"IF(入力表!BQ37=\"\",\"\",入力表!BQ37)","v":""},{"$f":"IF(ISERROR(VLOOKUP(IF(AM25=\"\",\"\",入力表!BR37),$AU$2:$AV$5,2,FALSE)),\"\",VLOOKUP(IF(AM25=\"\",\"\",入力表!BR37),$AU$2:$AV$5,2,FALSE))","v":""},{"$f":"IF(入力表!BS37=\"\",\"\",入力表!BS37)","v":""},{"$f":"IF(入力表!BT37=\"\",\"\",入力表!BT37)","v":""},{"$f":"IF(ISERROR(VLOOKUP(入力表!BU37,$AU$2:$AV$5,2,FALSE)),\"\",VLOOKUP(入力表!BU37,$AU$2:$AV$5,2,FALSE))","v":""},{"$f":"IF(入力表!BV37=\"\",\"\",入力表!BV37)","v":""},{"$f":"IF(入力表!BW37=\"\",\"\",入力表!BW37)","v":""}]
[25,{"$f":"IF(入力表!H38=0,\"\",入力表!H38)","v":""},{"$f":"IF(入力表!J38=0,\"\",入力表!J38)","v":""},{"$f":"IF(入力表!N38=0,\"\",入力表!N38)","v":""},{"$f":"RIGHT(入力表!AA38,2)","v":""},{"$f":"IF(入力表!U38=0,\"\",入力表!U38)","v":""},{"$f":"IF(B26=\"\",\"\",入力表!$N$8)","v":""},{"$f":"IF(B26=\"\",\"\",入力表!$L$4)","v":""},{"$f":"IF(B26=\"\",\"\",入力表!AE38)","v":""},{"$f":"IF(入力表!AH38=\"\",\"\",入力表!AH38)","v":""},"",{"$f":"IF(入力表!AV38=\"\",\"\",入力表!AV38)","v":""},"",{"$f":"IF(入力表!BJ38=\"\",\"\",入力表!BJ38)","v":""},"",{"$f":"IF(入力表!BX38=\"\",\"\",入力表!BX38)","v":""},"",{"$f":"IF(入力表!CA38=\"\",\"\",入力表!CA38)","v":""},"",null,null,{"$f":"IF(入力表!AN38=\"\",\"\",入力表!AN38)","v":""},{"$f":"IF(入力表!AO38=\"\",\"\",入力表!AO38)","v":""},{"$f":"IF(ISERROR(VLOOKUP(IF(W26=\"\",\"\",入力表!AP38),$AU$2:$AV$5,2,FALSE)),\"\",VLOOKUP(IF(W26=\"\",\"\",入力表!AS38),$AU$2:$AV$5,2,FALSE))","v":""},{"$f":"IF(入力表!AQ38=\"\",\"\",入力表!AQ38)","v":""},{"$f":"IF(入力表!AR38=\"\",\"\",入力表!AR38)","v":""},{"$f":"IF(ISERROR(VLOOKUP(入力表!AS38,$AU$2:$AV$5,2,FALSE)),\"\",VLOOKUP(入力表!AS38,$AU$2:$AV$5,2,FALSE))","v":""},{"$f":"IF(入力表!AT38=\"\",\"\",入力表!AT38)","v":""},{"$f":"IF(入力表!AU38=\"\",\"\",入力表!AU38)","v":""},{"$f":"IF(入力表!BB38=\"\",\"\",入力表!BB38)","v":""},{"$f":"IF(入力表!BC38=\"\",\"\",入力表!BC38)","v":""},{"$f":"IF(ISERROR(VLOOKUP(IF(AE26=\"\",\"\",入力表!BD38),$AU$2:$AV$5,2,FALSE)),\"\",VLOOKUP(IF(AE26=\"\",\"\",入力表!BD38),$AU$2:$AV$5,2,FALSE))","v":""},{"$f":"IF(入力表!BE38=\"\",\"\",入力表!BE38)","v":""},{"$f":"IF(入力表!BF38=\"\",\"\",入力表!BF38)","v":""},{"$f":"IF(ISERROR(VLOOKUP(入力表!BG38,$AU$2:$AV$5,2,FALSE)),\"\",VLOOKUP(入力表!BG38,$AU$2:$AV$5,2,FALSE))","v":""},{"$f":"IF(入力表!BH38=\"\",\"\",入力表!BH38)","v":""},{"$f":"IF(入力表!BI38=\"\",\"\",入力表!BI38)","v":""},{"$f":"IF(入力表!BP38=\"\",\"\",入力表!BP38)","v":""},{"$f":"IF(入力表!BQ38=\"\",\"\",入力表!BQ38)","v":""},{"$f":"IF(ISERROR(VLOOKUP(IF(AM26=\"\",\"\",入力表!BR38),$AU$2:$AV$5,2,FALSE)),\"\",VLOOKUP(IF(AM26=\"\",\"\",入力表!BR38),$AU$2:$AV$5,2,FALSE))","v":""},{"$f":"IF(入力表!BS38=\"\",\"\",入力表!BS38)","v":""},{"$f":"IF(入力表!BT38=\"\",\"\",入力表!BT38)","v":""},{"$f":"IF(ISERROR(VLOOKUP(入力表!BU38,$AU$2:$AV$5,2,FALSE)),\"\",VLOOKUP(入力表!BU38,$AU$2:$AV$5,2,FALSE))","v":""},{"$f":"IF(入力表!BV38=\"\",\"\",入力表!BV38)","v":""},{"$f":"IF(入力表!BW38=\"\",\"\",入力表!BW38)","v":""}]
[26,{"$f":"IF(入力表!H39=0,\"\",入力表!H39)","v":""},{"$f":"IF(入力表!J39=0,\"\",入力表!J39)","v":""},{"$f":"IF(入力表!N39=0,\"\",入力表!N39)","v":""},{"$f":"RIGHT(入力表!AA39,2)","v":""},{"$f":"IF(入力表!U39=0,\"\",入力表!U39)","v":""},{"$f":"IF(B27=\"\",\"\",入力表!$N$8)","v":""},{"$f":"IF(B27=\"\",\"\",入力表!$L$4)","v":""},{"$f":"IF(B27=\"\",\"\",入力表!AE39)","v":""},{"$f":"IF(入力表!AH39=\"\",\"\",入力表!AH39)","v":""},"",{"$f":"IF(入力表!AV39=\"\",\"\",入力表!AV39)","v":""},"",{"$f":"IF(入力表!BJ39=\"\",\"\",入力表!BJ39)","v":""},"",{"$f":"IF(入力表!BX39=\"\",\"\",入力表!BX39)","v":""},"",{"$f":"IF(入力表!CA39=\"\",\"\",入力表!CA39)","v":""},"",null,null,{"$f":"IF(入力表!AN39=\"\",\"\",入力表!AN39)","v":""},{"$f":"IF(入力表!AO39=\"\",\"\",入力表!AO39)","v":""},{"$f":"IF(ISERROR(VLOOKUP(IF(W27=\"\",\"\",入力表!AP39),$AU$2:$AV$5,2,FALSE)),\"\",VLOOKUP(IF(W27=\"\",\"\",入力表!AS39),$AU$2:$AV$5,2,FALSE))","v":""},{"$f":"IF(入力表!AQ39=\"\",\"\",入力表!AQ39)","v":""},{"$f":"IF(入力表!AR39=\"\",\"\",入力表!AR39)","v":""},{"$f":"IF(ISERROR(VLOOKUP(入力表!AS39,$AU$2:$AV$5,2,FALSE)),\"\",VLOOKUP(入力表!AS39,$AU$2:$AV$5,2,FALSE))","v":""},{"$f":"IF(入力表!AT39=\"\",\"\",入力表!AT39)","v":""},{"$f":"IF(入力表!AU39=\"\",\"\",入力表!AU39)","v":""},{"$f":"IF(入力表!BB39=\"\",\"\",入力表!BB39)","v":""},{"$f":"IF(入力表!BC39=\"\",\"\",入力表!BC39)","v":""},{"$f":"IF(ISERROR(VLOOKUP(IF(AE27=\"\",\"\",入力表!BD39),$AU$2:$AV$5,2,FALSE)),\"\",VLOOKUP(IF(AE27=\"\",\"\",入力表!BD39),$AU$2:$AV$5,2,FALSE))","v":""},{"$f":"IF(入力表!BE39=\"\",\"\",入力表!BE39)","v":""},{"$f":"IF(入力表!BF39=\"\",\"\",入力表!BF39)","v":""},{"$f":"IF(ISERROR(VLOOKUP(入力表!BG39,$AU$2:$AV$5,2,FALSE)),\"\",VLOOKUP(入力表!BG39,$AU$2:$AV$5,2,FALSE))","v":""},{"$f":"IF(入力表!BH39=\"\",\"\",入力表!BH39)","v":""},{"$f":"IF(入力表!BI39=\"\",\"\",入力表!BI39)","v":""},{"$f":"IF(入力表!BP39=\"\",\"\",入力表!BP39)","v":""},{"$f":"IF(入力表!BQ39=\"\",\"\",入力表!BQ39)","v":""},{"$f":"IF(ISERROR(VLOOKUP(IF(AM27=\"\",\"\",入力表!BR39),$AU$2:$AV$5,2,FALSE)),\"\",VLOOKUP(IF(AM27=\"\",\"\",入力表!BR39),$AU$2:$AV$5,2,FALSE))","v":""},{"$f":"IF(入力表!BS39=\"\",\"\",入力表!BS39)","v":""},{"$f":"IF(入力表!BT39=\"\",\"\",入力表!BT39)","v":""},{"$f":"IF(ISERROR(VLOOKUP(入力表!BU39,$AU$2:$AV$5,2,FALSE)),\"\",VLOOKUP(入力表!BU39,$AU$2:$AV$5,2,FALSE))","v":""},{"$f":"IF(入力表!BV39=\"\",\"\",入力表!BV39)","v":""},{"$f":"IF(入力表!BW39=\"\",\"\",入力表!BW39)","v":""}]
[27,{"$f":"IF(入力表!H40=0,\"\",入力表!H40)","v":""},{"$f":"IF(入力表!J40=0,\"\",入力表!J40)","v":""},{"$f":"IF(入力表!N40=0,\"\",入力表!N40)","v":""},{"$f":"RIGHT(入力表!AA40,2)","v":""},{"$f":"IF(入力表!U40=0,\"\",入力表!U40)","v":""},{"$f":"IF(B28=\"\",\"\",入力表!$N$8)","v":""},{"$f":"IF(B28=\"\",\"\",入力表!$L$4)","v":""},{"$f":"IF(B28=\"\",\"\",入力表!AE40)","v":""},{"$f":"IF(入力表!AH40=\"\",\"\",入力表!AH40)","v":""},"",{"$f":"IF(入力表!AV40=\"\",\"\",入力表!AV40)","v":""},"",{"$f":"IF(入力表!BJ40=\"\",\"\",入力表!BJ40)","v":""},"",{"$f":"IF(入力表!BX40=\"\",\"\",入力表!BX40)","v":""},"",{"$f":"IF(入力表!CA40=\"\",\"\",入力表!CA40)","v":""},"",null,null,{"$f":"IF(入力表!AN40=\"\",\"\",入力表!AN40)","v":""},{"$f":"IF(入力表!AO40=\"\",\"\",入力表!AO40)","v":""},{"$f":"IF(ISERROR(VLOOKUP(IF(W28=\"\",\"\",入力表!AP40),$AU$2:$AV$5,2,FALSE)),\"\",VLOOKUP(IF(W28=\"\",\"\",入力表!AS40),$AU$2:$AV$5,2,FALSE))","v":""},{"$f":"IF(入力表!AQ40=\"\",\"\",入力表!AQ40)","v":""},{"$f":"IF(入力表!AR40=\"\",\"\",入力表!AR40)","v":""},{"$f":"IF(ISERROR(VLOOKUP(入力表!AS40,$AU$2:$AV$5,2,FALSE)),\"\",VLOOKUP(入力表!AS40,$AU$2:$AV$5,2,FALSE))","v":""},{"$f":"IF(入力表!AT40=\"\",\"\",入力表!AT40)","v":""},{"$f":"IF(入力表!AU40=\"\",\"\",入力表!AU40)","v":""},{"$f":"IF(入力表!BB40=\"\",\"\",入力表!BB40)","v":""},{"$f":"IF(入力表!BC40=\"\",\"\",入力表!BC40)","v":""},{"$f":"IF(ISERROR(VLOOKUP(IF(AE28=\"\",\"\",入力表!BD40),$AU$2:$AV$5,2,FALSE)),\"\",VLOOKUP(IF(AE28=\"\",\"\",入力表!BD40),$AU$2:$AV$5,2,FALSE))","v":""},{"$f":"IF(入力表!BE40=\"\",\"\",入力表!BE40)","v":""},{"$f":"IF(入力表!BF40=\"\",\"\",入力表!BF40)","v":""},{"$f":"IF(ISERROR(VLOOKUP(入力表!BG40,$AU$2:$AV$5,2,FALSE)),\"\",VLOOKUP(入力表!BG40,$AU$2:$AV$5,2,FALSE))","v":""},{"$f":"IF(入力表!BH40=\"\",\"\",入力表!BH40)","v":""},{"$f":"IF(入力表!BI40=\"\",\"\",入力表!BI40)","v":""},{"$f":"IF(入力表!BP40=\"\",\"\",入力表!BP40)","v":""},{"$f":"IF(入力表!BQ40=\"\",\"\",入力表!BQ40)","v":""},{"$f":"IF(ISERROR(VLOOKUP(IF(AM28=\"\",\"\",入力表!BR40),$AU$2:$AV$5,2,FALSE)),\"\",VLOOKUP(IF(AM28=\"\",\"\",入力表!BR40),$AU$2:$AV$5,2,FALSE))","v":""},{"$f":"IF(入力表!BS40=\"\",\"\",入力表!BS40)","v":""},{"$f":"IF(入力表!BT40=\"\",\"\",入力表!BT40)","v":""},{"$f":"IF(ISERROR(VLOOKUP(入力表!BU40,$AU$2:$AV$5,2,FALSE)),\"\",VLOOKUP(入力表!BU40,$AU$2:$AV$5,2,FALSE))","v":""},{"$f":"IF(入力表!BV40=\"\",\"\",入力表!BV40)","v":""},{"$f":"IF(入力表!BW40=\"\",\"\",入力表!BW40)","v":""}]
[28,{"$f":"IF(入力表!H41=0,\"\",入力表!H41)","v":""},{"$f":"IF(入力表!J41=0,\"\",入力表!J41)","v":""},{"$f":"IF(入力表!N41=0,\"\",入力表!N41)","v":""},{"$f":"RIGHT(入力表!AA41,2)","v":""},{"$f":"IF(入力表!U41=0,\"\",入力表!U41)","v":""},{"$f":"IF(B29=\"\",\"\",入力表!$N$8)","v":""},{"$f":"IF(B29=\"\",\"\",入力表!$L$4)","v":""},{"$f":"IF(B29=\"\",\"\",入力表!AE41)","v":""},{"$f":"IF(入力表!AH41=\"\",\"\",入力表!AH41)","v":""},"",{"$f":"IF(入力表!AV41=\"\",\"\",入力表!AV41)","v":""},"",{"$f":"IF(入力表!BJ41=\"\",\"\",入力表!BJ41)","v":""},"",{"$f":"IF(入力表!BX41=\"\",\"\",入力表!BX41)","v":""},"",{"$f":"IF(入力表!CA41=\"\",\"\",入力表!CA41)","v":""},"",null,null,{"$f":"IF(入力表!AN41=\"\",\"\",入力表!AN41)","v":""},{"$f":"IF(入力表!AO41=\"\",\"\",入力表!AO41)","v":""},{"$f":"IF(ISERROR(VLOOKUP(IF(W29=\"\",\"\",入力表!AP41),$AU$2:$AV$5,2,FALSE)),\"\",VLOOKUP(IF(W29=\"\",\"\",入力表!AS41),$AU$2:$AV$5,2,FALSE))","v":""},{"$f":"IF(入力表!AQ41=\"\",\"\",入力表!AQ41)","v":""},{"$f":"IF(入力表!AR41=\"\",\"\",入力表!AR41)","v":""},{"$f":"IF(ISERROR(VLOOKUP(入力表!AS41,$AU$2:$AV$5,2,FALSE)),\"\",VLOOKUP(入力表!AS41,$AU$2:$AV$5,2,FALSE))","v":""},{"$f":"IF(入力表!AT41=\"\",\"\",入力表!AT41)","v":""},{"$f":"IF(入力表!AU41=\"\",\"\",入力表!AU41)","v":""},{"$f":"IF(入力表!BB41=\"\",\"\",入力表!BB41)","v":""},{"$f":"IF(入力表!BC41=\"\",\"\",入力表!BC41)","v":""},{"$f":"IF(ISERROR(VLOOKUP(IF(AE29=\"\",\"\",入力表!BD41),$AU$2:$AV$5,2,FALSE)),\"\",VLOOKUP(IF(AE29=\"\",\"\",入力表!BD41),$AU$2:$AV$5,2,FALSE))","v":""},{"$f":"IF(入力表!BE41=\"\",\"\",入力表!BE41)","v":""},{"$f":"IF(入力表!BF41=\"\",\"\",入力表!BF41)","v":""},{"$f":"IF(ISERROR(VLOOKUP(入力表!BG41,$AU$2:$AV$5,2,FALSE)),\"\",VLOOKUP(入力表!BG41,$AU$2:$AV$5,2,FALSE))","v":""},{"$f":"IF(入力表!BH41=\"\",\"\",入力表!BH41)","v":""},{"$f":"IF(入力表!BI41=\"\",\"\",入力表!BI41)","v":""},{"$f":"IF(入力表!BP41=\"\",\"\",入力表!BP41)","v":""},{"$f":"IF(入力表!BQ41=\"\",\"\",入力表!BQ41)","v":""},{"$f":"IF(ISERROR(VLOOKUP(IF(AM29=\"\",\"\",入力表!BR41),$AU$2:$AV$5,2,FALSE)),\"\",VLOOKUP(IF(AM29=\"\",\"\",入力表!BR41),$AU$2:$AV$5,2,FALSE))","v":""},{"$f":"IF(入力表!BS41=\"\",\"\",入力表!BS41)","v":""},{"$f":"IF(入力表!BT41=\"\",\"\",入力表!BT41)","v":""},{"$f":"IF(ISERROR(VLOOKUP(入力表!BU41,$AU$2:$AV$5,2,FALSE)),\"\",VLOOKUP(入力表!BU41,$AU$2:$AV$5,2,FALSE))","v":""},{"$f":"IF(入力表!BV41=\"\",\"\",入力表!BV41)","v":""},{"$f":"IF(入力表!BW41=\"\",\"\",入力表!BW41)","v":""}]
[29,{"$f":"IF(入力表!H42=0,\"\",入力表!H42)","v":""},{"$f":"IF(入力表!J42=0,\"\",入力表!J42)","v":""},{"$f":"IF(入力表!N42=0,\"\",入力表!N42)","v":""},{"$f":"RIGHT(入力表!AA42,2)","v":""},{"$f":"IF(入力表!U42=0,\"\",入力表!U42)","v":""},{"$f":"IF(B30=\"\",\"\",入力表!$N$8)","v":""},{"$f":"IF(B30=\"\",\"\",入力表!$L$4)","v":""},{"$f":"IF(B30=\"\",\"\",入力表!AE42)","v":""},{"$f":"IF(入力表!AH42=\"\",\"\",入力表!AH42)","v":""},"",{"$f":"IF(入力表!AV42=\"\",\"\",入力表!AV42)","v":""},"",{"$f":"IF(入力表!BJ42=\"\",\"\",入力表!BJ42)","v":""},"",{"$f":"IF(入力表!BX42=\"\",\"\",入力表!BX42)","v":""},"",{"$f":"IF(入力表!CA42=\"\",\"\",入力表!CA42)","v":""},"",null,null,{"$f":"IF(入力表!AN42=\"\",\"\",入力表!AN42)","v":""},{"$f":"IF(入力表!AO42=\"\",\"\",入力表!AO42)","v":""},{"$f":"IF(ISERROR(VLOOKUP(IF(W30=\"\",\"\",入力表!AP42),$AU$2:$AV$5,2,FALSE)),\"\",VLOOKUP(IF(W30=\"\",\"\",入力表!AS42),$AU$2:$AV$5,2,FALSE))","v":""},{"$f":"IF(入力表!AQ42=\"\",\"\",入力表!AQ42)","v":""},{"$f":"IF(入力表!AR42=\"\",\"\",入力表!AR42)","v":""},{"$f":"IF(ISERROR(VLOOKUP(入力表!AS42,$AU$2:$AV$5,2,FALSE)),\"\",VLOOKUP(入力表!AS42,$AU$2:$AV$5,2,FALSE))","v":""},{"$f":"IF(入力表!AT42=\"\",\"\",入力表!AT42)","v":""},{"$f":"IF(入力表!AU42=\"\",\"\",入力表!AU42)","v":""},{"$f":"IF(入力表!BB42=\"\",\"\",入力表!BB42)","v":""},{"$f":"IF(入力表!BC42=\"\",\"\",入力表!BC42)","v":""},{"$f":"IF(ISERROR(VLOOKUP(IF(AE30=\"\",\"\",入力表!BD42),$AU$2:$AV$5,2,FALSE)),\"\",VLOOKUP(IF(AE30=\"\",\"\",入力表!BD42),$AU$2:$AV$5,2,FALSE))","v":""},{"$f":"IF(入力表!BE42=\"\",\"\",入力表!BE42)","v":""},{"$f":"IF(入力表!BF42=\"\",\"\",入力表!BF42)","v":""},{"$f":"IF(ISERROR(VLOOKUP(入力表!BG42,$AU$2:$AV$5,2,FALSE)),\"\",VLOOKUP(入力表!BG42,$AU$2:$AV$5,2,FALSE))","v":""},{"$f":"IF(入力表!BH42=\"\",\"\",入力表!BH42)","v":""},{"$f":"IF(入力表!BI42=\"\",\"\",入力表!BI42)","v":""},{"$f":"IF(入力表!BP42=\"\",\"\",入力表!BP42)","v":""},{"$f":"IF(入力表!BQ42=\"\",\"\",入力表!BQ42)","v":""},{"$f":"IF(ISERROR(VLOOKUP(IF(AM30=\"\",\"\",入力表!BR42),$AU$2:$AV$5,2,FALSE)),\"\",VLOOKUP(IF(AM30=\"\",\"\",入力表!BR42),$AU$2:$AV$5,2,FALSE))","v":""},{"$f":"IF(入力表!BS42=\"\",\"\",入力表!BS42)","v":""},{"$f":"IF(入力表!BT42=\"\",\"\",入力表!BT42)","v":""},{"$f":"IF(ISERROR(VLOOKUP(入力表!BU42,$AU$2:$AV$5,2,FALSE)),\"\",VLOOKUP(入力表!BU42,$AU$2:$AV$5,2,FALSE))","v":""},{"$f":"IF(入力表!BV42=\"\",\"\",入力表!BV42)","v":""},{"$f":"IF(入力表!BW42=\"\",\"\",入力表!BW42)","v":""}]
[30,{"$f":"IF(入力表!H43=0,\"\",入力表!H43)","v":""},{"$f":"IF(入力表!J43=0,\"\",入力表!J43)","v":""},{"$f":"IF(入力表!N43=0,\"\",入力表!N43)","v":""},{"$f":"RIGHT(入力表!AA43,2)","v":""},{"$f":"IF(入力表!U43=0,\"\",入力表!U43)","v":""},{"$f":"IF(B31=\"\",\"\",入力表!$N$8)","v":""},{"$f":"IF(B31=\"\",\"\",入力表!$L$4)","v":""},{"$f":"IF(B31=\"\",\"\",入力表!AE43)","v":""},{"$f":"IF(入力表!AH43=\"\",\"\",入力表!AH43)","v":""},"",{"$f":"IF(入力表!AV43=\"\",\"\",入力表!AV43)","v":""},"",{"$f":"IF(入力表!BJ43=\"\",\"\",入力表!BJ43)","v":""},"",{"$f":"IF(入力表!BX43=\"\",\"\",入力表!BX43)","v":""},"",{"$f":"IF(入力表!CA43=\"\",\"\",入力表!CA43)","v":""},"",null,null,{"$f":"IF(入力表!AN43=\"\",\"\",入力表!AN43)","v":""},{"$f":"IF(入力表!AO43=\"\",\"\",入力表!AO43)","v":""},{"$f":"IF(ISERROR(VLOOKUP(IF(W31=\"\",\"\",入力表!AP43),$AU$2:$AV$5,2,FALSE)),\"\",VLOOKUP(IF(W31=\"\",\"\",入力表!AS43),$AU$2:$AV$5,2,FALSE))","v":""},{"$f":"IF(入力表!AQ43=\"\",\"\",入力表!AQ43)","v":""},{"$f":"IF(入力表!AR43=\"\",\"\",入力表!AR43)","v":""},{"$f":"IF(ISERROR(VLOOKUP(入力表!AS43,$AU$2:$AV$5,2,FALSE)),\"\",VLOOKUP(入力表!AS43,$AU$2:$AV$5,2,FALSE))","v":""},{"$f":"IF(入力表!AT43=\"\",\"\",入力表!AT43)","v":""},{"$f":"IF(入力表!AU43=\"\",\"\",入力表!AU43)","v":""},{"$f":"IF(入力表!BB43=\"\",\"\",入力表!BB43)","v":""},{"$f":"IF(入力表!BC43=\"\",\"\",入力表!BC43)","v":""},{"$f":"IF(ISERROR(VLOOKUP(IF(AE31=\"\",\"\",入力表!BD43),$AU$2:$AV$5,2,FALSE)),\"\",VLOOKUP(IF(AE31=\"\",\"\",入力表!BD43),$AU$2:$AV$5,2,FALSE))","v":""},{"$f":"IF(入力表!BE43=\"\",\"\",入力表!BE43)","v":""},{"$f":"IF(入力表!BF43=\"\",\"\",入力表!BF43)","v":""},{"$f":"IF(ISERROR(VLOOKUP(入力表!BG43,$AU$2:$AV$5,2,FALSE)),\"\",VLOOKUP(入力表!BG43,$AU$2:$AV$5,2,FALSE))","v":""},{"$f":"IF(入力表!BH43=\"\",\"\",入力表!BH43)","v":""},{"$f":"IF(入力表!BI43=\"\",\"\",入力表!BI43)","v":""},{"$f":"IF(入力表!BP43=\"\",\"\",入力表!BP43)","v":""},{"$f":"IF(入力表!BQ43=\"\",\"\",入力表!BQ43)","v":""},{"$f":"IF(ISERROR(VLOOKUP(IF(AM31=\"\",\"\",入力表!BR43),$AU$2:$AV$5,2,FALSE)),\"\",VLOOKUP(IF(AM31=\"\",\"\",入力表!BR43),$AU$2:$AV$5,2,FALSE))","v":""},{"$f":"IF(入力表!BS43=\"\",\"\",入力表!BS43)","v":""},{"$f":"IF(入力表!BT43=\"\",\"\",入力表!BT43)","v":""},{"$f":"IF(ISERROR(VLOOKUP(入力表!BU43,$AU$2:$AV$5,2,FALSE)),\"\",VLOOKUP(入力表!BU43,$AU$2:$AV$5,2,FALSE))","v":""},{"$f":"IF(入力表!BV43=\"\",\"\",入力表!BV43)","v":""},{"$f":"IF(入力表!BW43=\"\",\"\",入力表!BW43)","v":""}]
[31,{"$f":"IF(入力表!H44=0,\"\",入力表!H44)","v":""},{"$f":"IF(入力表!J44=0,\"\",入力表!J44)","v":""},{"$f":"IF(入力表!N44=0,\"\",入力表!N44)","v":""},{"$f":"RIGHT(入力表!AA44,2)","v":""},{"$f":"IF(入力表!U44=0,\"\",入力表!U44)","v":""},{"$f":"IF(B32=\"\",\"\",入力表!$N$8)","v":""},{"$f":"IF(B32=\"\",\"\",入力表!$L$4)","v":""},{"$f":"IF(B32=\"\",\"\",入力表!AE44)","v":""},{"$f":"IF(入力表!AH44=\"\",\"\",入力表!AH44)","v":""},"",{"$f":"IF(入力表!AV44=\"\",\"\",入力表!AV44)","v":""},"",{"$f":"IF(入力表!BJ44=\"\",\"\",入力表!BJ44)","v":""},"",{"$f":"IF(入力表!BX44=\"\",\"\",入力表!BX44)","v":""},"",{"$f":"IF(入力表!CA44=\"\",\"\",入力表!CA44)","v":""},"",null,null,{"$f":"IF(入力表!AN44=\"\",\"\",入力表!AN44)","v":""},{"$f":"IF(入力表!AO44=\"\",\"\",入力表!AO44)","v":""},{"$f":"IF(ISERROR(VLOOKUP(IF(W32=\"\",\"\",入力表!AP44),$AU$2:$AV$5,2,FALSE)),\"\",VLOOKUP(IF(W32=\"\",\"\",入力表!AS44),$AU$2:$AV$5,2,FALSE))","v":""},{"$f":"IF(入力表!AQ44=\"\",\"\",入力表!AQ44)","v":""},{"$f":"IF(入力表!AR44=\"\",\"\",入力表!AR44)","v":""},{"$f":"IF(ISERROR(VLOOKUP(入力表!AS44,$AU$2:$AV$5,2,FALSE)),\"\",VLOOKUP(入力表!AS44,$AU$2:$AV$5,2,FALSE))","v":""},{"$f":"IF(入力表!AT44=\"\",\"\",入力表!AT44)","v":""},{"$f":"IF(入力表!AU44=\"\",\"\",入力表!AU44)","v":""},{"$f":"IF(入力表!BB44=\"\",\"\",入力表!BB44)","v":""},{"$f":"IF(入力表!BC44=\"\",\"\",入力表!BC44)","v":""},{"$f":"IF(ISERROR(VLOOKUP(IF(AE32=\"\",\"\",入力表!BD44),$AU$2:$AV$5,2,FALSE)),\"\",VLOOKUP(IF(AE32=\"\",\"\",入力表!BD44),$AU$2:$AV$5,2,FALSE))","v":""},{"$f":"IF(入力表!BE44=\"\",\"\",入力表!BE44)","v":""},{"$f":"IF(入力表!BF44=\"\",\"\",入力表!BF44)","v":""},{"$f":"IF(ISERROR(VLOOKUP(入力表!BG44,$AU$2:$AV$5,2,FALSE)),\"\",VLOOKUP(入力表!BG44,$AU$2:$AV$5,2,FALSE))","v":""},{"$f":"IF(入力表!BH44=\"\",\"\",入力表!BH44)","v":""},{"$f":"IF(入力表!BI44=\"\",\"\",入力表!BI44)","v":""},{"$f":"IF(入力表!BP44=\"\",\"\",入力表!BP44)","v":""},{"$f":"IF(入力表!BQ44=\"\",\"\",入力表!BQ44)","v":""},{"$f":"IF(ISERROR(VLOOKUP(IF(AM32=\"\",\"\",入力表!BR44),$AU$2:$AV$5,2,FALSE)),\"\",VLOOKUP(IF(AM32=\"\",\"\",入力表!BR44),$AU$2:$AV$5,2,FALSE))","v":""},{"$f":"IF(入力表!BS44=\"\",\"\",入力表!BS44)","v":""},{"$f":"IF(入力表!BT44=\"\",\"\",入力表!BT44)","v":""},{"$f":"IF(ISERROR(VLOOKUP(入力表!BU44,$AU$2:$AV$5,2,FALSE)),\"\",VLOOKUP(入力表!BU44,$AU$2:$AV$5,2,FALSE))","v":""},{"$f":"IF(入力表!BV44=\"\",\"\",入力表!BV44)","v":""},{"$f":"IF(入力表!BW44=\"\",\"\",入力表!BW44)","v":""}]
[32,{"$f":"IF(入力表!H45=0,\"\",入力表!H45)","v":""},{"$f":"IF(入力表!J45=0,\"\",入力表!J45)","v":""},{"$f":"IF(入力表!N45=0,\"\",入力表!N45)","v":""},{"$f":"RIGHT(入力表!AA45,2)","v":""},{"$f":"IF(入力表!U45=0,\"\",入力表!U45)","v":""},{"$f":"IF(B33=\"\",\"\",入力表!$N$8)","v":""},{"$f":"IF(B33=\"\",\"\",入力表!$L$4)","v":""},{"$f":"IF(B33=\"\",\"\",入力表!AE45)","v":""},{"$f":"IF(入力表!AH45=\"\",\"\",入力表!AH45)","v":""},"",{"$f":"IF(入力表!AV45=\"\",\"\",入力表!AV45)","v":""},"",{"$f":"IF(入力表!BJ45=\"\",\"\",入力表!BJ45)","v":""},"",{"$f":"IF(入力表!BX45=\"\",\"\",入力表!BX45)","v":""},"",{"$f":"IF(入力表!CA45=\"\",\"\",入力表!CA45)","v":""},"",null,null,{"$f":"IF(入力表!AN45=\"\",\"\",入力表!AN45)","v":""},{"$f":"IF(入力表!AO45=\"\",\"\",入力表!AO45)","v":""},{"$f":"IF(ISERROR(VLOOKUP(IF(W33=\"\",\"\",入力表!AP45),$AU$2:$AV$5,2,FALSE)),\"\",VLOOKUP(IF(W33=\"\",\"\",入力表!AS45),$AU$2:$AV$5,2,FALSE))","v":""},{"$f":"IF(入力表!AQ45=\"\",\"\",入力表!AQ45)","v":""},{"$f":"IF(入力表!AR45=\"\",\"\",入力表!AR45)","v":""},{"$f":"IF(ISERROR(VLOOKUP(入力表!AS45,$AU$2:$AV$5,2,FALSE)),\"\",VLOOKUP(入力表!AS45,$AU$2:$AV$5,2,FALSE))","v":""},{"$f":"IF(入力表!AT45=\"\",\"\",入力表!AT45)","v":""},{"$f":"IF(入力表!AU45=\"\",\"\",入力表!AU45)","v":""},{"$f":"IF(入力表!BB45=\"\",\"\",入力表!BB45)","v":""},{"$f":"IF(入力表!BC45=\"\",\"\",入力表!BC45)","v":""},{"$f":"IF(ISERROR(VLOOKUP(IF(AE33=\"\",\"\",入力表!BD45),$AU$2:$AV$5,2,FALSE)),\"\",VLOOKUP(IF(AE33=\"\",\"\",入力表!BD45),$AU$2:$AV$5,2,FALSE))","v":""},{"$f":"IF(入力表!BE45=\"\",\"\",入力表!BE45)","v":""},{"$f":"IF(入力表!BF45=\"\",\"\",入力表!BF45)","v":""},{"$f":"IF(ISERROR(VLOOKUP(入力表!BG45,$AU$2:$AV$5,2,FALSE)),\"\",VLOOKUP(入力表!BG45,$AU$2:$AV$5,2,FALSE))","v":""},{"$f":"IF(入力表!BH45=\"\",\"\",入力表!BH45)","v":""},{"$f":"IF(入力表!BI45=\"\",\"\",入力表!BI45)","v":""},{"$f":"IF(入力表!BP45=\"\",\"\",入力表!BP45)","v":""},{"$f":"IF(入力表!BQ45=\"\",\"\",入力表!BQ45)","v":""},{"$f":"IF(ISERROR(VLOOKUP(IF(AM33=\"\",\"\",入力表!BR45),$AU$2:$AV$5,2,FALSE)),\"\",VLOOKUP(IF(AM33=\"\",\"\",入力表!BR45),$AU$2:$AV$5,2,FALSE))","v":""},{"$f":"IF(入力表!BS45=\"\",\"\",入力表!BS45)","v":""},{"$f":"IF(入力表!BT45=\"\",\"\",入力表!BT45)","v":""},{"$f":"IF(ISERROR(VLOOKUP(入力表!BU45,$AU$2:$AV$5,2,FALSE)),\"\",VLOOKUP(入力表!BU45,$AU$2:$AV$5,2,FALSE))","v":""},{"$f":"IF(入力表!BV45=\"\",\"\",入力表!BV45)","v":""},{"$f":"IF(入力表!BW45=\"\",\"\",入力表!BW45)","v":""}]
[33,{"$f":"IF(入力表!H46=0,\"\",入力表!H46)","v":""},{"$f":"IF(入力表!J46=0,\"\",入力表!J46)","v":""},{"$f":"IF(入力表!N46=0,\"\",入力表!N46)","v":""},{"$f":"RIGHT(入力表!AA46,2)","v":""},{"$f":"IF(入力表!U46=0,\"\",入力表!U46)","v":""},{"$f":"IF(B34=\"\",\"\",入力表!$N$8)","v":""},{"$f":"IF(B34=\"\",\"\",入力表!$L$4)","v":""},{"$f":"IF(B34=\"\",\"\",入力表!AE46)","v":""},{"$f":"IF(入力表!AH46=\"\",\"\",入力表!AH46)","v":""},"",{"$f":"IF(入力表!AV46=\"\",\"\",入力表!AV46)","v":""},"",{"$f":"IF(入力表!BJ46=\"\",\"\",入力表!BJ46)","v":""},"",{"$f":"IF(入力表!BX46=\"\",\"\",入力表!BX46)","v":""},"",{"$f":"IF(入力表!CA46=\"\",\"\",入力表!CA46)","v":""},"",null,null,{"$f":"IF(入力表!AN46=\"\",\"\",入力表!AN46)","v":""},{"$f":"IF(入力表!AO46=\"\",\"\",入力表!AO46)","v":""},{"$f":"IF(ISERROR(VLOOKUP(IF(W34=\"\",\"\",入力表!AP46),$AU$2:$AV$5,2,FALSE)),\"\",VLOOKUP(IF(W34=\"\",\"\",入力表!AS46),$AU$2:$AV$5,2,FALSE))","v":""},{"$f":"IF(入力表!AQ46=\"\",\"\",入力表!AQ46)","v":""},{"$f":"IF(入力表!AR46=\"\",\"\",入力表!AR46)","v":""},{"$f":"IF(ISERROR(VLOOKUP(入力表!AS46,$AU$2:$AV$5,2,FALSE)),\"\",VLOOKUP(入力表!AS46,$AU$2:$AV$5,2,FALSE))","v":""},{"$f":"IF(入力表!AT46=\"\",\"\",入力表!AT46)","v":""},{"$f":"IF(入力表!AU46=\"\",\"\",入力表!AU46)","v":""},{"$f":"IF(入力表!BB46=\"\",\"\",入力表!BB46)","v":""},{"$f":"IF(入力表!BC46=\"\",\"\",入力表!BC46)","v":""},{"$f":"IF(ISERROR(VLOOKUP(IF(AE34=\"\",\"\",入力表!BD46),$AU$2:$AV$5,2,FALSE)),\"\",VLOOKUP(IF(AE34=\"\",\"\",入力表!BD46),$AU$2:$AV$5,2,FALSE))","v":""},{"$f":"IF(入力表!BE46=\"\",\"\",入力表!BE46)","v":""},{"$f":"IF(入力表!BF46=\"\",\"\",入力表!BF46)","v":""},{"$f":"IF(ISERROR(VLOOKUP(入力表!BG46,$AU$2:$AV$5,2,FALSE)),\"\",VLOOKUP(入力表!BG46,$AU$2:$AV$5,2,FALSE))","v":""},{"$f":"IF(入力表!BH46=\"\",\"\",入力表!BH46)","v":""},{"$f":"IF(入力表!BI46=\"\",\"\",入力表!BI46)","v":""},{"$f":"IF(入力表!BP46=\"\",\"\",入力表!BP46)","v":""},{"$f":"IF(入力表!BQ46=\"\",\"\",入力表!BQ46)","v":""},{"$f":"IF(ISERROR(VLOOKUP(IF(AM34=\"\",\"\",入力表!BR46),$AU$2:$AV$5,2,FALSE)),\"\",VLOOKUP(IF(AM34=\"\",\"\",入力表!BR46),$AU$2:$AV$5,2,FALSE))","v":""},{"$f":"IF(入力表!BS46=\"\",\"\",入力表!BS46)","v":""},{"$f":"IF(入力表!BT46=\"\",\"\",入力表!BT46)","v":""},{"$f":"IF(ISERROR(VLOOKUP(入力表!BU46,$AU$2:$AV$5,2,FALSE)),\"\",VLOOKUP(入力表!BU46,$AU$2:$AV$5,2,FALSE))","v":""},{"$f":"IF(入力表!BV46=\"\",\"\",入力表!BV46)","v":""},{"$f":"IF(入力表!BW46=\"\",\"\",入力表!BW46)","v":""}]
[34,{"$f":"IF(入力表!H47=0,\"\",入力表!H47)","v":""},{"$f":"IF(入力表!J47=0,\"\",入力表!J47)","v":""},{"$f":"IF(入力表!N47=0,\"\",入力表!N47)","v":""},{"$f":"RIGHT(入力表!AA47,2)","v":""},{"$f":"IF(入力表!U47=0,\"\",入力表!U47)","v":""},{"$f":"IF(B35=\"\",\"\",入力表!$N$8)","v":""},{"$f":"IF(B35=\"\",\"\",入力表!$L$4)","v":""},{"$f":"IF(B35=\"\",\"\",入力表!AE47)","v":""},{"$f":"IF(入力表!AH47=\"\",\"\",入力表!AH47)","v":""},"",{"$f":"IF(入力表!AV47=\"\",\"\",入力表!AV47)","v":""},"",{"$f":"IF(入力表!BJ47=\"\",\"\",入力表!BJ47)","v":""},"",{"$f":"IF(入力表!BX47=\"\",\"\",入力表!BX47)","v":""},"",{"$f":"IF(入力表!CA47=\"\",\"\",入力表!CA47)","v":""},"",null,null,{"$f":"IF(入力表!AN47=\"\",\"\",入力表!AN47)","v":""},{"$f":"IF(入力表!AO47=\"\",\"\",入力表!AO47)","v":""},{"$f":"IF(ISERROR(VLOOKUP(IF(W35=\"\",\"\",入力表!AP47),$AU$2:$AV$5,2,FALSE)),\"\",VLOOKUP(IF(W35=\"\",\"\",入力表!AS47),$AU$2:$AV$5,2,FALSE))","v":""},{"$f":"IF(入力表!AQ47=\"\",\"\",入力表!AQ47)","v":""},{"$f":"IF(入力表!AR47=\"\",\"\",入力表!AR47)","v":""},{"$f":"IF(ISERROR(VLOOKUP(入力表!AS47,$AU$2:$AV$5,2,FALSE)),\"\",VLOOKUP(入力表!AS47,$AU$2:$AV$5,2,FALSE))","v":""},{"$f":"IF(入力表!AT47=\"\",\"\",入力表!AT47)","v":""},{"$f":"IF(入力表!AU47=\"\",\"\",入力表!AU47)","v":""},{"$f":"IF(入力表!BB47=\"\",\"\",入力表!BB47)","v":""},{"$f":"IF(入力表!BC47=\"\",\"\",入力表!BC47)","v":""},{"$f":"IF(ISERROR(VLOOKUP(IF(AE35=\"\",\"\",入力表!BD47),$AU$2:$AV$5,2,FALSE)),\"\",VLOOKUP(IF(AE35=\"\",\"\",入力表!BD47),$AU$2:$AV$5,2,FALSE))","v":""},{"$f":"IF(入力表!BE47=\"\",\"\",入力表!BE47)","v":""},{"$f":"IF(入力表!BF47=\"\",\"\",入力表!BF47)","v":""},{"$f":"IF(ISERROR(VLOOKUP(入力表!BG47,$AU$2:$AV$5,2,FALSE)),\"\",VLOOKUP(入力表!BG47,$AU$2:$AV$5,2,FALSE))","v":""},{"$f":"IF(入力表!BH47=\"\",\"\",入力表!BH47)","v":""},{"$f":"IF(入力表!BI47=\"\",\"\",入力表!BI47)","v":""},{"$f":"IF(入力表!BP47=\"\",\"\",入力表!BP47)","v":""},{"$f":"IF(入力表!BQ47=\"\",\"\",入力表!BQ47)","v":""},{"$f":"IF(ISERROR(VLOOKUP(IF(AM35=\"\",\"\",入力表!BR47),$AU$2:$AV$5,2,FALSE)),\"\",VLOOKUP(IF(AM35=\"\",\"\",入力表!BR47),$AU$2:$AV$5,2,FALSE))","v":""},{"$f":"IF(入力表!BS47=\"\",\"\",入力表!BS47)","v":""},{"$f":"IF(入力表!BT47=\"\",\"\",入力表!BT47)","v":""},{"$f":"IF(ISERROR(VLOOKUP(入力表!BU47,$AU$2:$AV$5,2,FALSE)),\"\",VLOOKUP(入力表!BU47,$AU$2:$AV$5,2,FALSE))","v":""},{"$f":"IF(入力表!BV47=\"\",\"\",入力表!BV47)","v":""},{"$f":"IF(入力表!BW47=\"\",\"\",入力表!BW47)","v":""}]
[35,{"$f":"IF(入力表!H48=0,\"\",入力表!H48)","v":""},{"$f":"IF(入力表!J48=0,\"\",入力表!J48)","v":""},{"$f":"IF(入力表!N48=0,\"\",入力表!N48)","v":""},{"$f":"RIGHT(入力表!AA48,2)","v":""},{"$f":"IF(入力表!U48=0,\"\",入力表!U48)","v":""},{"$f":"IF(B36=\"\",\"\",入力表!$N$8)","v":""},{"$f":"IF(B36=\"\",\"\",入力表!$L$4)","v":""},{"$f":"IF(B36=\"\",\"\",入力表!AE48)","v":""},{"$f":"IF(入力表!AH48=\"\",\"\",入力表!AH48)","v":""},"",{"$f":"IF(入力表!AV48=\"\",\"\",入力表!AV48)","v":""},"",{"$f":"IF(入力表!BJ48=\"\",\"\",入力表!BJ48)","v":""},"",{"$f":"IF(入力表!BX48=\"\",\"\",入力表!BX48)","v":""},"",{"$f":"IF(入力表!CA48=\"\",\"\",入力表!CA48)","v":""},"",null,null,{"$f":"IF(入力表!AN48=\"\",\"\",入力表!AN48)","v":""},{"$f":"IF(入力表!AO48=\"\",\"\",入力表!AO48)","v":""},{"$f":"IF(ISERROR(VLOOKUP(IF(W36=\"\",\"\",入力表!AP48),$AU$2:$AV$5,2,FALSE)),\"\",VLOOKUP(IF(W36=\"\",\"\",入力表!AS48),$AU$2:$AV$5,2,FALSE))","v":""},{"$f":"IF(入力表!AQ48=\"\",\"\",入力表!AQ48)","v":""},{"$f":"IF(入力表!AR48=\"\",\"\",入力表!AR48)","v":""},{"$f":"IF(ISERROR(VLOOKUP(入力表!AS48,$AU$2:$AV$5,2,FALSE)),\"\",VLOOKUP(入力表!AS48,$AU$2:$AV$5,2,FALSE))","v":""},{"$f":"IF(入力表!AT48=\"\",\"\",入力表!AT48)","v":""},{"$f":"IF(入力表!AU48=\"\",\"\",入力表!AU48)","v":""},{"$f":"IF(入力表!BB48=\"\",\"\",入力表!BB48)","v":""},{"$f":"IF(入力表!BC48=\"\",\"\",入力表!BC48)","v":""},{"$f":"IF(ISERROR(VLOOKUP(IF(AE36=\"\",\"\",入力表!BD48),$AU$2:$AV$5,2,FALSE)),\"\",VLOOKUP(IF(AE36=\"\",\"\",入力表!BD48),$AU$2:$AV$5,2,FALSE))","v":""},{"$f":"IF(入力表!BE48=\"\",\"\",入力表!BE48)","v":""},{"$f":"IF(入力表!BF48=\"\",\"\",入力表!BF48)","v":""},{"$f":"IF(ISERROR(VLOOKUP(入力表!BG48,$AU$2:$AV$5,2,FALSE)),\"\",VLOOKUP(入力表!BG48,$AU$2:$AV$5,2,FALSE))","v":""},{"$f":"IF(入力表!BH48=\"\",\"\",入力表!BH48)","v":""},{"$f":"IF(入力表!BI48=\"\",\"\",入力表!BI48)","v":""},{"$f":"IF(入力表!BP48=\"\",\"\",入力表!BP48)","v":""},{"$f":"IF(入力表!BQ48=\"\",\"\",入力表!BQ48)","v":""},{"$f":"IF(ISERROR(VLOOKUP(IF(AM36=\"\",\"\",入力表!BR48),$AU$2:$AV$5,2,FALSE)),\"\",VLOOKUP(IF(AM36=\"\",\"\",入力表!BR48),$AU$2:$AV$5,2,FALSE))","v":""},{"$f":"IF(入力表!BS48=\"\",\"\",入力表!BS48)","v":""},{"$f":"IF(入力表!BT48=\"\",\"\",入力表!BT48)","v":""},{"$f":"IF(ISERROR(VLOOKUP(入力表!BU48,$AU$2:$AV$5,2,FALSE)),\"\",VLOOKUP(入力表!BU48,$AU$2:$AV$5,2,FALSE))","v":""},{"$f":"IF(入力表!BV48=\"\",\"\",入力表!BV48)","v":""},{"$f":"IF(入力表!BW48=\"\",\"\",入力表!BW48)","v":""}]
[36,{"$f":"IF(入力表!H49=0,\"\",入力表!H49)","v":""},{"$f":"IF(入力表!J49=0,\"\",入力表!J49)","v":""},{"$f":"IF(入力表!N49=0,\"\",入力表!N49)","v":""},{"$f":"RIGHT(入力表!AA49,2)","v":""},{"$f":"IF(入力表!U49=0,\"\",入力表!U49)","v":""},{"$f":"IF(B37=\"\",\"\",入力表!$N$8)","v":""},{"$f":"IF(B37=\"\",\"\",入力表!$L$4)","v":""},{"$f":"IF(B37=\"\",\"\",入力表!AE49)","v":""},{"$f":"IF(入力表!AH49=\"\",\"\",入力表!AH49)","v":""},"",{"$f":"IF(入力表!AV49=\"\",\"\",入力表!AV49)","v":""},"",{"$f":"IF(入力表!BJ49=\"\",\"\",入力表!BJ49)","v":""},"",{"$f":"IF(入力表!BX49=\"\",\"\",入力表!BX49)","v":""},"",{"$f":"IF(入力表!CA49=\"\",\"\",入力表!CA49)","v":""},"",null,null,{"$f":"IF(入力表!AN49=\"\",\"\",入力表!AN49)","v":""},{"$f":"IF(入力表!AO49=\"\",\"\",入力表!AO49)","v":""},{"$f":"IF(ISERROR(VLOOKUP(IF(W37=\"\",\"\",入力表!AP49),$AU$2:$AV$5,2,FALSE)),\"\",VLOOKUP(IF(W37=\"\",\"\",入力表!AS49),$AU$2:$AV$5,2,FALSE))","v":""},{"$f":"IF(入力表!AQ49=\"\",\"\",入力表!AQ49)","v":""},{"$f":"IF(入力表!AR49=\"\",\"\",入力表!AR49)","v":""},{"$f":"IF(ISERROR(VLOOKUP(入力表!AS49,$AU$2:$AV$5,2,FALSE)),\"\",VLOOKUP(入力表!AS49,$AU$2:$AV$5,2,FALSE))","v":""},{"$f":"IF(入力表!AT49=\"\",\"\",入力表!AT49)","v":""},{"$f":"IF(入力表!AU49=\"\",\"\",入力表!AU49)","v":""},{"$f":"IF(入力表!BB49=\"\",\"\",入力表!BB49)","v":""},{"$f":"IF(入力表!BC49=\"\",\"\",入力表!BC49)","v":""},{"$f":"IF(ISERROR(VLOOKUP(IF(AE37=\"\",\"\",入力表!BD49),$AU$2:$AV$5,2,FALSE)),\"\",VLOOKUP(IF(AE37=\"\",\"\",入力表!BD49),$AU$2:$AV$5,2,FALSE))","v":""},{"$f":"IF(入力表!BE49=\"\",\"\",入力表!BE49)","v":""},{"$f":"IF(入力表!BF49=\"\",\"\",入力表!BF49)","v":""},{"$f":"IF(ISERROR(VLOOKUP(入力表!BG49,$AU$2:$AV$5,2,FALSE)),\"\",VLOOKUP(入力表!BG49,$AU$2:$AV$5,2,FALSE))","v":""},{"$f":"IF(入力表!BH49=\"\",\"\",入力表!BH49)","v":""},{"$f":"IF(入力表!BI49=\"\",\"\",入力表!BI49)","v":""},{"$f":"IF(入力表!BP49=\"\",\"\",入力表!BP49)","v":""},{"$f":"IF(入力表!BQ49=\"\",\"\",入力表!BQ49)","v":""},{"$f":"IF(ISERROR(VLOOKUP(IF(AM37=\"\",\"\",入力表!BR49),$AU$2:$AV$5,2,FALSE)),\"\",VLOOKUP(IF(AM37=\"\",\"\",入力表!BR49),$AU$2:$AV$5,2,FALSE))","v":""},{"$f":"IF(入力表!BS49=\"\",\"\",入力表!BS49)","v":""},{"$f":"IF(入力表!BT49=\"\",\"\",入力表!BT49)","v":""},{"$f":"IF(ISERROR(VLOOKUP(入力表!BU49,$AU$2:$AV$5,2,FALSE)),\"\",VLOOKUP(入力表!BU49,$AU$2:$AV$5,2,FALSE))","v":""},{"$f":"IF(入力表!BV49=\"\",\"\",入力表!BV49)","v":""},{"$f":"IF(入力表!BW49=\"\",\"\",入力表!BW49)","v":""}]
[37,{"$f":"IF(入力表!H50=0,\"\",入力表!H50)","v":""},{"$f":"IF(入力表!J50=0,\"\",入力表!J50)","v":""},{"$f":"IF(入力表!N50=0,\"\",入力表!N50)","v":""},{"$f":"RIGHT(入力表!AA50,2)","v":""},{"$f":"IF(入力表!U50=0,\"\",入力表!U50)","v":""},{"$f":"IF(B38=\"\",\"\",入力表!$N$8)","v":""},{"$f":"IF(B38=\"\",\"\",入力表!$L$4)","v":""},{"$f":"IF(B38=\"\",\"\",入力表!AE50)","v":""},{"$f":"IF(入力表!AH50=\"\",\"\",入力表!AH50)","v":""},"",{"$f":"IF(入力表!AV50=\"\",\"\",入力表!AV50)","v":""},"",{"$f":"IF(入力表!BJ50=\"\",\"\",入力表!BJ50)","v":""},"",{"$f":"IF(入力表!BX50=\"\",\"\",入力表!BX50)","v":""},"",{"$f":"IF(入力表!CA50=\"\",\"\",入力表!CA50)","v":""},"",null,null,{"$f":"IF(入力表!AN50=\"\",\"\",入力表!AN50)","v":""},{"$f":"IF(入力表!AO50=\"\",\"\",入力表!AO50)","v":""},{"$f":"IF(ISERROR(VLOOKUP(IF(W38=\"\",\"\",入力表!AP50),$AU$2:$AV$5,2,FALSE)),\"\",VLOOKUP(IF(W38=\"\",\"\",入力表!AS50),$AU$2:$AV$5,2,FALSE))","v":""},{"$f":"IF(入力表!AQ50=\"\",\"\",入力表!AQ50)","v":""},{"$f":"IF(入力表!AR50=\"\",\"\",入力表!AR50)","v":""},{"$f":"IF(ISERROR(VLOOKUP(入力表!AS50,$AU$2:$AV$5,2,FALSE)),\"\",VLOOKUP(入力表!AS50,$AU$2:$AV$5,2,FALSE))","v":""},{"$f":"IF(入力表!AT50=\"\",\"\",入力表!AT50)","v":""},{"$f":"IF(入力表!AU50=\"\",\"\",入力表!AU50)","v":""},{"$f":"IF(入力表!BB50=\"\",\"\",入力表!BB50)","v":""},{"$f":"IF(入力表!BC50=\"\",\"\",入力表!BC50)","v":""},{"$f":"IF(ISERROR(VLOOKUP(IF(AE38=\"\",\"\",入力表!BD50),$AU$2:$AV$5,2,FALSE)),\"\",VLOOKUP(IF(AE38=\"\",\"\",入力表!BD50),$AU$2:$AV$5,2,FALSE))","v":""},{"$f":"IF(入力表!BE50=\"\",\"\",入力表!BE50)","v":""},{"$f":"IF(入力表!BF50=\"\",\"\",入力表!BF50)","v":""},{"$f":"IF(ISERROR(VLOOKUP(入力表!BG50,$AU$2:$AV$5,2,FALSE)),\"\",VLOOKUP(入力表!BG50,$AU$2:$AV$5,2,FALSE))","v":""},{"$f":"IF(入力表!BH50=\"\",\"\",入力表!BH50)","v":""},{"$f":"IF(入力表!BI50=\"\",\"\",入力表!BI50)","v":""},{"$f":"IF(入力表!BP50=\"\",\"\",入力表!BP50)","v":""},{"$f":"IF(入力表!BQ50=\"\",\"\",入力表!BQ50)","v":""},{"$f":"IF(ISERROR(VLOOKUP(IF(AM38=\"\",\"\",入力表!BR50),$AU$2:$AV$5,2,FALSE)),\"\",VLOOKUP(IF(AM38=\"\",\"\",入力表!BR50),$AU$2:$AV$5,2,FALSE))","v":""},{"$f":"IF(入力表!BS50=\"\",\"\",入力表!BS50)","v":""},{"$f":"IF(入力表!BT50=\"\",\"\",入力表!BT50)","v":""},{"$f":"IF(ISERROR(VLOOKUP(入力表!BU50,$AU$2:$AV$5,2,FALSE)),\"\",VLOOKUP(入力表!BU50,$AU$2:$AV$5,2,FALSE))","v":""},{"$f":"IF(入力表!BV50=\"\",\"\",入力表!BV50)","v":""},{"$f":"IF(入力表!BW50=\"\",\"\",入力表!BW50)","v":""}]
[38,{"$f":"IF(入力表!H51=0,\"\",入力表!H51)","v":""},{"$f":"IF(入力表!J51=0,\"\",入力表!J51)","v":""},{"$f":"IF(入力表!N51=0,\"\",入力表!N51)","v":""},{"$f":"RIGHT(入力表!AA51,2)","v":""},{"$f":"IF(入力表!U51=0,\"\",入力表!U51)","v":""},{"$f":"IF(B39=\"\",\"\",入力表!$N$8)","v":""},{"$f":"IF(B39=\"\",\"\",入力表!$L$4)","v":""},{"$f":"IF(B39=\"\",\"\",入力表!AE51)","v":""},{"$f":"IF(入力表!AH51=\"\",\"\",入力表!AH51)","v":""},"",{"$f":"IF(入力表!AV51=\"\",\"\",入力表!AV51)","v":""},"",{"$f":"IF(入力表!BJ51=\"\",\"\",入力表!BJ51)","v":""},"",{"$f":"IF(入力表!BX51=\"\",\"\",入力表!BX51)","v":""},"",{"$f":"IF(入力表!CA51=\"\",\"\",入力表!CA51)","v":""},"",null,null,{"$f":"IF(入力表!AN51=\"\",\"\",入力表!AN51)","v":""},{"$f":"IF(入力表!AO51=\"\",\"\",入力表!AO51)","v":""},{"$f":"IF(ISERROR(VLOOKUP(IF(W39=\"\",\"\",入力表!AP51),$AU$2:$AV$5,2,FALSE)),\"\",VLOOKUP(IF(W39=\"\",\"\",入力表!AS51),$AU$2:$AV$5,2,FALSE))","v":""},{"$f":"IF(入力表!AQ51=\"\",\"\",入力表!AQ51)","v":""},{"$f":"IF(入力表!AR51=\"\",\"\",入力表!AR51)","v":""},{"$f":"IF(ISERROR(VLOOKUP(入力表!AS51,$AU$2:$AV$5,2,FALSE)),\"\",VLOOKUP(入力表!AS51,$AU$2:$AV$5,2,FALSE))","v":""},{"$f":"IF(入力表!AT51=\"\",\"\",入力表!AT51)","v":""},{"$f":"IF(入力表!AU51=\"\",\"\",入力表!AU51)","v":""},{"$f":"IF(入力表!BB51=\"\",\"\",入力表!BB51)","v":""},{"$f":"IF(入力表!BC51=\"\",\"\",入力表!BC51)","v":""},{"$f":"IF(ISERROR(VLOOKUP(IF(AE39=\"\",\"\",入力表!BD51),$AU$2:$AV$5,2,FALSE)),\"\",VLOOKUP(IF(AE39=\"\",\"\",入力表!BD51),$AU$2:$AV$5,2,FALSE))","v":""},{"$f":"IF(入力表!BE51=\"\",\"\",入力表!BE51)","v":""},{"$f":"IF(入力表!BF51=\"\",\"\",入力表!BF51)","v":""},{"$f":"IF(ISERROR(VLOOKUP(入力表!BG51,$AU$2:$AV$5,2,FALSE)),\"\",VLOOKUP(入力表!BG51,$AU$2:$AV$5,2,FALSE))","v":""},{"$f":"IF(入力表!BH51=\"\",\"\",入力表!BH51)","v":""},{"$f":"IF(入力表!BI51=\"\",\"\",入力表!BI51)","v":""},{"$f":"IF(入力表!BP51=\"\",\"\",入力表!BP51)","v":""},{"$f":"IF(入力表!BQ51=\"\",\"\",入力表!BQ51)","v":""},{"$f":"IF(ISERROR(VLOOKUP(IF(AM39=\"\",\"\",入力表!BR51),$AU$2:$AV$5,2,FALSE)),\"\",VLOOKUP(IF(AM39=\"\",\"\",入力表!BR51),$AU$2:$AV$5,2,FALSE))","v":""},{"$f":"IF(入力表!BS51=\"\",\"\",入力表!BS51)","v":""},{"$f":"IF(入力表!BT51=\"\",\"\",入力表!BT51)","v":""},{"$f":"IF(ISERROR(VLOOKUP(入力表!BU51,$AU$2:$AV$5,2,FALSE)),\"\",VLOOKUP(入力表!BU51,$AU$2:$AV$5,2,FALSE))","v":""},{"$f":"IF(入力表!BV51=\"\",\"\",入力表!BV51)","v":""},{"$f":"IF(入力表!BW51=\"\",\"\",入力表!BW51)","v":""}]
[39,{"$f":"IF(入力表!H52=0,\"\",入力表!H52)","v":""},{"$f":"IF(入力表!J52=0,\"\",入力表!J52)","v":""},{"$f":"IF(入力表!N52=0,\"\",入力表!N52)","v":""},{"$f":"RIGHT(入力表!AA52,2)","v":""},{"$f":"IF(入力表!U52=0,\"\",入力表!U52)","v":""},{"$f":"IF(B40=\"\",\"\",入力表!$N$8)","v":""},{"$f":"IF(B40=\"\",\"\",入力表!$L$4)","v":""},{"$f":"IF(B40=\"\",\"\",入力表!AE52)","v":""},{"$f":"IF(入力表!AH52=\"\",\"\",入力表!AH52)","v":""},"",{"$f":"IF(入力表!AV52=\"\",\"\",入力表!AV52)","v":""},"",{"$f":"IF(入力表!BJ52=\"\",\"\",入力表!BJ52)","v":""},"",{"$f":"IF(入力表!BX52=\"\",\"\",入力表!BX52)","v":""},"",{"$f":"IF(入力表!CA52=\"\",\"\",入力表!CA52)","v":""},"",null,null,{"$f":"IF(入力表!AN52=\"\",\"\",入力表!AN52)","v":""},{"$f":"IF(入力表!AO52=\"\",\"\",入力表!AO52)","v":""},{"$f":"IF(ISERROR(VLOOKUP(IF(W40=\"\",\"\",入力表!AP52),$AU$2:$AV$5,2,FALSE)),\"\",VLOOKUP(IF(W40=\"\",\"\",入力表!AS52),$AU$2:$AV$5,2,FALSE))","v":""},{"$f":"IF(入力表!AQ52=\"\",\"\",入力表!AQ52)","v":""},{"$f":"IF(入力表!AR52=\"\",\"\",入力表!AR52)","v":""},{"$f":"IF(ISERROR(VLOOKUP(入力表!AS52,$AU$2:$AV$5,2,FALSE)),\"\",VLOOKUP(入力表!AS52,$AU$2:$AV$5,2,FALSE))","v":""},{"$f":"IF(入力表!AT52=\"\",\"\",入力表!AT52)","v":""},{"$f":"IF(入力表!AU52=\"\",\"\",入力表!AU52)","v":""},{"$f":"IF(入力表!BB52=\"\",\"\",入力表!BB52)","v":""},{"$f":"IF(入力表!BC52=\"\",\"\",入力表!BC52)","v":""},{"$f":"IF(ISERROR(VLOOKUP(IF(AE40=\"\",\"\",入力表!BD52),$AU$2:$AV$5,2,FALSE)),\"\",VLOOKUP(IF(AE40=\"\",\"\",入力表!BD52),$AU$2:$AV$5,2,FALSE))","v":""},{"$f":"IF(入力表!BE52=\"\",\"\",入力表!BE52)","v":""},{"$f":"IF(入力表!BF52=\"\",\"\",入力表!BF52)","v":""},{"$f":"IF(ISERROR(VLOOKUP(入力表!BG52,$AU$2:$AV$5,2,FALSE)),\"\",VLOOKUP(入力表!BG52,$AU$2:$AV$5,2,FALSE))","v":""},{"$f":"IF(入力表!BH52=\"\",\"\",入力表!BH52)","v":""},{"$f":"IF(入力表!BI52=\"\",\"\",入力表!BI52)","v":""},{"$f":"IF(入力表!BP52=\"\",\"\",入力表!BP52)","v":""},{"$f":"IF(入力表!BQ52=\"\",\"\",入力表!BQ52)","v":""},{"$f":"IF(ISERROR(VLOOKUP(IF(AM40=\"\",\"\",入力表!BR52),$AU$2:$AV$5,2,FALSE)),\"\",VLOOKUP(IF(AM40=\"\",\"\",入力表!BR52),$AU$2:$AV$5,2,FALSE))","v":""},{"$f":"IF(入力表!BS52=\"\",\"\",入力表!BS52)","v":""},{"$f":"IF(入力表!BT52=\"\",\"\",入力表!BT52)","v":""},{"$f":"IF(ISERROR(VLOOKUP(入力表!BU52,$AU$2:$AV$5,2,FALSE)),\"\",VLOOKUP(入力表!BU52,$AU$2:$AV$5,2,FALSE))","v":""},{"$f":"IF(入力表!BV52=\"\",\"\",入力表!BV52)","v":""},{"$f":"IF(入力表!BW52=\"\",\"\",入力表!BW52)","v":""}]
[40,{"$f":"IF(入力表!H53=0,\"\",入力表!H53)","v":""},{"$f":"IF(入力表!J53=0,\"\",入力表!J53)","v":""},{"$f":"IF(入力表!N53=0,\"\",入力表!N53)","v":""},{"$f":"RIGHT(入力表!AA53,2)","v":""},{"$f":"IF(入力表!U53=0,\"\",入力表!U53)","v":""},{"$f":"IF(B41=\"\",\"\",入力表!$N$8)","v":""},{"$f":"IF(B41=\"\",\"\",入力表!$L$4)","v":""},{"$f":"IF(B41=\"\",\"\",入力表!AE53)","v":""},{"$f":"IF(入力表!AH53=\"\",\"\",入力表!AH53)","v":""},"",{"$f":"IF(入力表!AV53=\"\",\"\",入力表!AV53)","v":""},"",{"$f":"IF(入力表!BJ53=\"\",\"\",入力表!BJ53)","v":""},"",{"$f":"IF(入力表!BX53=\"\",\"\",入力表!BX53)","v":""},"",{"$f":"IF(入力表!CA53=\"\",\"\",入力表!CA53)","v":""},"",null,null,{"$f":"IF(入力表!AN53=\"\",\"\",入力表!AN53)","v":""},{"$f":"IF(入力表!AO53=\"\",\"\",入力表!AO53)","v":""},{"$f":"IF(ISERROR(VLOOKUP(IF(W41=\"\",\"\",入力表!AP53),$AU$2:$AV$5,2,FALSE)),\"\",VLOOKUP(IF(W41=\"\",\"\",入力表!AS53),$AU$2:$AV$5,2,FALSE))","v":""},{"$f":"IF(入力表!AQ53=\"\",\"\",入力表!AQ53)","v":""},{"$f":"IF(入力表!AR53=\"\",\"\",入力表!AR53)","v":""},{"$f":"IF(ISERROR(VLOOKUP(入力表!AS53,$AU$2:$AV$5,2,FALSE)),\"\",VLOOKUP(入力表!AS53,$AU$2:$AV$5,2,FALSE))","v":""},{"$f":"IF(入力表!AT53=\"\",\"\",入力表!AT53)","v":""},{"$f":"IF(入力表!AU53=\"\",\"\",入力表!AU53)","v":""},{"$f":"IF(入力表!BB53=\"\",\"\",入力表!BB53)","v":""},{"$f":"IF(入力表!BC53=\"\",\"\",入力表!BC53)","v":""},{"$f":"IF(ISERROR(VLOOKUP(IF(AE41=\"\",\"\",入力表!BD53),$AU$2:$AV$5,2,FALSE)),\"\",VLOOKUP(IF(AE41=\"\",\"\",入力表!BD53),$AU$2:$AV$5,2,FALSE))","v":""},{"$f":"IF(入力表!BE53=\"\",\"\",入力表!BE53)","v":""},{"$f":"IF(入力表!BF53=\"\",\"\",入力表!BF53)","v":""},{"$f":"IF(ISERROR(VLOOKUP(入力表!BG53,$AU$2:$AV$5,2,FALSE)),\"\",VLOOKUP(入力表!BG53,$AU$2:$AV$5,2,FALSE))","v":""},{"$f":"IF(入力表!BH53=\"\",\"\",入力表!BH53)","v":""},{"$f":"IF(入力表!BI53=\"\",\"\",入力表!BI53)","v":""},{"$f":"IF(入力表!BP53=\"\",\"\",入力表!BP53)","v":""},{"$f":"IF(入力表!BQ53=\"\",\"\",入力表!BQ53)","v":""},{"$f":"IF(ISERROR(VLOOKUP(IF(AM41=\"\",\"\",入力表!BR53),$AU$2:$AV$5,2,FALSE)),\"\",VLOOKUP(IF(AM41=\"\",\"\",入力表!BR53),$AU$2:$AV$5,2,FALSE))","v":""},{"$f":"IF(入力表!BS53=\"\",\"\",入力表!BS53)","v":""},{"$f":"IF(入力表!BT53=\"\",\"\",入力表!BT53)","v":""},{"$f":"IF(ISERROR(VLOOKUP(入力表!BU53,$AU$2:$AV$5,2,FALSE)),\"\",VLOOKUP(入力表!BU53,$AU$2:$AV$5,2,FALSE))","v":""},{"$f":"IF(入力表!BV53=\"\",\"\",入力表!BV53)","v":""},{"$f":"IF(入力表!BW53=\"\",\"\",入力表!BW53)","v":""}]

{"sheet":"①初期設定","index":5,"n_rows":190,"n_cols":36,"rows_kept":190,"cut":false,"hidden":true,"merged":[[125,7,125,16],[140,7,140,16],[139,7,139,16],[128,7,128,16],[129,7,129,16],[130,7,130,16],[136,7,136,16],[135,7,135,16],[121,7,121,16],[127,7,127,16],[134,7,134,16],[122,7,122,16],[123,7,123,16],[124,7,124,16],[141,7,141,16],[126,7,126,16],[131,7,131,16],[132,7,132,16],[133,7,133,16],[138,7,138,16],[137,7,137,16],[157,24,157,33],[158,24,158,33],[156,7,156,16],[157,7,157,16],[158,7,158,16],[159,24,159,33],[160,24,160,33],[128,24,128,33],[161,24,161,33],[162,24,162,33],[129,24,129,33],[135,24,135,33],[138,24,138,33],[149,24,149,33],[150,24,150,33],[151,24,151,33],[152,24,152,33],[153,24,153,33],[154,24,154,33],[155,24,155,33],[156,24,156,33],[163,24,163,33],[145,24,145,33],[147,24,147,33],[119,24,119,33],[137,24,137,33],[139,24,139,33],[140,24,140,33],[142,24,142,33],[144,24,144,33],[131,24,131,33],[132,24,132,33],[133,24,133,33],[134,24,134,33],[136,24,136,33],[122,24,122,33],[124,24,124,33],[126,24,126,33],[127,24,127,33],[130,24,130,33],[141,24,141,33],[143,24,143,33],[148,24,148,33],[146,24,146,33],[125,24,125,33],[159,7,159,16],[160,7,160,16],[161,7,161,16],[162,7,162,16],[163,7,163,16],[142,7,142,16],[145,7,145,16],[149,7,149,16],[153,7,153,16],[151,7,151,16],[143,7,143,16],[146,7,146,16],[147,7,147,16],[150,7,150,16],[154,7,154,16],[144,7,144,16],[148,7,148,16],[155,7,155,16],[152,7,152,16],[116,7,116,16],[117,7,117,16],[118,7,118,16],[119,7,119,16],[120,7,120,16],[93,19,93,27],[94,19,94,27],[95,19,95,27],[123,24,123,33],[117,24,117,33],[118,24,118,33],[120,24,120,33],[116,24,116,33],[114,7,115,16],[121,24,121,33],[100,19,100,27],[101,19,101,27],[102,19,102,27],[103,19,103,27],[104,5,104,13],[104,19,104,27],[105,5,105,13],[105,19,105,27],[106,5,106,13],[46,19,47,27],[83,19,83,27],[84,19,84,27],[85,19,85,27],[86,19,86,27],[87,19,87,27],[78,19,78,27],[79,19,79,27],[80,19,80,27],[81,19,81,27],[82,19,82,27],[73,19,73,27],[74,19,74,27],[75,19,75,27],[76,19,76,27],[77,19,77,27],[68,19,68,27],[69,19,69,27],[70,19,70,27],[71,19,71,27],[72,19,72,27],[63,19,63,27],[64,19,64,27],[65,19,65,27],[114,1,115,2],[114,3,115,4],[114,5,115,6],[114,18,115,19],[114,20,115,21],[114,22,115,23],[88,19,88,27],[89,19,89,27],[90,19,90,27],[91,19,91,27],[92,19,92,27],[114,24,115,33],[96,5,96,13],[97,5,97,13],[98,5,98,13],[99,5,99,13],[100,5,100,13],[101,5,101,13],[102,5,102,13],[103,5,103,13],[96,19,96,27],[97,19,97,27],[98,19,98,27],[99,19,99,27],[66,19,66,27],[67,19,67,27],[58,19,58,27],[59,19,59,27],[60,19,60,27],[61,19,61,27],[62,19,62,27],[53,19,53,27],[54,19,54,27],[55,19,55,27],[56,19,56,27],[57,19,57,27],[48,19,48,27],[49,19,49,27],[50,19,50,27],[51,19,51,27],[52,19,52,27],[95,5,95,13],[46,5,47,13],[46,1,47,2],[46,3,47,4],[90,5,90,13],[91,5,91,13],[92,5,92,13],[93,5,93,13],[94,5,94,13],[85,5,85,13],[86,5,86,13],[87,5,87,13],[88,5,88,13],[89,5,89,13],[80,5,80,13],[81,5,81,13],[82,5,82,13],[83,5,83,13],[84,5,84,13],[75,5,75,13],[76,5,76,13],[77,5,77,13],[78,5,78,13],[79,5,79,13],[70,5,70,13],[71,5,71,13],[72,5,72,13],[73,5,73,13],[74,5,74,13],[65,5,65,13],[66,5,66,13],[67,5,67,13],[68,5,68,13],[69,5,69,13],[60,5,60,13],[61,5,61,13],[62,5,62,13],[63,5,63,13],[64,5,64,13],[55,5,55,13],[56,5,56,13],[57,5,57,13],[58,5,58,13],[59,5,59,13],[50,5,50,13],[51,5,51,13],[52,5,52,13],[53,5,53,13],[54,5,54,13],[42,4,42,6],[29,1,29,3],[30,1,30,3],[31,1,31,3],[31,4,31,6],[48,5,48,13],[49,5,49,13],[36,4,36,6],[37,4,37,6],[38,4,38,6],[39,4,39,6],[40,4,40,6],[44,1,44,10],[30,4,30,6],[37,1,37,3],[22,1,22,10],[46,15,47,16],[46,17,47,18],[16,1,16,10],[2,1,2,10],[0,12,0,21],[13,1,13,10],[14,1,14,10],[0,1,0,10],[25,1,25,3],[26,1,26,3],[41,1,41,3],[42,1,42,3],[24,4,24,6],[25,4,25,6],[26,4,26,6],[27,4,27,6],[28,4,28,6],[29,4,29,6],[38,1,38,3],[39,1,39,3],[40,1,40,3],[41,4,41,6],[3,1,3,10],[4,1,4,10],[5,1,5,10],[6,1,6,10],[7,1,7,10],[8,1,8,10],[9,1,9,10],[10,1,10,10],[11,1,11,10],[12,1,12,10],[27,1,27,3],[24,1,24,3],[36,1,36,3],[32,1,32,3],[33,1,33,3],[34,1,34,3],[35,1,35,3],[28,1,28,3],[32,4,32,6],[33,4,33,6],[34,4,34,6],[35,4,35,6],[171,7,171,16],[171,24,171,33],[172,7,172,16],[172,24,172,33],[173,7,173,16],[173,24,173,33],[164,7,164,16],[165,7,165,16],[166,7,166,16],[167,7,167,16],[168,7,168,16],[164,24,164,33],[165,24,165,33],[166,24,166,33],[167,24,167,33],[168,24,168,33],[106,19,106,27],[107,5,107,13],[107,19,107,27],[108,5,108,13],[108,19,108,27],[109,5,109,13],[109,19,109,27],[110,5,110,13],[110,19,110,27],[111,5,111,13],[111,19,111,27],[112,5,112,13],[112,19,112,27],[179,7,179,16],[179,24,179,33],[180,7,180,16],[180,24,180,33],[181,7,181,16],[181,24,181,33],[174,7,174,16],[174,24,174,33],[175,7,175,16],[175,24,175,33],[176,7,176,16],[176,24,176,33],[177,7,177,16],[177,24,177,33],[178,7,178,16],[178,24,178,33],[169,7,169,16],[169,24,169,33],[170,7,170,16],[170,24,170,33],[187,7,187,16],[187,24,187,33],[188,7,188,16],[188,24,188,33],[189,7,189,16],[189,24,189,33],[182,7,182,16],[182,24,182,33],[183,7,183,16],[183,24,183,33],[184,7,184,16],[184,24,184,33],[185,7,185,16],[185,24,185,33],[186,7,186,16],[186,24,186,33]]}
[1,"大会名の設定",null,null,null,null,null,null,null,null,null,null,"オホーツク陸上競技選手権大会"]
[]
[null,"大会名"]
[]
[null,"オホーツク陸協　記録会第１戦"]
[null,"オホーツク陸協　記録会第２戦"]
[null,"オホーツク陸協　記録会第３戦"]
[null,"オホーツク陸協　記録会第４戦"]
[null,"オホーツク陸協　記録会第５戦"]
[null,"オホーツク陸上競技選手権大会"]
[null,"オホーツク秋季陸上競技大会"]
[null,"小学生陸上競技記録会ｵﾎｰﾂｸ会場"]
[null,"オホーツク小学生陸上競技記録会"]
[]
[]
[]
[2,"申込〆切"]
[null,null,null,null,null,null,null,null,null,null,null,null,null,null,null,null,1,2,3,4,5,6,7,8,9,10,11,12]
[null,5,"月",1,"日","（","月","）",17,"：","00",null,null,null,null,null,1,2,3,4,5,6,7,8,9,10,11,12,13,14,15,16,17,18,19,28]
[null,null,null,null,null,null,null,null,null,null,null,null,null,null,null,null,"月","火","水","木","金","土","日"]
[]
[]
[3,"参加料"]
[]
[null,"幼児1種目"]
[null,"幼児2種目"]
[null,"幼児3種目"]
[null,"小学1種目",null,null,800]
[null,"小学2種目",null,null,1000]
[null,"小学3種目"]
[null,"中学1種目",null,null,1000]
[null,"中学2種目",null,null,1500]
[null,"中学3種目"]
[null,"高校1種目",null,null,1500]
[null,"高校2種目",null,null,2000]
[null,"高校3種目"]
[null,"一般1種目",null,null,2000]
[null,"一般2種目",null,null,3000]
[null,"一般3種目"]
[null,"小学リレー",null,null,1000]
[null,"中学リレー",null,null,1500]
[null,"高校リレー",null,null,2000]
[null,"一般リレー",null,null,2000]
[]
[3,"申込〆切"]
[]
[null,"幼児",null,"小学",null,"幼児・小学男子",null,null,null,null,null,null,null,null,null,"幼児",null,"小学",null,"幼児・小学女子"]
[]
[null,null,{"$f":"SUM($B$49:B49)","v":0},null,{"$f":"SUM($D$49:D49)","v":0},"幼男60m",null,null,null,null,null,null,null,null,null,null,{"$f":"SUM($P$49:P49)","v":0},null,{"$f":"SUM($R$49:R49)","v":0},"幼女60m"]
[null,null,{"$f":"SUM($B$49:B50)","v":0},null,{"$f":"SUM($D$49:D50)","v":0},"小男2年60m",null,null,null,null,null,null,null,null,null,null,{"$f":"SUM($P$49:P50)","v":0},null,{"$f":"SUM($R$49:R50)","v":0},"小女2年60m"]
[null,null,{"$f":"SUM($B$49:B51)","v":0},null,{"$f":"SUM($D$49:D51)","v":0},"小男1年60m",null,null,null,null,null,null,null,null,null,null,{"$f":"SUM($P$49:P51)","v":0},null,{"$f":"SUM($R$49:R51)","v":0},"小女1年60m"]
[null,null,{"$f":"SUM($B$49:B52)","v":0},null,{"$f":"SUM($D$49:D52)","v":0},"小男100m",null,null,null,null,null,null,null,null,null,null,{"$f":"SUM($P$49:P52)","v":0},null,{"$f":"SUM($R$49:R52)","v":0},"小女100m"]
[null,null,{"$f":"SUM($B$49:B53)","v":0},1,{"$f":"SUM($D$49:D53)","v":1},"小男6年100m",null,null,null,null,null,null,null,null,null,null,{"$f":"SUM($P$49:P53)","v":0},1,{"$f":"SUM($R$49:R53)","v":1},"小女6年100m"]
[null,null,{"$f":"SUM($B$49:B54)","v":0},1,{"$f":"SUM($D$49:D54)","v":2},"小男5年100m",null,null,null,null,null,null,null,null,null,null,{"$f":"SUM($P$49:P54)","v":0},1,{"$f":"SUM($R$49:R54)","v":2},"小女5年100m"]
[null,null,{"$f":"SUM($B$49:B55)","v":0},1,{"$f":"SUM($D$49:D55)","v":3},"小男4年100m",null,null,null,null,null,null,null,null,null,null,{"$f":"SUM($P$49:P55)","v":0},1,{"$f":"SUM($R$49:R55)","v":3},"小女4年100m"]
[null,null,{"$f":"SUM($B$49:B56)","v":0},1,{"$f":"SUM($D$49:D56)","v":4},"小男3年100m",null,null,null,null,null,null,null,null,null,null,{"$f":"SUM($P$49:P56)","v":0},1,{"$f":"SUM($R$49:R56)","v":4},"小女3年100m"]
[null,null,{"$f":"SUM($B$49:B57)","v":0},null,{"$f":"SUM($D$49:D57)","v":4},"小男2年100m",null,null,null,null,null,null,null,null,null,null,{"$f":"SUM($P$49:P57)","v":0},null,{"$f":"SUM($R$49:R57)","v":4},"小女2年100m"]
[null,null,{"$f":"SUM($B$49:B58)","v":0},null,{"$f":"SUM($D$49:D58)","v":4},"小男800m",null,null,null,null,null,null,null,null,null,null,{"$f":"SUM($P$49:P58)","v":0},null,{"$f":"SUM($R$49:R58)","v":4},"小女800m"]
[null,null,{"$f":"SUM($B$49:B59)","v":0},1,{"$f":"SUM($D$49:D59)","v":5},"小男4年800m",null,null,null,null,null,null,null,null,null,null,{"$f":"SUM($P$49:P59)","v":0},1,{"$f":"SUM($R$49:R59)","v":5},"小女6年800m"]
[null,null,{"$f":"SUM($B$49:B60)","v":0},1,{"$f":"SUM($D$49:D60)","v":6},"小男3年800m",null,null,null,null,null,null,null,null,null,null,{"$f":"SUM($P$49:P60)","v":0},1,{"$f":"SUM($R$49:R60)","v":6},"小女5年800m"]
[null,null,{"$f":"SUM($B$49:B61)","v":0},null,{"$f":"SUM($D$49:D61)","v":6},"小男2年800m",null,null,null,null,null,null,null,null,null,null,{"$f":"SUM($P$49:P61)","v":0},1,{"$f":"SUM($R$49:R61)","v":7},"小女4年800m"]
[null,null,{"$f":"SUM($B$49:B62)","v":0},null,{"$f":"SUM($D$49:D62)","v":6},"小男1500m",null,null,null,null,null,null,null,null,null,null,{"$f":"SUM($P$49:P62)","v":0},1,{"$f":"SUM($R$49:R62)","v":8},"小女3年800m"]
[null,null,{"$f":"SUM($B$49:B63)","v":0},1,{"$f":"SUM($D$49:D63)","v":7},"小男6年1500m",null,null,null,null,null,null,null,null,null,null,{"$f":"SUM($P$49:P63)","v":0},null,{"$f":"SUM($R$49:R63)","v":8},"小女2年800m"]
[null,null,{"$f":"SUM($B$49:B64)","v":0},1,{"$f":"SUM($D$49:D64)","v":8},"小男5年1500m",null,null,null,null,null,null,null,null,null,null,{"$f":"SUM($P$49:P64)","v":0},null,{"$f":"SUM($R$49:R64)","v":8},"小女80mH"]
[null,null,{"$f":"SUM($B$49:B65)","v":0},null,{"$f":"SUM($D$49:D65)","v":8},"小男4年1500m",null,null,null,null,null,null,null,null,null,null,{"$f":"SUM($P$49:P65)","v":0},1,{"$f":"SUM($R$49:R65)","v":9},"小女6年80mH"]
[null,null,{"$f":"SUM($B$49:B66)","v":0},null,{"$f":"SUM($D$49:D66)","v":8},"小男5・6年1500m",null,null,null,null,null,null,null,null,null,null,{"$f":"SUM($P$49:P66)","v":0},1,{"$f":"SUM($R$49:R66)","v":10},"小女5年80mH"]
[null,null,{"$f":"SUM($B$49:B67)","v":0},null,{"$f":"SUM($D$49:D67)","v":8},"小男80mH",null,null,null,null,null,null,null,null,null,null,{"$f":"SUM($P$49:P67)","v":0},null,{"$f":"SUM($R$49:R67)","v":10},"小女4年80mH"]
[null,null,{"$f":"SUM($B$49:B68)","v":0},1,{"$f":"SUM($D$49:D68)","v":9},"小男6年80mH",null,null,null,null,null,null,null,null,null,null,{"$f":"SUM($P$49:P68)","v":0},null,{"$f":"SUM($R$49:R68)","v":10},"小女5・6年80mH"]
[null,null,{"$f":"SUM($B$49:B69)","v":0},1,{"$f":"SUM($D$49:D69)","v":10},"小男5年80mH",null,null,null,null,null,null,null,null,null,null,{"$f":"SUM($P$49:P69)","v":0},null,{"$f":"SUM($R$49:R69)","v":10},"小女走高跳"]
[null,null,{"$f":"SUM($B$49:B70)","v":0},null,{"$f":"SUM($D$49:D70)","v":10},"小男4年80mH",null,null,null,null,null,null,null,null,null,null,{"$f":"SUM($P$49:P70)","v":0},1,{"$f":"SUM($R$49:R70)","v":11},"小女6年走高跳"]
[null,null,{"$f":"SUM($B$49:B71)","v":0},null,{"$f":"SUM($D$49:D71)","v":10},"小男5・6年80mH",null,null,null,null,null,null,null,null,null,null,{"$f":"SUM($P$49:P71)","v":0},1,{"$f":"SUM($R$49:R71)","v":12},"小女5年走高跳"]
[null,null,{"$f":"SUM($B$49:B72)","v":0},null,{"$f":"SUM($D$49:D72)","v":10},"小男走高跳",null,null,null,null,null,null,null,null,null,null,{"$f":"SUM($P$49:P72)","v":0},null,{"$f":"SUM($R$49:R72)","v":12},"小女4年走高跳"]
[null,null,{"$f":"SUM($B$49:B73)","v":0},1,{"$f":"SUM($D$49:D73)","v":11},"小男6年走高跳",null,null,null,null,null,null,null,null,null,null,{"$f":"SUM($P$49:P73)","v":0},null,{"$f":"SUM($R$49:R73)","v":12},"小女3年走高跳"]
[null,null,{"$f":"SUM($B$49:B74)","v":0},1,{"$f":"SUM($D$49:D74)","v":12},"小男5年走高跳",null,null,null,null,null,null,null,null,null,null,{"$f":"SUM($P$49:P74)","v":0},null,{"$f":"SUM($R$49:R74)","v":12},"小女走幅跳"]
[null,null,{"$f":"SUM($B$49:B75)","v":0},null,{"$f":"SUM($D$49:D75)","v":12},"小男4年走高跳",null,null,null,null,null,null,null,null,null,null,{"$f":"SUM($P$49:P75)","v":0},1,{"$f":"SUM($R$49:R75)","v":13},"小女6年走幅跳"]
[null,null,{"$f":"SUM($B$49:B76)","v":0},null,{"$f":"SUM($D$49:D76)","v":12},"小男3年走高跳",null,null,null,null,null,null,null,null,null,null,{"$f":"SUM($P$49:P76)","v":0},1,{"$f":"SUM($R$49:R76)","v":14},"小女5年走幅跳"]
[null,null,{"$f":"SUM($B$49:B77)","v":0},null,{"$f":"SUM($D$49:D77)","v":12},"小男走幅跳",null,null,null,null,null,null,null,null,null,null,{"$f":"SUM($P$49:P77)","v":0},1,{"$f":"SUM($R$49:R77)","v":15},"小女4年走幅跳"]
[null,null,{"$f":"SUM($B$49:B78)","v":0},1,{"$f":"SUM($D$49:D78)","v":13},"小男6年走幅跳",null,null,null,null,null,null,null,null,null,null,{"$f":"SUM($P$49:P78)","v":0},null,{"$f":"SUM($R$49:R78)","v":15},"小女3年走幅跳"]
[null,null,{"$f":"SUM($B$49:B79)","v":0},1,{"$f":"SUM($D$49:D79)","v":14},"小男5年走幅跳",null,null,null,null,null,null,null,null,null,null,{"$f":"SUM($P$49:P79)","v":0},null,{"$f":"SUM($R$49:R79)","v":15},"小女砲丸"]
[null,null,{"$f":"SUM($B$49:B80)","v":0},1,{"$f":"SUM($D$49:D80)","v":15},"小男4年走幅跳",null,null,null,null,null,null,null,null,null,null,{"$f":"SUM($P$49:P80)","v":0},1,{"$f":"SUM($R$49:R80)","v":16},"小女6年砲丸"]
[null,null,{"$f":"SUM($B$49:B81)","v":0},null,{"$f":"SUM($D$49:D81)","v":15},"小男3年走幅跳",null,null,null,null,null,null,null,null,null,null,{"$f":"SUM($P$49:P81)","v":0},null,{"$f":"SUM($R$49:R81)","v":16},"小女5年砲丸"]
[null,null,{"$f":"SUM($B$49:B82)","v":0},null,{"$f":"SUM($D$49:D82)","v":15},"小男砲丸",null,null,null,null,null,null,null,null,null,null,{"$f":"SUM($P$49:P82)","v":0},null,{"$f":"SUM($R$49:R82)","v":16},"小女ｼﾞｬﾍﾞﾘｯｸﾎﾞｰﾙｽﾛｰ"]
[null,null,{"$f":"SUM($B$49:B83)","v":0},1,{"$f":"SUM($D$49:D83)","v":16},"小男6年砲丸",null,null,null,null,null,null,null,null,null,null,{"$f":"SUM($P$49:P83)","v":0},1,{"$f":"SUM($R$49:R83)","v":17},"小女6年ｼﾞｬﾍﾞﾘｯｸﾎﾞｰﾙｽﾛｰ"]
[null,null,{"$f":"SUM($B$49:B84)","v":0},null,{"$f":"SUM($D$49:D84)","v":16},"小男5年砲丸",null,null,null,null,null,null,null,null,null,null,{"$f":"SUM($P$49:P84)","v":0},1,{"$f":"SUM($R$49:R84)","v":18},"小女5年ｼﾞｬﾍﾞﾘｯｸﾎﾞｰﾙｽﾛｰ"]
[null,null,{"$f":"SUM($B$49:B85)","v":0},null,{"$f":"SUM($D$49:D85)","v":16},"小男ｼﾞｬﾍﾞﾘｯｸﾎﾞｰﾙｽﾛｰ",null,null,null,null,null,null,null,null,null,null,{"$f":"SUM($P$49:P85)","v":0},1,{"$f":"SUM($R$49:R85)","v":19},"小女4年ｼﾞｬﾍﾞﾘｯｸﾎﾞｰﾙｽﾛｰ"]
[null,null,{"$f":"SUM($B$49:B86)","v":0},1,{"$f":"SUM($D$49:D86)","v":17},"小男6年ｼﾞｬﾍﾞﾘｯｸﾎﾞｰﾙｽﾛｰ",null,null,null,null,null,null,null,null,null,null,{"$f":"SUM($P$49:P86)","v":0},1,{"$f":"SUM($R$49:R86)","v":20},"小女3年ｼﾞｬﾍﾞﾘｯｸﾎﾞｰﾙｽﾛｰ"]
[null,null,{"$f":"SUM($B$49:B87)","v":0},1,{"$f":"SUM($D$49:D87)","v":18},"小男5年ｼﾞｬﾍﾞﾘｯｸﾎﾞｰﾙｽﾛｰ",null,null,null,null,null,null,null,null,null,null,{"$f":"SUM($P$49:P87)","v":0},null,{"$f":"SUM($R$49:R87)","v":20}]
[null,null,{"$f":"SUM($B$49:B88)","v":0},1,{"$f":"SUM($D$49:D88)","v":19},"小男4年ｼﾞｬﾍﾞﾘｯｸﾎﾞｰﾙｽﾛｰ",null,null,null,null,null,null,null,null,null,null,{"$f":"SUM($P$49:P88)","v":0},null,{"$f":"SUM($R$49:R88)","v":20}]
[null,null,{"$f":"SUM($B$49:B89)","v":0},1,{"$f":"SUM($D$49:D89)","v":20},"小男3年ｼﾞｬﾍﾞﾘｯｸﾎﾞｰﾙｽﾛｰ",null,null,null,null,null,null,null,null,null,null,{"$f":"SUM($P$49:P89)","v":0},null,{"$f":"SUM($R$49:R89)","v":20}]
[null,null,{"$f":"SUM($B$49:B90)","v":0},null,{"$f":"SUM($D$49:D90)","v":20},null,null,null,null,null,null,null,null,null,null,null,{"$f":"SUM($P$49:P90)","v":0},null,{"$f":"SUM($R$49:R90)","v":20}]
[null,null,{"$f":"SUM($B$49:B91)","v":0},null,{"$f":"SUM($D$49:D91)","v":20},null,null,null,null,null,null,null,null,null,null,null,{"$f":"SUM($P$49:P91)","v":0},null,{"$f":"SUM($R$49:R91)","v":20}]
[null,null,{"$f":"SUM($B$49:B92)","v":0},null,{"$f":"SUM($D$49:D92)","v":20},null,null,null,null,null,null,null,null,null,null,null,{"$f":"SUM($P$49:P92)","v":0},null,{"$f":"SUM($R$49:R92)","v":20}]
[null,null,{"$f":"SUM($B$49:B93)","v":0},null,{"$f":"SUM($D$49:D93)","v":20},null,null,null,null,null,null,null,null,null,null,null,{"$f":"SUM($P$49:P93)","v":0},null,{"$f":"SUM($R$49:R93)","v":20}]
[null,null,{"$f":"SUM($B$49:B94)","v":0},null,{"$f":"SUM($D$49:D94)","v":20},null,null,null,null,null,null,null,null,null,null,null,{"$f":"SUM($P$49:P94)","v":0},null,{"$f":"SUM($R$49:R94)","v":20}]
[null,null,{"$f":"SUM($B$49:B95)","v":0},null,{"$f":"SUM($D$49:D95)","v":20},null,null,null,null,null,null,null,null,null,null,null,{"$f":"SUM($P$49:P95)","v":0},null,{"$f":"SUM($R$49:R95)","v":20}]
[null,null,{"$f":"SUM($B$49:B96)","v":0},null,{"$f":"SUM($D$49:D96)","v":20},null,null,null,null,null,null,null,null,null,null,null,{"$f":"SUM($P$49:P96)","v":0},null,{"$f":"SUM($R$49:R96)","v":20}]
[null,null,{"$f":"SUM($B$49:B97)","v":0},null,{"$f":"SUM($D$49:D97)","v":20},null,null,null,null,null,null,null,null,null,null,null,{"$f":"SUM($P$49:P97)","v":0},null,{"$f":"SUM($R$49:R97)","v":20}]
[null,null,{"$f":"SUM($B$49:B98)","v":0},null,{"$f":"SUM($D$49:D98)","v":20},null,null,null,null,null,null,null,null,null,null,null,{"$f":"SUM($P$49:P98)","v":0},null,{"$f":"SUM($R$49:R98)","v":20}]
[null,null,{"$f":"SUM($B$49:B99)","v":0},null,{"$f":"SUM($D$49:D99)","v":20},null,null,null,null,null,null,null,null,null,null,null,{"$f":"SUM($P$49:P99)","v":0},null,{"$f":"SUM($R$49:R99)","v":20}]
[null,null,{"$f":"SUM($B$49:B100)","v":0},null,{"$f":"SUM($D$49:D100)","v":20},null,null,null,null,null,null,null,null,null,null,null,{"$f":"SUM($P$49:P100)","v":0},null,{"$f":"SUM($R$49:R100)","v":20}]
[null,null,{"$f":"SUM($B$49:B101)","v":0},null,{"$f":"SUM($D$49:D101)","v":20},null,null,null,null,null,null,null,null,null,null,null,{"$f":"SUM($P$49:P101)","v":0},null,{"$f":"SUM($R$49:R101)","v":20}]
[null,null,{"$f":"SUM($B$49:B102)","v":0},null,{"$f":"SUM($D$49:D102)","v":20},null,null,null,null,null,null,null,null,null,null,null,{"$f":"SUM($P$49:P102)","v":0},null,{"$f":"SUM($R$49:R102)","v":20}]
[null,null,{"$f":"SUM($B$49:B103)","v":0},null,{"$f":"SUM($D$49:D103)","v":20},null,null,null,null,null,null,null,null,null,null,null,{"$f":"SUM($P$49:P103)","v":0},null,{"$f":"SUM($R$49:R103)","v":20}]
[null,null,{"$f":"SUM($B$49:B104)","v":0},null,{"$f":"SUM($D$49:D104)","v":20},null,null,null,null,null,null,null,null,null,null,null,{"$f":"SUM($P$49:P104)","v":0},null,{"$f":"SUM($R$49:R104)","v":20}]
[null,null,{"$f":"SUM($B$49:B105)","v":0},null,{"$f":"SUM($D$49:D105)","v":20},null,null,null,null,null,null,null,null,null,null,null,{"$f":"SUM($P$49:P105)","v":0},null,{"$f":"SUM($R$49:R105)","v":20}]
[null,null,{"$f":"SUM($B$49:B106)","v":0},null,{"$f":"SUM($D$49:D106)","v":20},null,null,null,null,null,null,null,null,null,null,null,{"$f":"SUM($P$49:P106)","v":0},null,{"$f":"SUM($R$49:R106)","v":20}]
[null,null,{"$f":"SUM($B$49:B107)","v":0},null,{"$f":"SUM($D$49:D107)","v":20},null,null,null,null,null,null,null,null,null,null,null,{"$f":"SUM($P$49:P107)","v":0},null,{"$f":"SUM($R$49:R107)","v":20}]
[null,null,{"$f":"SUM($B$49:B108)","v":0},null,{"$f":"SUM($D$49:D108)","v":20},null,null,null,null,null,null,null,null,null,null,null,{"$f":"SUM($P$49:P108)","v":0},null,{"$f":"SUM($R$49:R108)","v":20}]
[null,null,{"$f":"SUM($B$49:B109)","v":0},null,{"$f":"SUM($D$49:D109)","v":20},null,null,null,null,null,null,null,null,null,null,null,{"$f":"SUM($P$49:P109)","v":0},null,{"$f":"SUM($R$49:R109)","v":20}]
[null,null,{"$f":"SUM($B$49:B110)","v":0},null,{"$f":"SUM($D$49:D110)","v":20},null,null,null,null,null,null,null,null,null,null,null,{"$f":"SUM($P$49:P110)","v":0},null,{"$f":"SUM($R$49:R110)","v":20}]
[null,null,{"$f":"SUM($B$49:B111)","v":0},null,{"$f":"SUM($D$49:D111)","v":20},null,null,null,null,null,null,null,null,null,null,null,{"$f":"SUM($P$49:P111)","v":0},null,{"$f":"SUM($R$49:R111)","v":20}]
[null,null,{"$f":"SUM($B$49:B112)","v":0},null,{"$f":"SUM($D$49:D112)","v":20},null,null,null,null,null,null,null,null,null,null,null,{"$f":"SUM($P$49:P112)","v":0},null,{"$f":"SUM($R$49:R112)","v":20}]
[null,null,{"$f":"SUM($B$49:B113)","v":0},null,{"$f":"SUM($D$49:D113)","v":20},null,null,null,null,null,null,null,null,null,null,null,{"$f":"SUM($P$49:P113)","v":0},null,{"$f":"SUM($R$49:R113)","v":20}]
[]
[null,"中学",null,"高校",null,"一般",null,"中学・高校・一般男子",null,null,null,null,null,null,null,null,null,null,"中学",null,"高校",null,"一般",null,"中学・高校・一般女子"]
[]
[null,null,{"$f":"SUM(B$117:B117)","v":0},1,{"$f":"SUM(D$117:D117)","v":1},1,{"$f":"SUM(F$117:F117)","v":1},"共男100m",null,null,null,null,null,null,null,null,null,null,null,{"$f":"SUM(S$117:S117)","v":0},1,{"$f":"SUM(U$117:U117)","v":1},1,{"$f":"SUM(W$117:W117)","v":1},"共女100m"]
[null,1,{"$f":"SUM(B$117:B118)","v":1},null,{"$f":"SUM(D$117:D118)","v":1},null,{"$f":"SUM(F$117:F118)","v":1},"中男100m",null,null,null,null,null,null,null,null,null,null,1,{"$f":"SUM(S$117:S118)","v":1},null,{"$f":"SUM(U$117:U118)","v":1},null,{"$f":"SUM(W$117:W118)","v":1},"中女100m"]
[null,null,{"$f":"SUM(B$117:B119)","v":1},null,{"$f":"SUM(D$117:D119)","v":1},null,{"$f":"SUM(F$117:F119)","v":1},"中3年男100m",null,null,null,null,null,null,null,null,null,null,null,{"$f":"SUM(S$117:S119)","v":1},null,{"$f":"SUM(U$117:U119)","v":1},null,{"$f":"SUM(W$117:W119)","v":1},"中3年女100m"]
[null,null,{"$f":"SUM(B$117:B120)","v":1},null,{"$f":"SUM(D$117:D120)","v":1},null,{"$f":"SUM(F$117:F120)","v":1},"中2年男100m",null,null,null,null,null,null,null,null,null,null,null,{"$f":"SUM(S$117:S120)","v":1},null,{"$f":"SUM(U$117:U120)","v":1},null,{"$f":"SUM(W$117:W120)","v":1},"中2年女100m"]
[null,null,{"$f":"SUM(B$117:B121)","v":1},null,{"$f":"SUM(D$117:D121)","v":1},null,{"$f":"SUM(F$117:F121)","v":1},"中1年男100m",null,null,null,null,null,null,null,null,null,null,null,{"$f":"SUM(S$117:S121)","v":1},null,{"$f":"SUM(U$117:U121)","v":1},null,{"$f":"SUM(W$117:W121)","v":1},"中1年女100m"]
[null,null,{"$f":"SUM(B$117:B122)","v":1},null,{"$f":"SUM(D$117:D122)","v":1},null,{"$f":"SUM(F$117:F122)","v":1},"中2・3年男100m",null,null,null,null,null,null,null,null,null,null,null,{"$f":"SUM(S$117:S122)","v":1},null,{"$f":"SUM(U$117:U122)","v":1},null,{"$f":"SUM(W$117:W122)","v":1},"中2・3年女100m"]
[null,1,{"$f":"SUM(B$117:B123)","v":2},1,{"$f":"SUM(D$117:D123)","v":2},1,{"$f":"SUM(F$117:F123)","v":2},"共男200m",null,null,null,null,null,null,null,null,null,null,1,{"$f":"SUM(S$117:S123)","v":2},1,{"$f":"SUM(U$117:U123)","v":2},1,{"$f":"SUM(W$117:W123)","v":2},"共女200m"]
[null,null,{"$f":"SUM(B$117:B124)","v":2},null,{"$f":"SUM(D$117:D124)","v":2},null,{"$f":"SUM(F$117:F124)","v":2},"中男200m",null,null,null,null,null,null,null,null,null,null,null,{"$f":"SUM(S$117:S124)","v":2},null,{"$f":"SUM(U$117:U124)","v":2},null,{"$f":"SUM(W$117:W124)","v":2},"中女200m"]
[null,null,{"$f":"SUM(B$117:B125)","v":2},null,{"$f":"SUM(D$117:D125)","v":2},null,{"$f":"SUM(F$117:F125)","v":2},"共男300m",null,null,null,null,null,null,null,null,null,null,null,{"$f":"SUM(S$117:S125)","v":2},null,{"$f":"SUM(U$117:U125)","v":2},null,{"$f":"SUM(W$117:W125)","v":2},"共女300m"]
[null,1,{"$f":"SUM(B$117:B126)","v":3},1,{"$f":"SUM(D$117:D126)","v":3},1,{"$f":"SUM(F$117:F126)","v":3},"共男400m",null,null,null,null,null,null,null,null,null,null,1,{"$f":"SUM(S$117:S126)","v":3},1,{"$f":"SUM(U$117:U126)","v":3},1,{"$f":"SUM(W$117:W126)","v":3},"共女400m"]
[null,null,{"$f":"SUM(B$117:B127)","v":3},null,{"$f":"SUM(D$117:D127)","v":3},null,{"$f":"SUM(F$117:F127)","v":3},"中男400m",null,null,null,null,null,null,null,null,null,null,null,{"$f":"SUM(S$117:S127)","v":3},null,{"$f":"SUM(U$117:U127)","v":3},null,{"$f":"SUM(W$117:W127)","v":3},"中女400m"]
[null,1,{"$f":"SUM(B$117:B128)","v":4},1,{"$f":"SUM(D$117:D128)","v":4},1,{"$f":"SUM(F$117:F128)","v":4},"共男800m",null,null,null,null,null,null,null,null,null,null,1,{"$f":"SUM(S$117:S128)","v":4},1,{"$f":"SUM(U$117:U128)","v":4},1,{"$f":"SUM(W$117:W128)","v":4},"共女800m"]
[null,null,{"$f":"SUM(B$117:B129)","v":4},null,{"$f":"SUM(D$117:D129)","v":4},null,{"$f":"SUM(F$117:F129)","v":4},"中男800m",null,null,null,null,null,null,null,null,null,null,null,{"$f":"SUM(S$117:S129)","v":4},null,{"$f":"SUM(U$117:U129)","v":4},null,{"$f":"SUM(W$117:W129)","v":4},"中女800m"]
[null,null,{"$f":"SUM(B$117:B130)","v":4},null,{"$f":"SUM(D$117:D130)","v":4},null,{"$f":"SUM(F$117:F130)","v":4},"共男1000m",null,null,null,null,null,null,null,null,null,null,null,{"$f":"SUM(S$117:S130)","v":4},null,{"$f":"SUM(U$117:U130)","v":4},null,{"$f":"SUM(W$117:W130)","v":4},"共女1000m"]
[null,1,{"$f":"SUM(B$117:B131)","v":5},1,{"$f":"SUM(D$117:D131)","v":5},1,{"$f":"SUM(F$117:F131)","v":5},"共男1500m",null,null,null,null,null,null,null,null,null,null,1,{"$f":"SUM(S$117:S131)","v":5},1,{"$f":"SUM(U$117:U131)","v":5},1,{"$f":"SUM(W$117:W131)","v":5},"共女1500m"]
[null,null,{"$f":"SUM(B$117:B132)","v":5},null,{"$f":"SUM(D$117:D132)","v":5},null,{"$f":"SUM(F$117:F132)","v":5},"中男1500m",null,null,null,null,null,null,null,null,null,null,null,{"$f":"SUM(S$117:S132)","v":5},null,{"$f":"SUM(U$117:U132)","v":5},null,{"$f":"SUM(W$117:W132)","v":5},"中女1500m"]
[null,null,{"$f":"SUM(B$117:B133)","v":5},null,{"$f":"SUM(D$117:D133)","v":5},null,{"$f":"SUM(F$117:F133)","v":5},"中2年男1500m",null,null,null,null,null,null,null,null,null,null,1,{"$f":"SUM(S$117:S133)","v":6},1,{"$f":"SUM(U$117:U133)","v":6},1,{"$f":"SUM(W$117:W133)","v":6},"共女3000m"]
[null,null,{"$f":"SUM(B$117:B134)","v":5},null,{"$f":"SUM(D$117:D134)","v":5},null,{"$f":"SUM(F$117:F134)","v":5},"中1年男1500m",null,null,null,null,null,null,null,null,null,null,null,{"$f":"SUM(S$117:S134)","v":6},null,{"$f":"SUM(U$117:U134)","v":6},null,{"$f":"SUM(W$117:W134)","v":6},"中女3000m"]
[null,null,{"$f":"SUM(B$117:B135)","v":5},null,{"$f":"SUM(D$117:D135)","v":5},null,{"$f":"SUM(F$117:F135)","v":5},"中2・3年男1500m",null,null,null,null,null,null,null,null,null,null,null,{"$f":"SUM(S$117:S135)","v":6},null,{"$f":"SUM(U$117:U135)","v":6},null,{"$f":"SUM(W$117:W135)","v":6},"中女80mH"]
[null,1,{"$f":"SUM(B$117:B136)","v":6},null,{"$f":"SUM(D$117:D136)","v":5},null,{"$f":"SUM(F$117:F136)","v":5},"共男3000m",null,null,null,null,null,null,null,null,null,null,null,{"$f":"SUM(S$117:S136)","v":6},1,{"$f":"SUM(U$117:U136)","v":7},1,{"$f":"SUM(W$117:W136)","v":7},"共女100mH"]
[null,null,{"$f":"SUM(B$117:B137)","v":6},null,{"$f":"SUM(D$117:D137)","v":5},null,{"$f":"SUM(F$117:F137)","v":5},"中男3000m",null,null,null,null,null,null,null,null,null,null,1,{"$f":"SUM(S$117:S137)","v":7},null,{"$f":"SUM(U$117:U137)","v":7},null,{"$f":"SUM(W$117:W137)","v":7},"中女100mH"]
[null,null,{"$f":"SUM(B$117:B138)","v":6},1,{"$f":"SUM(D$117:D138)","v":6},1,{"$f":"SUM(F$117:F138)","v":6},"共男5000m",null,null,null,null,null,null,null,null,null,null,null,{"$f":"SUM(S$117:S138)","v":7},null,{"$f":"SUM(U$117:U138)","v":7},null,{"$f":"SUM(W$117:W138)","v":7},"共女100mYH"]
[null,null,{"$f":"SUM(B$117:B139)","v":6},1,{"$f":"SUM(D$117:D139)","v":7},1,{"$f":"SUM(F$117:F139)","v":7},"共男110mH",null,null,null,null,null,null,null,null,null,null,null,{"$f":"SUM(S$117:S139)","v":7},1,{"$f":"SUM(U$117:U139)","v":8},1,{"$f":"SUM(W$117:W139)","v":8},"共女400mH"]
[null,1,{"$f":"SUM(B$117:B140)","v":7},null,{"$f":"SUM(D$117:D140)","v":7},null,{"$f":"SUM(F$117:F140)","v":7},"中男110mH",null,null,null,null,null,null,null,null,null,null,null,{"$f":"SUM(S$117:S140)","v":7},1,{"$f":"SUM(U$117:U140)","v":9},1,{"$f":"SUM(W$117:W140)","v":9},"共女5000mW"]
[null,null,{"$f":"SUM(B$117:B141)","v":7},null,{"$f":"SUM(D$117:D141)","v":7},null,{"$f":"SUM(F$117:F141)","v":7},"中男100mH",null,null,null,null,null,null,null,null,null,null,null,{"$f":"SUM(S$117:S141)","v":7},1,{"$f":"SUM(U$117:U141)","v":10},1,{"$f":"SUM(W$117:W141)","v":10},"共女走高跳"]
[null,null,{"$f":"SUM(B$117:B142)","v":7},null,{"$f":"SUM(D$117:D142)","v":7},null,{"$f":"SUM(F$117:F142)","v":7},"共男110mJH",null,null,null,null,null,null,null,null,null,null,1,{"$f":"SUM(S$117:S142)","v":8},null,{"$f":"SUM(U$117:U142)","v":10},null,{"$f":"SUM(W$117:W142)","v":10},"中女走高跳"]
[null,null,{"$f":"SUM(B$117:B143)","v":7},1,{"$f":"SUM(D$117:D143)","v":8},1,{"$f":"SUM(F$117:F143)","v":8},"共男400mH",null,null,null,null,null,null,null,null,null,null,null,{"$f":"SUM(S$117:S143)","v":8},1,{"$f":"SUM(U$117:U143)","v":11},1,{"$f":"SUM(W$117:W143)","v":11},"共女棒高跳"]
[null,null,{"$f":"SUM(B$117:B144)","v":7},1,{"$f":"SUM(D$117:D144)","v":9},1,{"$f":"SUM(F$117:F144)","v":9},"共男3000mSC",null,null,null,null,null,null,null,null,null,null,null,{"$f":"SUM(S$117:S144)","v":8},null,{"$f":"SUM(U$117:U144)","v":11},null,{"$f":"SUM(W$117:W144)","v":11},"中女棒高跳"]
[null,null,{"$f":"SUM(B$117:B145)","v":7},1,{"$f":"SUM(D$117:D145)","v":10},1,{"$f":"SUM(F$117:F145)","v":10},"共男5000mW",null,null,null,null,null,null,null,null,null,null,null,{"$f":"SUM(S$117:S145)","v":8},1,{"$f":"SUM(U$117:U145)","v":12},1,{"$f":"SUM(W$117:W145)","v":12},"共女走幅跳"]
[null,null,{"$f":"SUM(B$117:B146)","v":7},1,{"$f":"SUM(D$117:D146)","v":11},1,{"$f":"SUM(F$117:F146)","v":11},"共男走高跳",null,null,null,null,null,null,null,null,null,null,1,{"$f":"SUM(S$117:S146)","v":9},null,{"$f":"SUM(U$117:U146)","v":12},null,{"$f":"SUM(W$117:W146)","v":12},"中女走幅跳"]
[null,1,{"$f":"SUM(B$117:B147)","v":8},null,{"$f":"SUM(D$117:D147)","v":11},null,{"$f":"SUM(F$117:F147)","v":11},"中男走高跳",null,null,null,null,null,null,null,null,null,null,null,{"$f":"SUM(S$117:S147)","v":9},1,{"$f":"SUM(U$117:U147)","v":13},1,{"$f":"SUM(W$117:W147)","v":13},"共女三段跳"]
[null,null,{"$f":"SUM(B$117:B148)","v":8},1,{"$f":"SUM(D$117:D148)","v":12},1,{"$f":"SUM(F$117:F148)","v":12},"共男棒高跳",null,null,null,null,null,null,null,null,null,null,null,{"$f":"SUM(S$117:S148)","v":9},1,{"$f":"SUM(U$117:U148)","v":14},1,{"$f":"SUM(W$117:W148)","v":14},"共女砲丸"]
[null,1,{"$f":"SUM(B$117:B149)","v":9},null,{"$f":"SUM(D$117:D149)","v":12},null,{"$f":"SUM(F$117:F149)","v":12},"中男棒高跳",null,null,null,null,null,null,null,null,null,null,1,{"$f":"SUM(S$117:S149)","v":10},null,{"$f":"SUM(U$117:U149)","v":14},null,{"$f":"SUM(W$117:W149)","v":14},"中女砲丸"]
[null,null,{"$f":"SUM(B$117:B150)","v":9},1,{"$f":"SUM(D$117:D150)","v":13},1,{"$f":"SUM(F$117:F150)","v":13},"共男走幅跳",null,null,null,null,null,null,null,null,null,null,null,{"$f":"SUM(S$117:S150)","v":10},1,{"$f":"SUM(U$117:U150)","v":15},1,{"$f":"SUM(W$117:W150)","v":15},"共女円盤"]
[null,1,{"$f":"SUM(B$117:B151)","v":10},null,{"$f":"SUM(D$117:D151)","v":13},null,{"$f":"SUM(F$117:F151)","v":13},"中男走幅跳",null,null,null,null,null,null,null,null,null,null,1,{"$f":"SUM(S$117:S151)","v":11},null,{"$f":"SUM(U$117:U151)","v":15},null,{"$f":"SUM(W$117:W151)","v":15},"中女円盤"]
[null,null,{"$f":"SUM(B$117:B152)","v":10},1,{"$f":"SUM(D$117:D152)","v":14},1,{"$f":"SUM(F$117:F152)","v":14},"共男三段跳",null,null,null,null,null,null,null,null,null,null,null,{"$f":"SUM(S$117:S152)","v":11},1,{"$f":"SUM(U$117:U152)","v":16},1,{"$f":"SUM(W$117:W152)","v":16},"共女ハンマー"]
[null,null,{"$f":"SUM(B$117:B153)","v":10},null,{"$f":"SUM(D$117:D153)","v":14},1,{"$f":"SUM(F$117:F153)","v":15},"一般男砲丸",null,null,null,null,null,null,null,null,null,null,null,{"$f":"SUM(S$117:S153)","v":11},1,{"$f":"SUM(U$117:U153)","v":17},1,{"$f":"SUM(W$117:W153)","v":17},"共女やり(600g)"]
[null,null,{"$f":"SUM(B$117:B154)","v":10},1,{"$f":"SUM(D$117:D154)","v":15},null,{"$f":"SUM(F$117:F154)","v":15},"高校男砲丸",null,null,null,null,null,null,null,null,null,null,null,{"$f":"SUM(S$117:S154)","v":11},1,{"$f":"SUM(U$117:U154)","v":18},null,{"$f":"SUM(W$117:W154)","v":17},"共女七種競技"]
[null,1,{"$f":"SUM(B$117:B155)","v":11},null,{"$f":"SUM(D$117:D155)","v":15},null,{"$f":"SUM(F$117:F155)","v":15},"中男砲丸",null,null,null,null,null,null,null,null,null,null,1,{"$f":"SUM(S$117:S155)","v":12},null,{"$f":"SUM(U$117:U155)","v":18},null,{"$f":"SUM(W$117:W155)","v":17},"中女四種競技"]
[null,null,{"$f":"SUM(B$117:B156)","v":11},null,{"$f":"SUM(D$117:D156)","v":15},null,{"$f":"SUM(F$117:F156)","v":15},"中1年男砲丸",null,null,null,null,null,null,null,null,null,null,1,{"$f":"SUM(S$117:S156)","v":13},null,{"$f":"SUM(U$117:U156)","v":18},null,{"$f":"SUM(W$117:W156)","v":17},"中女ｼﾞｬﾍﾞﾘｯｸ"]
[null,null,{"$f":"SUM(B$117:B157)","v":11},null,{"$f":"SUM(D$117:D157)","v":15},1,{"$f":"SUM(F$117:F157)","v":16},"一般男円盤",null,null,null,null,null,null,null,null,null,null,null,{"$f":"SUM(S$117:S157)","v":13},null,{"$f":"SUM(U$117:U157)","v":18},null,{"$f":"SUM(W$117:W157)","v":17}]
[null,null,{"$f":"SUM(B$117:B158)","v":11},1,{"$f":"SUM(D$117:D158)","v":16},null,{"$f":"SUM(F$117:F158)","v":16},"高校男円盤",null,null,null,null,null,null,null,null,null,null,null,{"$f":"SUM(S$117:S158)","v":13},null,{"$f":"SUM(U$117:U158)","v":18},null,{"$f":"SUM(W$117:W158)","v":17}]
[null,1,{"$f":"SUM(B$117:B159)","v":12},null,{"$f":"SUM(D$117:D159)","v":16},null,{"$f":"SUM(F$117:F159)","v":16},"中男円盤",null,null,null,null,null,null,null,null,null,null,null,{"$f":"SUM(S$117:S159)","v":13},null,{"$f":"SUM(U$117:U159)","v":18},null,{"$f":"SUM(W$117:W159)","v":17}]
[null,null,{"$f":"SUM(B$117:B160)","v":12},null,{"$f":"SUM(D$117:D160)","v":16},1,{"$f":"SUM(F$117:F160)","v":17},"一般男ハンマー",null,null,null,null,null,null,null,null,null,null,null,{"$f":"SUM(S$117:S160)","v":13},null,{"$f":"SUM(U$117:U160)","v":18},null,{"$f":"SUM(W$117:W160)","v":17}]
[null,null,{"$f":"SUM(B$117:B161)","v":12},1,{"$f":"SUM(D$117:D161)","v":17},null,{"$f":"SUM(F$117:F161)","v":17},"高校男ハンマー",null,null,null,null,null,null,null,null,null,null,null,{"$f":"SUM(S$117:S161)","v":13},null,{"$f":"SUM(U$117:U161)","v":18},null,{"$f":"SUM(W$117:W161)","v":17}]
[null,null,{"$f":"SUM(B$117:B162)","v":12},1,{"$f":"SUM(D$117:D162)","v":18},1,{"$f":"SUM(F$117:F162)","v":18},"共男やり(800g)",null,null,null,null,null,null,null,null,null,null,null,{"$f":"SUM(S$117:S162)","v":13},null,{"$f":"SUM(U$117:U162)","v":18},null,{"$f":"SUM(W$117:W162)","v":17}]
[null,1,{"$f":"SUM(B$117:B163)","v":13},null,{"$f":"SUM(D$117:D163)","v":18},null,{"$f":"SUM(F$117:F163)","v":18},"中男ｼﾞｬﾍﾞﾘｯｸ",null,null,null,null,null,null,null,null,null,null,null,{"$f":"SUM(S$117:S163)","v":13},null,{"$f":"SUM(U$117:U163)","v":18},null,{"$f":"SUM(W$117:W163)","v":17}]
[null,null,{"$f":"SUM(B$117:B164)","v":13},null,{"$f":"SUM(D$117:D164)","v":18},null,{"$f":"SUM(F$117:F164)","v":18},"中女ｼﾞｬﾍﾞﾘｯｸ",null,null,null,null,null,null,null,null,null,null,null,{"$f":"SUM(S$117:S164)","v":13},null,{"$f":"SUM(U$117:U164)","v":18},null,{"$f":"SUM(W$117:W164)","v":17}]
[null,null,{"$f":"SUM(B$117:B165)","v":13},null,{"$f":"SUM(D$117:D165)","v":18},null,{"$f":"SUM(F$117:F165)","v":18},"一般男十種競技",null,null,null,null,null,null,null,null,null,null,null,{"$f":"SUM(S$117:S165)","v":13},null,{"$f":"SUM(U$117:U165)","v":18},null,{"$f":"SUM(W$117:W165)","v":17}]
[null,null,{"$f":"SUM(B$117:B166)","v":13},1,{"$f":"SUM(D$117:D166)","v":19},null,{"$f":"SUM(F$117:F166)","v":18},"高校男八種競技",null,null,null,null,null,null,null,null,null,null,null,{"$f":"SUM(S$117:S166)","v":13},null,{"$f":"SUM(U$117:U166)","v":18},null,{"$f":"SUM(W$117:W166)","v":17}]
[null,1,{"$f":"SUM(B$117:B167)","v":14},null,{"$f":"SUM(D$117:D167)","v":19},null,{"$f":"SUM(F$117:F167)","v":18},"中男四種競技",null,null,null,null,null,null,null,null,null,null,null,{"$f":"SUM(S$117:S167)","v":13},null,{"$f":"SUM(U$117:U167)","v":18},null,{"$f":"SUM(W$117:W167)","v":17}]
[null,null,{"$f":"SUM(B$117:B168)","v":14},null,{"$f":"SUM(D$117:D168)","v":19},null,{"$f":"SUM(F$117:F168)","v":18},null,null,null,null,null,null,null,null,null,null,null,null,{"$f":"SUM(S$117:S168)","v":13},null,{"$f":"SUM(U$117:U168)","v":18},null,{"$f":"SUM(W$117:W168)","v":17}]
[null,null,{"$f":"SUM(B$117:B169)","v":14},null,{"$f":"SUM(D$117:D169)","v":19},null,{"$f":"SUM(F$117:F169)","v":18},null,null,null,null,null,null,null,null,null,null,null,null,{"$f":"SUM(S$117:S169)","v":13},null,{"$f":"SUM(U$117:U169)","v":18},null,{"$f":"SUM(W$117:W169)","v":17}]
[null,null,{"$f":"SUM(B$117:B170)","v":14},null,{"$f":"SUM(D$117:D170)","v":19},null,{"$f":"SUM(F$117:F170)","v":18},null,null,null,null,null,null,null,null,null,null,null,null,{"$f":"SUM(S$117:S170)","v":13},null,{"$f":"SUM(U$117:U170)","v":18},null,{"$f":"SUM(W$117:W170)","v":17}]
[null,null,{"$f":"SUM(B$117:B171)","v":14},null,{"$f":"SUM(D$117:D171)","v":19},null,{"$f":"SUM(F$117:F171)","v":18},null,null,null,null,null,null,null,null,null,null,null,null,{"$f":"SUM(S$117:S171)","v":13},null,{"$f":"SUM(U$117:U171)","v":18},null,{"$f":"SUM(W$117:W171)","v":17}]
[null,null,{"$f":"SUM(B$117:B172)","v":14},null,{"$f":"SUM(D$117:D172)","v":19},null,{"$f":"SUM(F$117:F172)","v":18},null,null,null,null,null,null,null,null,null,null,null,null,{"$f":"SUM(S$117:S172)","v":13},null,{"$f":"SUM(U$117:U172)","v":18},null,{"$f":"SUM(W$117:W172)","v":17}]
[null,null,{"$f":"SUM(B$117:B173)","v":14},null,{"$f":"SUM(D$117:D173)","v":19},null,{"$f":"SUM(F$117:F173)","v":18},null,null,null,null,null,null,null,null,null,null,null,null,{"$f":"SUM(S$117:S173)","v":13},null,{"$f":"SUM(U$117:U173)","v":18},null,{"$f":"SUM(W$117:W173)","v":17}]
[null,null,{"$f":"SUM(B$117:B174)","v":14},null,{"$f":"SUM(D$117:D174)","v":19},null,{"$f":"SUM(F$117:F174)","v":18},null,null,null,null,null,null,null,null,null,null,null,null,{"$f":"SUM(S$117:S174)","v":13},null,{"$f":"SUM(U$117:U174)","v":18},null,{"$f":"SUM(W$117:W174)","v":17}]
[null,null,{"$f":"SUM(B$117:B175)","v":14},null,{"$f":"SUM(D$117:D175)","v":19},null,{"$f":"SUM(F$117:F175)","v":18},null,null,null,null,null,null,null,null,null,null,null,null,{"$f":"SUM(S$117:S175)","v":13},null,{"$f":"SUM(U$117:U175)","v":18},null,{"$f":"SUM(W$117:W175)","v":17}]
[null,null,{"$f":"SUM(B$117:B176)","v":14},null,{"$f":"SUM(D$117:D176)","v":19},null,{"$f":"SUM(F$117:F176)","v":18},null,null,null,null,null,null,null,null,null,null,null,null,{"$f":"SUM(S$117:S176)","v":13},null,{"$f":"SUM(U$117:U176)","v":18},null,{"$f":"SUM(W$117:W176)","v":17}]
[null,null,{"$f":"SUM(B$117:B177)","v":14},null,{"$f":"SUM(D$117:D177)","v":19},null,{"$f":"SUM(F$117:F177)","v":18},null,null,null,null,null,null,null,null,null,null,null,null,{"$f":"SUM(S$117:S177)","v":13},null,{"$f":"SUM(U$117:U177)","v":18},null,{"$f":"SUM(W$117:W177)","v":17}]
[null,null,{"$f":"SUM(B$117:B178)","v":14},null,{"$f":"SUM(D$117:D178)","v":19},null,{"$f":"SUM(F$117:F178)","v":18},null,null,null,null,null,null,null,null,null,null,null,null,{"$f":"SUM(S$117:S178)","v":13},null,{"$f":"SUM(U$117:U178)","v":18},null,{"$f":"SUM(W$117:W178)","v":17}]
[null,null,{"$f":"SUM(B$117:B179)","v":14},null,{"$f":"SUM(D$117:D179)","v":19},null,{"$f":"SUM(F$117:F179)","v":18},null,null,null,null,null,null,null,null,null,null,null,null,{"$f":"SUM(S$117:S179)","v":13},null,{"$f":"SUM(U$117:U179)","v":18},null,{"$f":"SUM(W$117:W179)","v":17}]
[null,null,{"$f":"SUM(B$117:B180)","v":14},null,{"$f":"SUM(D$117:D180)","v":19},null,{"$f":"SUM(F$117:F180)","v":18},null,null,null,null,null,null,null,null,null,null,null,null,{"$f":"SUM(S$117:S180)","v":13},null,{"$f":"SUM(U$117:U180)","v":18},null,{"$f":"SUM(W$117:W180)","v":17}]
[null,null,{"$f":"SUM(B$117:B181)","v":14},null,{"$f":"SUM(D$117:D181)","v":19},null,{"$f":"SUM(F$117:F181)","v":18},null,null,null,null,null,null,null,null,null,null,null,null,{"$f":"SUM(S$117:S181)","v":13},null,{"$f":"SUM(U$117:U181)","v":18},null,{"$f":"SUM(W$117:W181)","v":17}]
[null,null,{"$f":"SUM(B$117:B182)","v":14},null,{"$f":"SUM(D$117:D182)","v":19},null,{"$f":"SUM(F$117:F182)","v":18},null,null,null,null,null,null,null,null,null,null,null,null,{"$f":"SUM(S$117:S182)","v":13},null,{"$f":"SUM(U$117:U182)","v":18},null,{"$f":"SUM(W$117:W182)","v":17}]
[null,null,{"$f":"SUM(B$117:B183)","v":14},null,{"$f":"SUM(D$117:D183)","v":19},null,{"$f":"SUM(F$117:F183)","v":18},null,null,null,null,null,null,null,null,null,null,null,null,{"$f":"SUM(S$117:S183)","v":13},null,{"$f":"SUM(U$117:U183)","v":18},null,{"$f":"SUM(W$117:W183)","v":17}]
[null,null,{"$f":"SUM(B$117:B184)","v":14},null,{"$f":"SUM(D$117:D184)","v":19},null,{"$f":"SUM(F$117:F184)","v":18},null,null,null,null,null,null,null,null,null,null,null,null,{"$f":"SUM(S$117:S184)","v":13},null,{"$f":"SUM(U$117:U184)","v":18},null,{"$f":"SUM(W$117:W184)","v":17}]
[null,null,{"$f":"SUM(B$117:B185)","v":14},null,{"$f":"SUM(D$117:D185)","v":19},null,{"$f":"SUM(F$117:F185)","v":18},null,null,null,null,null,null,null,null,null,null,null,null,{"$f":"SUM(S$117:S185)","v":13},null,{"$f":"SUM(U$117:U185)","v":18},null,{"$f":"SUM(W$117:W185)","v":17}]
[null,null,{"$f":"SUM(B$117:B186)","v":14},null,{"$f":"SUM(D$117:D186)","v":19},null,{"$f":"SUM(F$117:F186)","v":18},null,null,null,null,null,null,null,null,null,null,null,null,{"$f":"SUM(S$117:S186)","v":13},null,{"$f":"SUM(U$117:U186)","v":18},null,{"$f":"SUM(W$117:W186)","v":17}]
[null,null,{"$f":"SUM(B$117:B187)","v":14},null,{"$f":"SUM(D$117:D187)","v":19},null,{"$f":"SUM(F$117:F187)","v":18},null,null,null,null,null,null,null,null,null,null,null,null,{"$f":"SUM(S$117:S187)","v":13},null,{"$f":"SUM(U$117:U187)","v":18},null,{"$f":"SUM(W$117:W187)","v":17}]
[null,null,{"$f":"SUM(B$117:B188)","v":14},null,{"$f":"SUM(D$117:D188)","v":19},null,{"$f":"SUM(F$117:F188)","v":18},null,null,null,null,null,null,null,null,null,null,null,null,{"$f":"SUM(S$117:S188)","v":13},null,{"$f":"SUM(U$117:U188)","v":18},null,{"$f":"SUM(W$117:W188)","v":17}]
[null,null,{"$f":"SUM(B$117:B189)","v":14},null,{"$f":"SUM(D$117:D189)","v":19},null,{"$f":"SUM(F$117:F189)","v":18},null,null,null,null,null,null,null,null,null,null,null,null,{"$f":"SUM(S$117:S189)","v":13},null,{"$f":"SUM(U$117:U189)","v":18},null,{"$f":"SUM(W$117:W189)","v":17}]
[null,null,{"$f":"SUM(B$117:B190)","v":14},null,{"$f":"SUM(D$117:D190)","v":19},null,{"$f":"SUM(F$117:F190)","v":18},null,null,null,null,null,null,null,null,null,null,null,null,{"$f":"SUM(S$117:S190)","v":13},null,{"$f":"SUM(U$117:U190)","v":18},null,{"$f":"SUM(W$117:W190)","v":17}]